BEGIN:VCALENDAR
VERSION:2.0
PRODID:-//Adaptive Sports New England - ECPv6.15.20//NONSGML v1.0//EN
CALSCALE:GREGORIAN
METHOD:PUBLISH
X-WR-CALNAME:Adaptive Sports New England
X-ORIGINAL-URL:https://adaptivesportsne.org
X-WR-CALDESC:Events for Adaptive Sports New England
REFRESH-INTERVAL;VALUE=DURATION:PT1H
X-Robots-Tag:noindex
X-PUBLISHED-TTL:PT1H
BEGIN:VTIMEZONE
TZID:America/Halifax
BEGIN:DAYLIGHT
TZOFFSETFROM:-0400
TZOFFSETTO:-0300
TZNAME:ADT
DTSTART:20130310T060000
END:DAYLIGHT
BEGIN:STANDARD
TZOFFSETFROM:-0300
TZOFFSETTO:-0400
TZNAME:AST
DTSTART:20131103T050000
END:STANDARD
BEGIN:DAYLIGHT
TZOFFSETFROM:-0400
TZOFFSETTO:-0300
TZNAME:ADT
DTSTART:20140309T060000
END:DAYLIGHT
BEGIN:STANDARD
TZOFFSETFROM:-0300
TZOFFSETTO:-0400
TZNAME:AST
DTSTART:20141102T050000
END:STANDARD
BEGIN:DAYLIGHT
TZOFFSETFROM:-0400
TZOFFSETTO:-0300
TZNAME:ADT
DTSTART:20150308T060000
END:DAYLIGHT
BEGIN:STANDARD
TZOFFSETFROM:-0300
TZOFFSETTO:-0400
TZNAME:AST
DTSTART:20151101T050000
END:STANDARD
END:VTIMEZONE
BEGIN:VEVENT
DTSTART;TZID=America/Halifax:20140707T094500
DTEND;TZID=America/Halifax:20140707T151500
DTSTAMP:20260423T123218
CREATED:20140529T175708Z
LAST-MODIFIED:20140530T040055Z
UID:10000149-1404726300-1404746100@adaptivesportsne.org
SUMMARY:Kayak-Concord
DESCRIPTION:
URL:https://adaptivesportsne.org/event/kayaking-concord/2014-07-07/
LOCATION:Walden Pond State Reservation\, 915 Walden St\, Concord\, MA\, United States
GEO:42.4404591;-71.3345107
X-APPLE-STRUCTURED-LOCATION;VALUE=URI;X-ADDRESS=Walden Pond State Reservation 915 Walden St Concord MA United States;X-APPLE-RADIUS=500;X-TITLE=915 Walden St:geo:-71.3345107,42.4404591
END:VEVENT
END:VCALENDAR