BEGIN:VCALENDAR
VERSION:2.0
PRODID:-//Adaptive Sports New England - ECPv6.15.20//NONSGML v1.0//EN
CALSCALE:GREGORIAN
METHOD:PUBLISH
X-WR-CALNAME:Adaptive Sports New England
X-ORIGINAL-URL:https://adaptivesportsne.org
X-WR-CALDESC:Events for Adaptive Sports New England
REFRESH-INTERVAL;VALUE=DURATION:PT1H
X-Robots-Tag:noindex
X-PUBLISHED-TTL:PT1H
BEGIN:VTIMEZONE
TZID:America/New_York
BEGIN:DAYLIGHT
TZOFFSETFROM:-0500
TZOFFSETTO:-0400
TZNAME:EDT
DTSTART:20150308T070000
END:DAYLIGHT
BEGIN:STANDARD
TZOFFSETFROM:-0400
TZOFFSETTO:-0500
TZNAME:EST
DTSTART:20151101T060000
END:STANDARD
BEGIN:DAYLIGHT
TZOFFSETFROM:-0500
TZOFFSETTO:-0400
TZNAME:EDT
DTSTART:20160313T070000
END:DAYLIGHT
BEGIN:STANDARD
TZOFFSETFROM:-0400
TZOFFSETTO:-0500
TZNAME:EST
DTSTART:20161106T060000
END:STANDARD
BEGIN:DAYLIGHT
TZOFFSETFROM:-0500
TZOFFSETTO:-0400
TZNAME:EDT
DTSTART:20170312T070000
END:DAYLIGHT
BEGIN:STANDARD
TZOFFSETFROM:-0400
TZOFFSETTO:-0500
TZNAME:EST
DTSTART:20171105T060000
END:STANDARD
END:VTIMEZONE
BEGIN:VTIMEZONE
TZID:America/Halifax
BEGIN:DAYLIGHT
TZOFFSETFROM:-0400
TZOFFSETTO:-0300
TZNAME:ADT
DTSTART:20150308T060000
END:DAYLIGHT
BEGIN:STANDARD
TZOFFSETFROM:-0300
TZOFFSETTO:-0400
TZNAME:AST
DTSTART:20151101T050000
END:STANDARD
BEGIN:DAYLIGHT
TZOFFSETFROM:-0400
TZOFFSETTO:-0300
TZNAME:ADT
DTSTART:20160313T060000
END:DAYLIGHT
BEGIN:STANDARD
TZOFFSETFROM:-0300
TZOFFSETTO:-0400
TZNAME:AST
DTSTART:20161106T050000
END:STANDARD
BEGIN:DAYLIGHT
TZOFFSETFROM:-0400
TZOFFSETTO:-0300
TZNAME:ADT
DTSTART:20170312T060000
END:DAYLIGHT
BEGIN:STANDARD
TZOFFSETFROM:-0300
TZOFFSETTO:-0400
TZNAME:AST
DTSTART:20171105T050000
END:STANDARD
END:VTIMEZONE
BEGIN:VEVENT
DTSTART;VALUE=DATE:20160205
DTEND;VALUE=DATE:20160209
DTSTAMP:20260426T001621
CREATED:20151204T180100Z
LAST-MODIFIED:20151223T173145Z
UID:10000490-1454630400-1454975999@adaptivesportsne.org
SUMMARY:VT Blind Skiing Festival
DESCRIPTION:with Vermont Adaptive Ski & Sports.
URL:https://adaptivesportsne.org/event/annual-united-states-association-of-blind-athletes-winter-festival/
LOCATION:Pico/Killington\, Killington\, VT\, United States
ORGANIZER;CN="Vermont Adaptive Ski & Sports":MAILTO:info@vermontadaptive.org
GEO:43.6775677;-72.7798247
END:VEVENT
BEGIN:VEVENT
DTSTART;VALUE=DATE:20160207
DTEND;VALUE=DATE:20160212
DTSTAMP:20260426T001621
CREATED:20151120T183444Z
LAST-MODIFIED:20151223T173248Z
UID:10000489-1454803200-1455235199@adaptivesportsne.org
SUMMARY:ME Blind Skiing Festival
DESCRIPTION:with Maine Adaptive Sports & Recreation
URL:https://adaptivesportsne.org/event/new-england-visually-impairedblind-ski-festival/
LOCATION:Sunday River Resort/MAS&R\, 8 Sundance Lance\, Newry\, ME\, 04261\, United States
ORGANIZER;CN="Maine Adaptive Sports":MAILTO:info@maineadaptive.org
GEO:44.4884245;-70.7885765
X-APPLE-STRUCTURED-LOCATION;VALUE=URI;X-ADDRESS=Sunday River Resort/MAS&R 8 Sundance Lance Newry ME 04261 United States;X-APPLE-RADIUS=500;X-TITLE=8 Sundance Lance:geo:-70.7885765,44.4884245
END:VEVENT
BEGIN:VEVENT
DTSTART;TZID=America/New_York:20160207T100000
DTEND;TZID=America/New_York:20160207T120000
DTSTAMP:20260426T001621
CREATED:20151208T194006Z
LAST-MODIFIED:20151223T172129Z
UID:10000211-1454839200-1454846400@adaptivesportsne.org
SUMMARY:Sled Hockey (Dedham)
DESCRIPTION:with Northeast Passage
URL:https://adaptivesportsne.org/event/sled-hockey-dedham-5/
LOCATION:Noble & Greenough School\, 10 Campus Drive\, Dedham\, MA\, 02026\, United States
ORGANIZER;CN="Northeast Passage":MAILTO:northeast.passage@unh.edu
GEO:42.2626671;-71.1853662
X-APPLE-STRUCTURED-LOCATION;VALUE=URI;X-ADDRESS=Noble & Greenough School 10 Campus Drive Dedham MA 02026 United States;X-APPLE-RADIUS=500;X-TITLE=10 Campus Drive:geo:-71.1853662,42.2626671
END:VEVENT
BEGIN:VEVENT
DTSTART;TZID=America/Halifax:20160207T103000
DTEND;TZID=America/Halifax:20160207T120000
DTSTAMP:20260426T001621
CREATED:20151110T173052Z
LAST-MODIFIED:20151110T173052Z
UID:10000441-1454841000-1454846400@adaptivesportsne.org
SUMMARY:Wheelchair Basketball
DESCRIPTION:with Spaulding Adaptive Sports Centers
URL:https://adaptivesportsne.org/event/wheelchair-basketball-9/
LOCATION:Hyannis Youth & Community Center\, 141 Bassett Lane\, Hyannis\, MA\, United States
ORGANIZER;CN="Spaulding Adaptive Sports Centers":MAILTO:scarper@partners.org
GEO:41.6538309;-70.292849
X-APPLE-STRUCTURED-LOCATION;VALUE=URI;X-ADDRESS=Hyannis Youth & Community Center 141 Bassett Lane Hyannis MA United States;X-APPLE-RADIUS=500;X-TITLE=141 Bassett Lane:geo:-70.292849,41.6538309
END:VEVENT
END:VCALENDAR