BEGIN:VCALENDAR
VERSION:2.0
PRODID:-//Adaptive Sports New England - ECPv6.15.20//NONSGML v1.0//EN
CALSCALE:GREGORIAN
METHOD:PUBLISH
X-ORIGINAL-URL:https://adaptivesportsne.org
X-WR-CALDESC:Events for Adaptive Sports New England
REFRESH-INTERVAL;VALUE=DURATION:PT1H
X-Robots-Tag:noindex
X-PUBLISHED-TTL:PT1H
BEGIN:VTIMEZONE
TZID:America/New_York
BEGIN:DAYLIGHT
TZOFFSETFROM:-0500
TZOFFSETTO:-0400
TZNAME:EDT
DTSTART:20150308T070000
END:DAYLIGHT
BEGIN:STANDARD
TZOFFSETFROM:-0400
TZOFFSETTO:-0500
TZNAME:EST
DTSTART:20151101T060000
END:STANDARD
BEGIN:DAYLIGHT
TZOFFSETFROM:-0500
TZOFFSETTO:-0400
TZNAME:EDT
DTSTART:20160313T070000
END:DAYLIGHT
BEGIN:STANDARD
TZOFFSETFROM:-0400
TZOFFSETTO:-0500
TZNAME:EST
DTSTART:20161106T060000
END:STANDARD
BEGIN:DAYLIGHT
TZOFFSETFROM:-0500
TZOFFSETTO:-0400
TZNAME:EDT
DTSTART:20170312T070000
END:DAYLIGHT
BEGIN:STANDARD
TZOFFSETFROM:-0400
TZOFFSETTO:-0500
TZNAME:EST
DTSTART:20171105T060000
END:STANDARD
END:VTIMEZONE
BEGIN:VTIMEZONE
TZID:America/Halifax
BEGIN:DAYLIGHT
TZOFFSETFROM:-0400
TZOFFSETTO:-0300
TZNAME:ADT
DTSTART:20150308T060000
END:DAYLIGHT
BEGIN:STANDARD
TZOFFSETFROM:-0300
TZOFFSETTO:-0400
TZNAME:AST
DTSTART:20151101T050000
END:STANDARD
BEGIN:DAYLIGHT
TZOFFSETFROM:-0400
TZOFFSETTO:-0300
TZNAME:ADT
DTSTART:20160313T060000
END:DAYLIGHT
BEGIN:STANDARD
TZOFFSETFROM:-0300
TZOFFSETTO:-0400
TZNAME:AST
DTSTART:20161106T050000
END:STANDARD
BEGIN:DAYLIGHT
TZOFFSETFROM:-0400
TZOFFSETTO:-0300
TZNAME:ADT
DTSTART:20170312T060000
END:DAYLIGHT
BEGIN:STANDARD
TZOFFSETFROM:-0300
TZOFFSETTO:-0400
TZNAME:AST
DTSTART:20171105T050000
END:STANDARD
END:VTIMEZONE
BEGIN:VEVENT
DTSTART;VALUE=DATE:20160207
DTEND;VALUE=DATE:20160212
DTSTAMP:20260424T094324
CREATED:20151120T183444Z
LAST-MODIFIED:20151223T173248Z
UID:10000489-1454803200-1455235199@adaptivesportsne.org
SUMMARY:ME Blind Skiing Festival
DESCRIPTION:with Maine Adaptive Sports & Recreation
URL:https://adaptivesportsne.org/event/new-england-visually-impairedblind-ski-festival/
LOCATION:Sunday River Resort/MAS&R\, 8 Sundance Lance\, Newry\, ME\, 04261\, United States
ORGANIZER;CN="Maine Adaptive Sports":MAILTO:info@maineadaptive.org
GEO:44.4884245;-70.7885765
X-APPLE-STRUCTURED-LOCATION;VALUE=URI;X-ADDRESS=Sunday River Resort/MAS&R 8 Sundance Lance Newry ME 04261 United States;X-APPLE-RADIUS=500;X-TITLE=8 Sundance Lance:geo:-70.7885765,44.4884245
END:VEVENT
BEGIN:VEVENT
DTSTART;TZID=America/Halifax:20160210T100000
DTEND;TZID=America/Halifax:20160210T143000
DTSTAMP:20260424T094324
CREATED:20151106T184859Z
LAST-MODIFIED:20151106T185159Z
UID:10000417-1455098400-1455114600@adaptivesportsne.org
SUMMARY:Skiing
DESCRIPTION:with Spaulding Adaptive Sports Centers
URL:https://adaptivesportsne.org/event/skiing-2/
LOCATION:Wachusett Mountain\, Princeton\, MA\, United States
ORGANIZER;CN="Spaulding Adaptive Sports Centers":MAILTO:scarper@partners.org
GEO:42.4487019;-71.877296
END:VEVENT
BEGIN:VEVENT
DTSTART;TZID=America/Halifax:20160210T130000
DTEND;TZID=America/Halifax:20160210T150000
DTSTAMP:20260424T094324
CREATED:20151204T195343Z
LAST-MODIFIED:20151204T195343Z
UID:10000503-1455109200-1455116400@adaptivesportsne.org
SUMMARY:Sled Hockey (Charlestown)
DESCRIPTION:with Spaulding Adaptive Sports.
URL:https://adaptivesportsne.org/event/sled-hockey-charlestown-2/
LOCATION:Emmons Horrigan O’Neil Memorial Rink\, 150 Rutherford Avenue\, Charlestown\, MA\, United States
ORGANIZER;CN="Spaulding Adaptive Sports Centers":MAILTO:scarper@partners.org
GEO:42.3740334;-71.0689282
X-APPLE-STRUCTURED-LOCATION;VALUE=URI;X-ADDRESS=Emmons Horrigan O’Neil Memorial Rink 150 Rutherford Avenue Charlestown MA United States;X-APPLE-RADIUS=500;X-TITLE=150 Rutherford Avenue:geo:-71.0689282,42.3740334
END:VEVENT
END:VCALENDAR