BEGIN:VCALENDAR
VERSION:2.0
PRODID:-//Adaptive Sports New England - ECPv6.15.20//NONSGML v1.0//EN
CALSCALE:GREGORIAN
METHOD:PUBLISH
X-WR-CALNAME:Adaptive Sports New England
X-ORIGINAL-URL:https://adaptivesportsne.org
X-WR-CALDESC:Events for Adaptive Sports New England
REFRESH-INTERVAL;VALUE=DURATION:PT1H
X-Robots-Tag:noindex
X-PUBLISHED-TTL:PT1H
BEGIN:VTIMEZONE
TZID:America/New_York
BEGIN:DAYLIGHT
TZOFFSETFROM:-0500
TZOFFSETTO:-0400
TZNAME:EDT
DTSTART:20150308T070000
END:DAYLIGHT
BEGIN:STANDARD
TZOFFSETFROM:-0400
TZOFFSETTO:-0500
TZNAME:EST
DTSTART:20151101T060000
END:STANDARD
BEGIN:DAYLIGHT
TZOFFSETFROM:-0500
TZOFFSETTO:-0400
TZNAME:EDT
DTSTART:20160313T070000
END:DAYLIGHT
BEGIN:STANDARD
TZOFFSETFROM:-0400
TZOFFSETTO:-0500
TZNAME:EST
DTSTART:20161106T060000
END:STANDARD
BEGIN:DAYLIGHT
TZOFFSETFROM:-0500
TZOFFSETTO:-0400
TZNAME:EDT
DTSTART:20170312T070000
END:DAYLIGHT
BEGIN:STANDARD
TZOFFSETFROM:-0400
TZOFFSETTO:-0500
TZNAME:EST
DTSTART:20171105T060000
END:STANDARD
END:VTIMEZONE
BEGIN:VTIMEZONE
TZID:America/Halifax
BEGIN:DAYLIGHT
TZOFFSETFROM:-0400
TZOFFSETTO:-0300
TZNAME:ADT
DTSTART:20150308T060000
END:DAYLIGHT
BEGIN:STANDARD
TZOFFSETFROM:-0300
TZOFFSETTO:-0400
TZNAME:AST
DTSTART:20151101T050000
END:STANDARD
BEGIN:DAYLIGHT
TZOFFSETFROM:-0400
TZOFFSETTO:-0300
TZNAME:ADT
DTSTART:20160313T060000
END:DAYLIGHT
BEGIN:STANDARD
TZOFFSETFROM:-0300
TZOFFSETTO:-0400
TZNAME:AST
DTSTART:20161106T050000
END:STANDARD
BEGIN:DAYLIGHT
TZOFFSETFROM:-0400
TZOFFSETTO:-0300
TZNAME:ADT
DTSTART:20170312T060000
END:DAYLIGHT
BEGIN:STANDARD
TZOFFSETFROM:-0300
TZOFFSETTO:-0400
TZNAME:AST
DTSTART:20171105T050000
END:STANDARD
END:VTIMEZONE
BEGIN:VEVENT
DTSTART;TZID=America/New_York:20160213T100000
DTEND;TZID=America/New_York:20160213T120000
DTSTAMP:20260423T015429
CREATED:20151208T175207Z
LAST-MODIFIED:20151208T175207Z
UID:10000647-1455357600-1455364800@adaptivesportsne.org
SUMMARY:Indoor Cycling
DESCRIPTION:with Northeast Passage.
URL:https://adaptivesportsne.org/event/indoor-cycling-2/
LOCATION:UNH Hamel Recreation Center\, Durham\, NH\, United States
ORGANIZER;CN="Northeast Passage":MAILTO:northeast.passage@unh.edu
END:VEVENT
BEGIN:VEVENT
DTSTART;TZID=America/Halifax:20160213T100000
DTEND;TZID=America/Halifax:20160213T130000
DTSTAMP:20260423T015429
CREATED:20160212T183644Z
LAST-MODIFIED:20160217T195519Z
UID:10000995-1455357600-1455368400@adaptivesportsne.org
SUMMARY:WC Rugby (UNH)
DESCRIPTION:Join the Wildcats Quad Rugby team for practice. If you are interested in trying Quad Rugby for the first time\, please call 603-862-0070 to sign up and confirm that practice is still planned for the scheduled time and location as posted here. Questions? Contact Coach Chandler Bullard at email hidden; JavaScript is required.
URL:https://adaptivesportsne.org/event/quad-rugby/2016-02-13/
LOCATION:UNH Hamel Recreation Center\, Durham\, NH\, United States
ORGANIZER;CN="Northeast Passage":MAILTO:northeast.passage@unh.edu
END:VEVENT
BEGIN:VEVENT
DTSTART;TZID=America/Halifax:20160213T110000
DTEND;TZID=America/Halifax:20160213T130000
DTSTAMP:20260423T015429
CREATED:20160212T180953Z
LAST-MODIFIED:20160217T191806Z
UID:10000989-1455361200-1455368400@adaptivesportsne.org
SUMMARY:Power Soccer (UNH)
DESCRIPTION:
URL:https://adaptivesportsne.org/event/power-soccer-2/2016-02-13/
LOCATION:Exeter Area YMCA\, 56 Linden St\, Exeter\, NH\, 03833\, United States
ORGANIZER;CN="Northeast Passage":MAILTO:northeast.passage@unh.edu
GEO:42.9732683;-70.9595119
X-APPLE-STRUCTURED-LOCATION;VALUE=URI;X-ADDRESS=Exeter Area YMCA 56 Linden St Exeter NH 03833 United States;X-APPLE-RADIUS=500;X-TITLE=56 Linden St:geo:-70.9595119,42.9732683
END:VEVENT
END:VCALENDAR