BEGIN:VCALENDAR
VERSION:2.0
PRODID:-//Adaptive Sports New England - ECPv6.15.20//NONSGML v1.0//EN
CALSCALE:GREGORIAN
METHOD:PUBLISH
X-WR-CALNAME:Adaptive Sports New England
X-ORIGINAL-URL:https://adaptivesportsne.org
X-WR-CALDESC:Events for Adaptive Sports New England
REFRESH-INTERVAL;VALUE=DURATION:PT1H
X-Robots-Tag:noindex
X-PUBLISHED-TTL:PT1H
BEGIN:VTIMEZONE
TZID:America/Halifax
BEGIN:DAYLIGHT
TZOFFSETFROM:-0400
TZOFFSETTO:-0300
TZNAME:ADT
DTSTART:20150308T060000
END:DAYLIGHT
BEGIN:STANDARD
TZOFFSETFROM:-0300
TZOFFSETTO:-0400
TZNAME:AST
DTSTART:20151101T050000
END:STANDARD
BEGIN:DAYLIGHT
TZOFFSETFROM:-0400
TZOFFSETTO:-0300
TZNAME:ADT
DTSTART:20160313T060000
END:DAYLIGHT
BEGIN:STANDARD
TZOFFSETFROM:-0300
TZOFFSETTO:-0400
TZNAME:AST
DTSTART:20161106T050000
END:STANDARD
BEGIN:DAYLIGHT
TZOFFSETFROM:-0400
TZOFFSETTO:-0300
TZNAME:ADT
DTSTART:20170312T060000
END:DAYLIGHT
BEGIN:STANDARD
TZOFFSETFROM:-0300
TZOFFSETTO:-0400
TZNAME:AST
DTSTART:20171105T050000
END:STANDARD
END:VTIMEZONE
BEGIN:VTIMEZONE
TZID:America/Halifax
BEGIN:DAYLIGHT
TZOFFSETFROM:-0400
TZOFFSETTO:-0300
TZNAME:ADT
DTSTART:20150308T060000
END:DAYLIGHT
BEGIN:STANDARD
TZOFFSETFROM:-0300
TZOFFSETTO:-0400
TZNAME:AST
DTSTART:20151101T050000
END:STANDARD
BEGIN:DAYLIGHT
TZOFFSETFROM:-0400
TZOFFSETTO:-0300
TZNAME:ADT
DTSTART:20160313T060000
END:DAYLIGHT
BEGIN:STANDARD
TZOFFSETFROM:-0300
TZOFFSETTO:-0400
TZNAME:AST
DTSTART:20161106T050000
END:STANDARD
BEGIN:DAYLIGHT
TZOFFSETFROM:-0400
TZOFFSETTO:-0300
TZNAME:ADT
DTSTART:20170312T060000
END:DAYLIGHT
BEGIN:STANDARD
TZOFFSETFROM:-0300
TZOFFSETTO:-0400
TZNAME:AST
DTSTART:20171105T050000
END:STANDARD
END:VTIMEZONE
BEGIN:VEVENT
DTSTART;VALUE=DATE:20160220
DTEND;VALUE=DATE:20160221
DTSTAMP:20260419T141007
CREATED:20151106T183845Z
LAST-MODIFIED:20151223T172903Z
UID:10000411-1455926400-1456012799@adaptivesportsne.org
SUMMARY:Spaulding Ski Club
DESCRIPTION:with Spaulding Adaptive Sports Centers
URL:https://adaptivesportsne.org/event/ski-club-4/
LOCATION:Bretton Woods Ski Resort\, 99 Ski Area\, Carroll\, NH\, United States
ORGANIZER;CN="Spaulding Adaptive Sports Centers":MAILTO:scarper@partners.org
GEO:44.2983959;-71.540637
X-APPLE-STRUCTURED-LOCATION;VALUE=URI;X-ADDRESS=Bretton Woods Ski Resort 99 Ski Area Carroll NH United States;X-APPLE-RADIUS=500;X-TITLE=99 Ski Area:geo:-71.540637,44.2983959
END:VEVENT
BEGIN:VEVENT
DTSTART;TZID=America/Halifax:20160220T100000
DTEND;TZID=America/Halifax:20160220T130000
DTSTAMP:20260419T141007
CREATED:20160212T181503Z
LAST-MODIFIED:20160212T181503Z
UID:10000991-1455962400-1455973200@adaptivesportsne.org
SUMMARY:Power Soccer
DESCRIPTION:
URL:https://adaptivesportsne.org/event/power-soccer-3/
LOCATION:UNH Hamel Recreation Center\, Durham\, NH\, United States
ORGANIZER;CN="Northeast Passage":MAILTO:northeast.passage@unh.edu
END:VEVENT
BEGIN:VEVENT
DTSTART;TZID=America/Halifax:20160220T110000
DTEND;TZID=America/Halifax:20160220T130000
DTSTAMP:20260419T141007
CREATED:20160212T180953Z
LAST-MODIFIED:20160217T191806Z
UID:10000990-1455966000-1455973200@adaptivesportsne.org
SUMMARY:Power Soccer (UNH)
DESCRIPTION:
URL:https://adaptivesportsne.org/event/power-soccer-2/2016-02-20/
LOCATION:Exeter Area YMCA\, 56 Linden St\, Exeter\, NH\, 03833\, United States
ORGANIZER;CN="Northeast Passage":MAILTO:northeast.passage@unh.edu
GEO:42.9732683;-70.9595119
X-APPLE-STRUCTURED-LOCATION;VALUE=URI;X-ADDRESS=Exeter Area YMCA 56 Linden St Exeter NH 03833 United States;X-APPLE-RADIUS=500;X-TITLE=56 Linden St:geo:-70.9595119,42.9732683
END:VEVENT
BEGIN:VEVENT
DTSTART;TZID=America/Halifax:20160220T130000
DTEND;TZID=America/Halifax:20160220T160000
DTSTAMP:20260419T141007
CREATED:20151214T202840Z
LAST-MODIFIED:20160109T192331Z
UID:10000202-1455973200-1455984000@adaptivesportsne.org
SUMMARY:Wheelchair Tennis
DESCRIPTION:WHEELCHAIR TENNIS CLINIC FLYER
URL:https://adaptivesportsne.org/event/wheelchair-tennis-2/
LOCATION:Emilson YMCA\, 75 Mill Street\, Hanover\, MA\, 02339\, United States
ORGANIZER;CN="South Shore YMCA":MAILTO:ldrennan@ssymca.org
GEO:42.1406659;-70.8394957
X-APPLE-STRUCTURED-LOCATION;VALUE=URI;X-ADDRESS=Emilson YMCA 75 Mill Street Hanover MA 02339 United States;X-APPLE-RADIUS=500;X-TITLE=75 Mill Street:geo:-70.8394957,42.1406659
END:VEVENT
END:VCALENDAR