BEGIN:VCALENDAR
VERSION:2.0
PRODID:-//Adaptive Sports New England - ECPv6.15.20//NONSGML v1.0//EN
CALSCALE:GREGORIAN
METHOD:PUBLISH
X-WR-CALNAME:Adaptive Sports New England
X-ORIGINAL-URL:https://adaptivesportsne.org
X-WR-CALDESC:Events for Adaptive Sports New England
REFRESH-INTERVAL;VALUE=DURATION:PT1H
X-Robots-Tag:noindex
X-PUBLISHED-TTL:PT1H
BEGIN:VTIMEZONE
TZID:America/Halifax
BEGIN:DAYLIGHT
TZOFFSETFROM:-0400
TZOFFSETTO:-0300
TZNAME:ADT
DTSTART:20150308T060000
END:DAYLIGHT
BEGIN:STANDARD
TZOFFSETFROM:-0300
TZOFFSETTO:-0400
TZNAME:AST
DTSTART:20151101T050000
END:STANDARD
BEGIN:DAYLIGHT
TZOFFSETFROM:-0400
TZOFFSETTO:-0300
TZNAME:ADT
DTSTART:20160313T060000
END:DAYLIGHT
BEGIN:STANDARD
TZOFFSETFROM:-0300
TZOFFSETTO:-0400
TZNAME:AST
DTSTART:20161106T050000
END:STANDARD
BEGIN:DAYLIGHT
TZOFFSETFROM:-0400
TZOFFSETTO:-0300
TZNAME:ADT
DTSTART:20170312T060000
END:DAYLIGHT
BEGIN:STANDARD
TZOFFSETFROM:-0300
TZOFFSETTO:-0400
TZNAME:AST
DTSTART:20171105T050000
END:STANDARD
END:VTIMEZONE
BEGIN:VTIMEZONE
TZID:America/Halifax
BEGIN:DAYLIGHT
TZOFFSETFROM:-0400
TZOFFSETTO:-0300
TZNAME:ADT
DTSTART:20150308T060000
END:DAYLIGHT
BEGIN:STANDARD
TZOFFSETFROM:-0300
TZOFFSETTO:-0400
TZNAME:AST
DTSTART:20151101T050000
END:STANDARD
BEGIN:DAYLIGHT
TZOFFSETFROM:-0400
TZOFFSETTO:-0300
TZNAME:ADT
DTSTART:20160313T060000
END:DAYLIGHT
BEGIN:STANDARD
TZOFFSETFROM:-0300
TZOFFSETTO:-0400
TZNAME:AST
DTSTART:20161106T050000
END:STANDARD
BEGIN:DAYLIGHT
TZOFFSETFROM:-0400
TZOFFSETTO:-0300
TZNAME:ADT
DTSTART:20170312T060000
END:DAYLIGHT
BEGIN:STANDARD
TZOFFSETFROM:-0300
TZOFFSETTO:-0400
TZNAME:AST
DTSTART:20171105T050000
END:STANDARD
END:VTIMEZONE
BEGIN:VEVENT
DTSTART;TZID=America/Halifax:20160221T100000
DTEND;TZID=America/Halifax:20160221T114500
DTSTAMP:20260419T124723
CREATED:20151208T201131Z
LAST-MODIFIED:20151223T172241Z
UID:10000201-1456048800-1456055100@adaptivesportsne.org
SUMMARY:Sled Hockey (Exeter)
DESCRIPTION:with Northeast Passage
URL:https://adaptivesportsne.org/event/sled-hockey-exeter-4/
LOCATION:Phillips Exeter Academy\, Court St.\, Exeter\, NH\, 03833\, United States
ORGANIZER;CN="Northeast Passage":MAILTO:northeast.passage@unh.edu
GEO:42.9687924;-70.9527216
X-APPLE-STRUCTURED-LOCATION;VALUE=URI;X-ADDRESS=Phillips Exeter Academy Court St. Exeter NH 03833 United States;X-APPLE-RADIUS=500;X-TITLE=Court St.:geo:-70.9527216,42.9687924
END:VEVENT
BEGIN:VEVENT
DTSTART;TZID=America/Halifax:20160221T103000
DTEND;TZID=America/Halifax:20160221T120000
DTSTAMP:20260419T124723
CREATED:20151110T174110Z
LAST-MODIFIED:20160217T192354Z
UID:10000442-1456050600-1456056000@adaptivesportsne.org
SUMMARY:WC Basketball (Hyannis)
DESCRIPTION:with Spaulding Adaptive Sports Centers
URL:https://adaptivesportsne.org/event/wheelchair-basketball-10/
LOCATION:Hyannis Youth & Community Center\, 141 Bassett Lane\, Hyannis\, MA\, United States
ORGANIZER;CN="Spaulding Adaptive Sports Centers":MAILTO:scarper@partners.org
GEO:41.6538309;-70.292849
X-APPLE-STRUCTURED-LOCATION;VALUE=URI;X-ADDRESS=Hyannis Youth & Community Center 141 Bassett Lane Hyannis MA United States;X-APPLE-RADIUS=500;X-TITLE=141 Bassett Lane:geo:-70.292849,41.6538309
END:VEVENT
BEGIN:VEVENT
DTSTART;TZID=America/Halifax:20160221T180000
DTEND;TZID=America/Halifax:20160221T210000
DTSTAMP:20260419T124723
CREATED:20160109T175703Z
LAST-MODIFIED:20160109T180110Z
UID:10000673-1456077600-1456088400@adaptivesportsne.org
SUMMARY:NE Adaptive Hockey Jamboree
DESCRIPTION:Hockey Jamboree Flyer
URL:https://adaptivesportsne.org/event/ne-adaptive-hockey-jamboree/
LOCATION:New England Sports Center\, 121 Donald Lynch Blvd\, Malborough\, MA\, 01752\, United States
ORGANIZER;CN="Spaulding Adaptive Sports Centers":MAILTO:scarper@partners.org
GEO:42.3648257;-71.5958565
X-APPLE-STRUCTURED-LOCATION;VALUE=URI;X-ADDRESS=New England Sports Center 121 Donald Lynch Blvd Malborough MA 01752 United States;X-APPLE-RADIUS=500;X-TITLE=121 Donald Lynch Blvd:geo:-71.5958565,42.3648257
END:VEVENT
END:VCALENDAR