BEGIN:VCALENDAR
VERSION:2.0
PRODID:-//Adaptive Sports New England - ECPv6.15.20//NONSGML v1.0//EN
CALSCALE:GREGORIAN
METHOD:PUBLISH
X-ORIGINAL-URL:https://adaptivesportsne.org
X-WR-CALDESC:Events for Adaptive Sports New England
REFRESH-INTERVAL;VALUE=DURATION:PT1H
X-Robots-Tag:noindex
X-PUBLISHED-TTL:PT1H
BEGIN:VTIMEZONE
TZID:America/Halifax
BEGIN:DAYLIGHT
TZOFFSETFROM:-0400
TZOFFSETTO:-0300
TZNAME:ADT
DTSTART:20150308T060000
END:DAYLIGHT
BEGIN:STANDARD
TZOFFSETFROM:-0300
TZOFFSETTO:-0400
TZNAME:AST
DTSTART:20151101T050000
END:STANDARD
BEGIN:DAYLIGHT
TZOFFSETFROM:-0400
TZOFFSETTO:-0300
TZNAME:ADT
DTSTART:20160313T060000
END:DAYLIGHT
BEGIN:STANDARD
TZOFFSETFROM:-0300
TZOFFSETTO:-0400
TZNAME:AST
DTSTART:20161106T050000
END:STANDARD
BEGIN:DAYLIGHT
TZOFFSETFROM:-0400
TZOFFSETTO:-0300
TZNAME:ADT
DTSTART:20170312T060000
END:DAYLIGHT
BEGIN:STANDARD
TZOFFSETFROM:-0300
TZOFFSETTO:-0400
TZNAME:AST
DTSTART:20171105T050000
END:STANDARD
END:VTIMEZONE
BEGIN:VEVENT
DTSTART;TZID=America/Halifax:20161218T130000
DTEND;TZID=America/Halifax:20161218T145000
DTSTAMP:20260423T195006
CREATED:20161219T164740Z
LAST-MODIFIED:20161219T165115Z
UID:10000369-1482066000-1482072600@adaptivesportsne.org
SUMMARY:Adaptive Ice Skating - Holyoke
DESCRIPTION:Come join the fun at our adaptive skating programs in Holyoke\, Worcester\, East Boston\, Fall River\, and Brockton! \nLace up a pair of conventional skates or slide around the ice on your manual or power wheelchair. Ice sleds are also available to glide around—propel yourself with small hockey sticks or be pushed around the rink by a friend. \nDepending on location\, activities on the ice include obstacle courses\, a tower of blocks for building up and crashing down\, races\, colorful balls and pucks to shoot around\, power chair games\, and gently competitive hockey matches. \nAdmission and equipment are provided free of cost. \nIce sleds\, skate walkers\, helmets\, ice grippers\, and ice skates are available. \nTo sign up call 413-545-5759 or email email hidden; JavaScript is required
URL:https://adaptivesportsne.org/event/adaptive-ice-skating-holyoke/
LOCATION:Fitzpatrick Skating Rink\, 575 Maple Street\, Holyoke\, MA\, 01040\, United States
ORGANIZER;CN="MA DCR Universal Access Program":MAILTO:marcy.marchello@state.ma.gov
GEO:42.1976467;-72.6200081
X-APPLE-STRUCTURED-LOCATION;VALUE=URI;X-ADDRESS=Fitzpatrick Skating Rink 575 Maple Street Holyoke MA 01040 United States;X-APPLE-RADIUS=500;X-TITLE=575 Maple Street:geo:-72.6200081,42.1976467
END:VEVENT
BEGIN:VEVENT
DTSTART;TZID=America/Halifax:20161218T150000
DTEND;TZID=America/Halifax:20161218T165000
DTSTAMP:20260423T195006
CREATED:20160928T193922Z
LAST-MODIFIED:20160928T193922Z
UID:10000307-1482073200-1482079800@adaptivesportsne.org
SUMMARY:Sled Hockey SASC (Everett)
DESCRIPTION:Instructional and Community Play – All ages.
URL:https://adaptivesportsne.org/event/sled-hockey-sasc-everett-2/
LOCATION:Allied Veterans Memorial Rink\, 65 Elm Street\, Everett\, MA\, United States
ORGANIZER;CN="Spaulding Adaptive Sports Centers":MAILTO:scarper@partners.org
GEO:42.4129126;-71.0445725
X-APPLE-STRUCTURED-LOCATION;VALUE=URI;X-ADDRESS=Allied Veterans Memorial Rink 65 Elm Street Everett MA United States;X-APPLE-RADIUS=500;X-TITLE=65 Elm Street:geo:-71.0445725,42.4129126
END:VEVENT
END:VCALENDAR