BEGIN:VCALENDAR
VERSION:2.0
PRODID:-//Adaptive Sports New England - ECPv6.15.20//NONSGML v1.0//EN
CALSCALE:GREGORIAN
METHOD:PUBLISH
X-ORIGINAL-URL:https://adaptivesportsne.org
X-WR-CALDESC:Events for Adaptive Sports New England
REFRESH-INTERVAL;VALUE=DURATION:PT1H
X-Robots-Tag:noindex
X-PUBLISHED-TTL:PT1H
BEGIN:VTIMEZONE
TZID:America/Halifax
BEGIN:DAYLIGHT
TZOFFSETFROM:-0400
TZOFFSETTO:-0300
TZNAME:ADT
DTSTART:20150308T060000
END:DAYLIGHT
BEGIN:STANDARD
TZOFFSETFROM:-0300
TZOFFSETTO:-0400
TZNAME:AST
DTSTART:20151101T050000
END:STANDARD
BEGIN:DAYLIGHT
TZOFFSETFROM:-0400
TZOFFSETTO:-0300
TZNAME:ADT
DTSTART:20160313T060000
END:DAYLIGHT
BEGIN:STANDARD
TZOFFSETFROM:-0300
TZOFFSETTO:-0400
TZNAME:AST
DTSTART:20161106T050000
END:STANDARD
BEGIN:DAYLIGHT
TZOFFSETFROM:-0400
TZOFFSETTO:-0300
TZNAME:ADT
DTSTART:20170312T060000
END:DAYLIGHT
BEGIN:STANDARD
TZOFFSETFROM:-0300
TZOFFSETTO:-0400
TZNAME:AST
DTSTART:20171105T050000
END:STANDARD
END:VTIMEZONE
BEGIN:VEVENT
DTSTART;TZID=America/Halifax:20161219T073000
DTEND;TZID=America/Halifax:20161219T090000
DTSTAMP:20260425T114217
CREATED:20161216T221733Z
LAST-MODIFIED:20161216T221733Z
UID:10001865-1482132600-1482138000@adaptivesportsne.org
SUMMARY:Rowing Adv. - CRI (Brighton)
DESCRIPTION:
URL:https://adaptivesportsne.org/event/rowing-adv-cri-brighton/2016-12-19/
LOCATION:Harry Parker Boathouse\, 20 Nonantum Road\, Brighton\, MA\, 02135\, United States
ORGANIZER;CN="Community Rowing%2C Inc.":MAILTO:jenny@communityrowing.org
GEO:42.3587003;-71.1656869
X-APPLE-STRUCTURED-LOCATION;VALUE=URI;X-ADDRESS=Harry Parker Boathouse 20 Nonantum Road Brighton MA 02135 United States;X-APPLE-RADIUS=500;X-TITLE=20 Nonantum Road:geo:-71.1656869,42.3587003
END:VEVENT
END:VCALENDAR