BEGIN:VCALENDAR
VERSION:2.0
PRODID:-//Adaptive Sports New England - ECPv6.15.20//NONSGML v1.0//EN
CALSCALE:GREGORIAN
METHOD:PUBLISH
X-ORIGINAL-URL:https://adaptivesportsne.org
X-WR-CALDESC:Events for Adaptive Sports New England
REFRESH-INTERVAL;VALUE=DURATION:PT1H
X-Robots-Tag:noindex
X-PUBLISHED-TTL:PT1H
BEGIN:VTIMEZONE
TZID:America/Halifax
BEGIN:DAYLIGHT
TZOFFSETFROM:-0400
TZOFFSETTO:-0300
TZNAME:ADT
DTSTART:20170312T060000
END:DAYLIGHT
BEGIN:STANDARD
TZOFFSETFROM:-0300
TZOFFSETTO:-0400
TZNAME:AST
DTSTART:20171105T050000
END:STANDARD
BEGIN:DAYLIGHT
TZOFFSETFROM:-0400
TZOFFSETTO:-0300
TZNAME:ADT
DTSTART:20180311T060000
END:DAYLIGHT
BEGIN:STANDARD
TZOFFSETFROM:-0300
TZOFFSETTO:-0400
TZNAME:AST
DTSTART:20181104T050000
END:STANDARD
BEGIN:DAYLIGHT
TZOFFSETFROM:-0400
TZOFFSETTO:-0300
TZNAME:ADT
DTSTART:20190310T060000
END:DAYLIGHT
BEGIN:STANDARD
TZOFFSETFROM:-0300
TZOFFSETTO:-0400
TZNAME:AST
DTSTART:20191103T050000
END:STANDARD
END:VTIMEZONE
BEGIN:VEVENT
DTSTART;TZID=America/Halifax:20180416T070000
DTEND;TZID=America/Halifax:20180416T090000
DTSTAMP:20260424T083128
CREATED:20180314T203554Z
LAST-MODIFIED:20180314T203554Z
UID:10002619-1523862000-1523869200@adaptivesportsne.org
SUMMARY:Para High Performance Rowing - CRI (Brighton)
DESCRIPTION:Limit 10 participants. Cost $265. Session 4 weekday mornings.
URL:https://adaptivesportsne.org/event/para-high-performance-rowing-cri-brighton/2018-04-16/
LOCATION:Community Rowing\, 20 Nonantum Rd\, Brighton\, MA\, 02135\, United States
ORGANIZER;CN="Community Rowing%2C Inc.":MAILTO:jenny@communityrowing.org
GEO:42.3587003;-71.1656869
X-APPLE-STRUCTURED-LOCATION;VALUE=URI;X-ADDRESS=Community Rowing 20 Nonantum Rd Brighton MA 02135 United States;X-APPLE-RADIUS=500;X-TITLE=20 Nonantum Rd:geo:-71.1656869,42.3587003
END:VEVENT
BEGIN:VEVENT
DTSTART;TZID=America/Halifax:20180416T100000
DTEND;TZID=America/Halifax:20180416T120000
DTSTAMP:20260424T083128
CREATED:20180313T161317Z
LAST-MODIFIED:20180313T161317Z
UID:10001012-1523872800-1523880000@adaptivesportsne.org
SUMMARY:Golf Series - SASC (Sandwich)
DESCRIPTION:$40.00  for the 3 week series – April 2\, 9\, 16
URL:https://adaptivesportsne.org/event/golf-series-sasc-sandwich/2018-04-16/
LOCATION:Compass Athletics\, 3 Jan Sebastian Drive\, Sandwich\, MA\, United States
ORGANIZER;CN="Spaulding Adaptive Sports Centers":MAILTO:scarper@partners.org
GEO:41.7186871;-70.4868972
X-APPLE-STRUCTURED-LOCATION;VALUE=URI;X-ADDRESS=Compass Athletics 3 Jan Sebastian Drive Sandwich MA United States;X-APPLE-RADIUS=500;X-TITLE=3 Jan Sebastian Drive:geo:-70.4868972,41.7186871
END:VEVENT
BEGIN:VEVENT
DTSTART;TZID=America/Halifax:20180416T170000
DTEND;TZID=America/Halifax:20180416T183000
DTSTAMP:20260424T083128
CREATED:20180314T204417Z
LAST-MODIFIED:20180314T204417Z
UID:10002655-1523898000-1523903400@adaptivesportsne.org
SUMMARY:Para Inclusion Rowing - CRI (Brighton)
DESCRIPTION:8 participants. No cost.
URL:https://adaptivesportsne.org/event/para-inclusion-rowing-cri-brighton/2018-04-16/
LOCATION:Community Rowing\, 20 Nonantum Rd\, Brighton\, MA\, 02135\, United States
ORGANIZER;CN="Community Rowing%2C Inc.":MAILTO:jenny@communityrowing.org
GEO:42.3587003;-71.1656869
X-APPLE-STRUCTURED-LOCATION;VALUE=URI;X-ADDRESS=Community Rowing 20 Nonantum Rd Brighton MA 02135 United States;X-APPLE-RADIUS=500;X-TITLE=20 Nonantum Rd:geo:-71.1656869,42.3587003
END:VEVENT
END:VCALENDAR