BEGIN:VCALENDAR
VERSION:2.0
PRODID:-//Adaptive Sports New England - ECPv6.15.20//NONSGML v1.0//EN
CALSCALE:GREGORIAN
METHOD:PUBLISH
X-ORIGINAL-URL:https://adaptivesportsne.org
X-WR-CALDESC:Events for Adaptive Sports New England
REFRESH-INTERVAL;VALUE=DURATION:PT1H
X-Robots-Tag:noindex
X-PUBLISHED-TTL:PT1H
BEGIN:VTIMEZONE
TZID:America/Halifax
BEGIN:DAYLIGHT
TZOFFSETFROM:-0400
TZOFFSETTO:-0300
TZNAME:ADT
DTSTART:20170312T060000
END:DAYLIGHT
BEGIN:STANDARD
TZOFFSETFROM:-0300
TZOFFSETTO:-0400
TZNAME:AST
DTSTART:20171105T050000
END:STANDARD
BEGIN:DAYLIGHT
TZOFFSETFROM:-0400
TZOFFSETTO:-0300
TZNAME:ADT
DTSTART:20180311T060000
END:DAYLIGHT
BEGIN:STANDARD
TZOFFSETFROM:-0300
TZOFFSETTO:-0400
TZNAME:AST
DTSTART:20181104T050000
END:STANDARD
BEGIN:DAYLIGHT
TZOFFSETFROM:-0400
TZOFFSETTO:-0300
TZNAME:ADT
DTSTART:20190310T060000
END:DAYLIGHT
BEGIN:STANDARD
TZOFFSETFROM:-0300
TZOFFSETTO:-0400
TZNAME:AST
DTSTART:20191103T050000
END:STANDARD
END:VTIMEZONE
BEGIN:VEVENT
DTSTART;TZID=America/Halifax:20180419T070000
DTEND;TZID=America/Halifax:20180419T090000
DTSTAMP:20260424T083127
CREATED:20180314T203554Z
LAST-MODIFIED:20180314T203554Z
UID:10002621-1524121200-1524128400@adaptivesportsne.org
SUMMARY:Para High Performance Rowing - CRI (Brighton)
DESCRIPTION:Limit 10 participants. Cost $265. Session 4 weekday mornings.
URL:https://adaptivesportsne.org/event/para-high-performance-rowing-cri-brighton/2018-04-19/
LOCATION:Community Rowing\, 20 Nonantum Rd\, Brighton\, MA\, 02135\, United States
ORGANIZER;CN="Community Rowing%2C Inc.":MAILTO:jenny@communityrowing.org
GEO:42.3587003;-71.1656869
X-APPLE-STRUCTURED-LOCATION;VALUE=URI;X-ADDRESS=Community Rowing 20 Nonantum Rd Brighton MA 02135 United States;X-APPLE-RADIUS=500;X-TITLE=20 Nonantum Rd:geo:-71.1656869,42.3587003
END:VEVENT
BEGIN:VEVENT
DTSTART;TZID=America/Halifax:20180419T180000
DTEND;TZID=America/Halifax:20180419T200000
DTSTAMP:20260424T083127
CREATED:20170831T204749Z
LAST-MODIFIED:20170831T213657Z
UID:10000609-1524160800-1524168000@adaptivesportsne.org
SUMMARY:Soccer & Conditioning - AccessSpts (Lexington)
DESCRIPTION:Contact Access Sport America for more information.  Two sessions 6:00-7:00PM and 7:00-8:00PM.
URL:https://adaptivesportsne.org/event/conditioning-soccer-asa-lexington/2018-04-19/
LOCATION:Cotting School\, Lexington\, MA\, United States
ORGANIZER;CN="Access Sport America":MAILTO:betty@accessportamerica.org
GEO:42.4430372;-71.2289641
END:VEVENT
BEGIN:VEVENT
DTSTART;TZID=America/Halifax:20180419T183000
DTEND;TZID=America/Halifax:20180419T200000
DTSTAMP:20260424T083127
CREATED:20180314T204741Z
LAST-MODIFIED:20180314T204741Z
UID:10002672-1524162600-1524168000@adaptivesportsne.org
SUMMARY:Para Open Rowing - CRI (Brighton)
DESCRIPTION:This program is ideal for new rowers and recreational rowers with physical and/or intellectual disabilities. Open to 8 rowers. Cost is $265
URL:https://adaptivesportsne.org/event/para-open-rowing-cri-brighton/2018-04-19/
LOCATION:Community Rowing\, 20 Nonantum Rd\, Brighton\, MA\, 02135\, United States
ORGANIZER;CN="Community Rowing%2C Inc.":MAILTO:jenny@communityrowing.org
GEO:42.3587003;-71.1656869
X-APPLE-STRUCTURED-LOCATION;VALUE=URI;X-ADDRESS=Community Rowing 20 Nonantum Rd Brighton MA 02135 United States;X-APPLE-RADIUS=500;X-TITLE=20 Nonantum Rd:geo:-71.1656869,42.3587003
END:VEVENT
END:VCALENDAR