BEGIN:VCALENDAR
VERSION:2.0
PRODID:-//Adaptive Sports New England - ECPv6.15.20//NONSGML v1.0//EN
CALSCALE:GREGORIAN
METHOD:PUBLISH
X-WR-CALNAME:Adaptive Sports New England
X-ORIGINAL-URL:https://adaptivesportsne.org
X-WR-CALDESC:Events for Adaptive Sports New England
REFRESH-INTERVAL;VALUE=DURATION:PT1H
X-Robots-Tag:noindex
X-PUBLISHED-TTL:PT1H
BEGIN:VTIMEZONE
TZID:America/Halifax
BEGIN:DAYLIGHT
TZOFFSETFROM:-0400
TZOFFSETTO:-0300
TZNAME:ADT
DTSTART:20170312T060000
END:DAYLIGHT
BEGIN:STANDARD
TZOFFSETFROM:-0300
TZOFFSETTO:-0400
TZNAME:AST
DTSTART:20171105T050000
END:STANDARD
BEGIN:DAYLIGHT
TZOFFSETFROM:-0400
TZOFFSETTO:-0300
TZNAME:ADT
DTSTART:20180311T060000
END:DAYLIGHT
BEGIN:STANDARD
TZOFFSETFROM:-0300
TZOFFSETTO:-0400
TZNAME:AST
DTSTART:20181104T050000
END:STANDARD
BEGIN:DAYLIGHT
TZOFFSETFROM:-0400
TZOFFSETTO:-0300
TZNAME:ADT
DTSTART:20190310T060000
END:DAYLIGHT
BEGIN:STANDARD
TZOFFSETFROM:-0300
TZOFFSETTO:-0400
TZNAME:AST
DTSTART:20191103T050000
END:STANDARD
END:VTIMEZONE
BEGIN:VEVENT
DTSTART;TZID=America/Halifax:20180510T070000
DTEND;TZID=America/Halifax:20180510T090000
DTSTAMP:20260425T062018
CREATED:20180314T203554Z
LAST-MODIFIED:20180314T203554Z
UID:10002633-1525935600-1525942800@adaptivesportsne.org
SUMMARY:Para High Performance Rowing - CRI (Brighton)
DESCRIPTION:Limit 10 participants. Cost $265. Session 4 weekday mornings.
URL:https://adaptivesportsne.org/event/para-high-performance-rowing-cri-brighton/2018-05-10/
LOCATION:Community Rowing\, 20 Nonantum Rd\, Brighton\, MA\, 02135\, United States
ORGANIZER;CN="Community Rowing%2C Inc.":MAILTO:jenny@communityrowing.org
GEO:42.3587003;-71.1656869
X-APPLE-STRUCTURED-LOCATION;VALUE=URI;X-ADDRESS=Community Rowing 20 Nonantum Rd Brighton MA 02135 United States;X-APPLE-RADIUS=500;X-TITLE=20 Nonantum Rd:geo:-71.1656869,42.3587003
END:VEVENT
BEGIN:VEVENT
DTSTART;TZID=America/Halifax:20180510T180000
DTEND;TZID=America/Halifax:20180510T193000
DTSTAMP:20260425T062018
CREATED:20180314T201534Z
LAST-MODIFIED:20180314T201534Z
UID:10001054-1525975200-1525980600@adaptivesportsne.org
SUMMARY:Wheelchair Basketball - Daniel Marr B&G Club (Dorchester)
DESCRIPTION:Inclusive wheelchair basketball for youth with and without mobility impairments.  Contact the local Boys & Girls Club listed below for more information or e-mail email hidden; JavaScript is required
URL:https://adaptivesportsne.org/event/wheelchair-basketball-daniel-marr-bg-club-dorchester/2018-05-10/
LOCATION:Colonel Daniel Marr Boys & Girls Club of Dorchester\, 35 Deer Street\, Dorchester\, MA\, 02125\, United States
GEO:42.311528;-71.058571
X-APPLE-STRUCTURED-LOCATION;VALUE=URI;X-ADDRESS=Colonel Daniel Marr Boys & Girls Club of Dorchester 35 Deer Street Dorchester MA 02125 United States;X-APPLE-RADIUS=500;X-TITLE=35 Deer Street:geo:-71.058571,42.311528
END:VEVENT
BEGIN:VEVENT
DTSTART;TZID=America/Halifax:20180510T183000
DTEND;TZID=America/Halifax:20180510T200000
DTSTAMP:20260425T062018
CREATED:20180314T204741Z
LAST-MODIFIED:20180314T204741Z
UID:10002678-1525977000-1525982400@adaptivesportsne.org
SUMMARY:Para Open Rowing - CRI (Brighton)
DESCRIPTION:This program is ideal for new rowers and recreational rowers with physical and/or intellectual disabilities. Open to 8 rowers. Cost is $265
URL:https://adaptivesportsne.org/event/para-open-rowing-cri-brighton/2018-05-10/
LOCATION:Community Rowing\, 20 Nonantum Rd\, Brighton\, MA\, 02135\, United States
ORGANIZER;CN="Community Rowing%2C Inc.":MAILTO:jenny@communityrowing.org
GEO:42.3587003;-71.1656869
X-APPLE-STRUCTURED-LOCATION;VALUE=URI;X-ADDRESS=Community Rowing 20 Nonantum Rd Brighton MA 02135 United States;X-APPLE-RADIUS=500;X-TITLE=20 Nonantum Rd:geo:-71.1656869,42.3587003
END:VEVENT
END:VCALENDAR