BEGIN:VCALENDAR
VERSION:2.0
PRODID:-//Adaptive Sports New England - ECPv6.15.20//NONSGML v1.0//EN
CALSCALE:GREGORIAN
METHOD:PUBLISH
X-WR-CALNAME:Adaptive Sports New England
X-ORIGINAL-URL:https://adaptivesportsne.org
X-WR-CALDESC:Events for Adaptive Sports New England
REFRESH-INTERVAL;VALUE=DURATION:PT1H
X-Robots-Tag:noindex
X-PUBLISHED-TTL:PT1H
BEGIN:VTIMEZONE
TZID:America/Halifax
BEGIN:DAYLIGHT
TZOFFSETFROM:-0400
TZOFFSETTO:-0300
TZNAME:ADT
DTSTART:20170312T060000
END:DAYLIGHT
BEGIN:STANDARD
TZOFFSETFROM:-0300
TZOFFSETTO:-0400
TZNAME:AST
DTSTART:20171105T050000
END:STANDARD
BEGIN:DAYLIGHT
TZOFFSETFROM:-0400
TZOFFSETTO:-0300
TZNAME:ADT
DTSTART:20180311T060000
END:DAYLIGHT
BEGIN:STANDARD
TZOFFSETFROM:-0300
TZOFFSETTO:-0400
TZNAME:AST
DTSTART:20181104T050000
END:STANDARD
BEGIN:DAYLIGHT
TZOFFSETFROM:-0400
TZOFFSETTO:-0300
TZNAME:ADT
DTSTART:20190310T060000
END:DAYLIGHT
BEGIN:STANDARD
TZOFFSETFROM:-0300
TZOFFSETTO:-0400
TZNAME:AST
DTSTART:20191103T050000
END:STANDARD
END:VTIMEZONE
BEGIN:VEVENT
DTSTART;TZID=America/Halifax:20180518T070000
DTEND;TZID=America/Halifax:20180518T090000
DTSTAMP:20260425T062022
CREATED:20180314T203554Z
LAST-MODIFIED:20180314T203554Z
UID:10002638-1526626800-1526634000@adaptivesportsne.org
SUMMARY:Para High Performance Rowing - CRI (Brighton)
DESCRIPTION:Limit 10 participants. Cost $265. Session 4 weekday mornings.
URL:https://adaptivesportsne.org/event/para-high-performance-rowing-cri-brighton/2018-05-18/
LOCATION:Community Rowing\, 20 Nonantum Rd\, Brighton\, MA\, 02135\, United States
ORGANIZER;CN="Community Rowing%2C Inc.":MAILTO:jenny@communityrowing.org
GEO:42.3587003;-71.1656869
X-APPLE-STRUCTURED-LOCATION;VALUE=URI;X-ADDRESS=Community Rowing 20 Nonantum Rd Brighton MA 02135 United States;X-APPLE-RADIUS=500;X-TITLE=20 Nonantum Rd:geo:-71.1656869,42.3587003
END:VEVENT
BEGIN:VEVENT
DTSTART;TZID=America/Halifax:20180518T090000
DTEND;TZID=America/Halifax:20180518T120000
DTSTAMP:20260425T062022
CREATED:20180314T205122Z
LAST-MODIFIED:20180314T205122Z
UID:10002704-1526634000-1526644800@adaptivesportsne.org
SUMMARY:Para Open Rowing - CRI (Brighton)
DESCRIPTION:This program is ideal for new rowers and recreational rowers with physical and/or intellectual disabilities. Limit to 8 participants. Cost is $265. \n**There are two groups during this time slot\, 9:00-10:30 and 10:30-12:00.**
URL:https://adaptivesportsne.org/event/para-open-rowing-cri-brighton-2/2018-05-18/
LOCATION:Community Rowing\, 20 Nonantum Rd\, Brighton\, MA\, 02135\, United States
ORGANIZER;CN="Community Rowing%2C Inc.":MAILTO:jenny@communityrowing.org
GEO:42.3587003;-71.1656869
X-APPLE-STRUCTURED-LOCATION;VALUE=URI;X-ADDRESS=Community Rowing 20 Nonantum Rd Brighton MA 02135 United States;X-APPLE-RADIUS=500;X-TITLE=20 Nonantum Rd:geo:-71.1656869,42.3587003
END:VEVENT
BEGIN:VEVENT
DTSTART;TZID=America/Halifax:20180518T180000
DTEND;TZID=America/Halifax:20180518T193000
DTSTAMP:20260425T062022
CREATED:20180314T202635Z
LAST-MODIFIED:20180314T202635Z
UID:10002600-1526666400-1526671800@adaptivesportsne.org
SUMMARY:Wheelchair Basketball - B&G Club (South Boston)
DESCRIPTION:Inclusive wheelchair basketball for youth with and without mobility impairments.  Contact the local Boys & Girls Club listed below for more information or e-mail email hidden; JavaScript is required
URL:https://adaptivesportsne.org/event/wheelchair-basketball-bg-club-south-boston/2018-05-18/
LOCATION:Edgerley Family South Boston Boys & Girls Club\, 230 W 6th St. \, South Boston \, MA\, United States
ORGANIZER;CN="Edgerley Family South Boston Boys & Girls Club":MAILTO:mkane@bcgb.org
GEO:42.3348352;-71.0494495
X-APPLE-STRUCTURED-LOCATION;VALUE=URI;X-ADDRESS=Edgerley Family South Boston Boys & Girls Club 230 W 6th St.  South Boston  MA United States;X-APPLE-RADIUS=500;X-TITLE=230 W 6th St.:geo:-71.0494495,42.3348352
END:VEVENT
END:VCALENDAR