BEGIN:VCALENDAR
VERSION:2.0
PRODID:-//Adaptive Sports New England - ECPv6.15.20//NONSGML v1.0//EN
CALSCALE:GREGORIAN
METHOD:PUBLISH
X-WR-CALNAME:Adaptive Sports New England
X-ORIGINAL-URL:https://adaptivesportsne.org
X-WR-CALDESC:Events for Adaptive Sports New England
REFRESH-INTERVAL;VALUE=DURATION:PT1H
X-Robots-Tag:noindex
X-PUBLISHED-TTL:PT1H
BEGIN:VTIMEZONE
TZID:America/Halifax
BEGIN:DAYLIGHT
TZOFFSETFROM:-0400
TZOFFSETTO:-0300
TZNAME:ADT
DTSTART:20170312T060000
END:DAYLIGHT
BEGIN:STANDARD
TZOFFSETFROM:-0300
TZOFFSETTO:-0400
TZNAME:AST
DTSTART:20171105T050000
END:STANDARD
BEGIN:DAYLIGHT
TZOFFSETFROM:-0400
TZOFFSETTO:-0300
TZNAME:ADT
DTSTART:20180311T060000
END:DAYLIGHT
BEGIN:STANDARD
TZOFFSETFROM:-0300
TZOFFSETTO:-0400
TZNAME:AST
DTSTART:20181104T050000
END:STANDARD
BEGIN:DAYLIGHT
TZOFFSETFROM:-0400
TZOFFSETTO:-0300
TZNAME:ADT
DTSTART:20190310T060000
END:DAYLIGHT
BEGIN:STANDARD
TZOFFSETFROM:-0300
TZOFFSETTO:-0400
TZNAME:AST
DTSTART:20191103T050000
END:STANDARD
END:VTIMEZONE
BEGIN:VEVENT
DTSTART;TZID=America/Halifax:20180602T090000
DTEND;TZID=America/Halifax:20180602T160000
DTSTAMP:20260425T074033
CREATED:20180514T150932Z
LAST-MODIFIED:20180620T153955Z
UID:10002762-1527930000-1527955200@adaptivesportsne.org
SUMMARY:Cycling - SASC (Brewster)
DESCRIPTION:4 available time slots: \n9am-10:30am \n10:30am-12pm \n1pm-2:30pm \n2:30pm-4pm
URL:https://adaptivesportsne.org/event/cycling-sasc-brewster-3/2018-06-02/
LOCATION:McGraw Center\, 0 Main St\, Rt 6A\, Brewster\, 02631\, United States
CATEGORIES:Non-Competitive Recreation
ORGANIZER;CN="Spaulding Adaptive Sports Centers":MAILTO:scarper@partners.org
GEO:41.6876803;-70.1051777
X-APPLE-STRUCTURED-LOCATION;VALUE=URI;X-ADDRESS=McGraw Center 0 Main St Rt 6A Brewster 02631 United States;X-APPLE-RADIUS=500;X-TITLE=0 Main St\, Rt 6A:geo:-70.1051777,41.6876803
END:VEVENT
BEGIN:VEVENT
DTSTART;TZID=America/Halifax:20180602T100000
DTEND;TZID=America/Halifax:20180602T113000
DTSTAMP:20260425T074033
CREATED:20180408T112759Z
LAST-MODIFIED:20180422T104636Z
UID:10002722-1527933600-1527939000@adaptivesportsne.org
SUMMARY:Teen Para Rowing - CRI (Boston)
DESCRIPTION:This program is intended for rowers of varying levels of experience with an emphasis on welcoming new athletes to rowing. The spring season will feature some indoor rowing\, some rowing in CRI’s 12-seat barge\, and possibly some rowing in traditional boats. Two CRI coaches will lead the program. The program fee is $100. Pre-registration through www.communityrowing.org/programs/signup/ is required. Financial assistance is available. Contact Joe Walsh email hidden; JavaScript is required or Jenny Sichel email hidden; JavaScript is required with any questions.
URL:https://adaptivesportsne.org/event/teen-para-rowing-cri-boston/2018-06-02/
LOCATION:Harry Parker Boathouse\, 20 Nonantum Road\, Brighton\, MA\, 02135\, United States
ORGANIZER;CN="Community Rowing%2C Inc.":MAILTO:jenny@communityrowing.org
GEO:42.3587003;-71.1656869
X-APPLE-STRUCTURED-LOCATION;VALUE=URI;X-ADDRESS=Harry Parker Boathouse 20 Nonantum Road Brighton MA 02135 United States;X-APPLE-RADIUS=500;X-TITLE=20 Nonantum Road:geo:-71.1656869,42.3587003
END:VEVENT
BEGIN:VEVENT
DTSTART;TZID=America/Halifax:20180602T100000
DTEND;TZID=America/Halifax:20180602T150000
DTSTAMP:20260425T074034
CREATED:20180220T015331Z
LAST-MODIFIED:20180529T134633Z
UID:10000994-1527933600-1527951600@adaptivesportsne.org
SUMMARY:Accessible Recreation Fair - DCR (Brighton)
DESCRIPTION:For details or to register\, call Donna at 413-545-5760 or email email hidden; JavaScript is required
URL:https://adaptivesportsne.org/event/adaptive-rec-fair-dcr-brighton/
LOCATION:Artesani Park\, 1234 Soldier's Field Road\, Brighton\, MA\, 02135\, United States
ORGANIZER;CN="MA DCR Universal Access Program":MAILTO:marcy.marchello@state.ma.gov
GEO:42.3640587;-71.1364589
X-APPLE-STRUCTURED-LOCATION;VALUE=URI;X-ADDRESS=Artesani Park 1234 Soldier's Field Road Brighton MA 02135 United States;X-APPLE-RADIUS=500;X-TITLE=1234 Soldier's Field Road:geo:-71.1364589,42.3640587
END:VEVENT
END:VCALENDAR