BEGIN:VCALENDAR
VERSION:2.0
PRODID:-//Adaptive Sports New England - ECPv6.15.20//NONSGML v1.0//EN
CALSCALE:GREGORIAN
METHOD:PUBLISH
X-WR-CALNAME:Adaptive Sports New England
X-ORIGINAL-URL:https://adaptivesportsne.org
X-WR-CALDESC:Events for Adaptive Sports New England
REFRESH-INTERVAL;VALUE=DURATION:PT1H
X-Robots-Tag:noindex
X-PUBLISHED-TTL:PT1H
BEGIN:VTIMEZONE
TZID:America/Halifax
BEGIN:DAYLIGHT
TZOFFSETFROM:-0400
TZOFFSETTO:-0300
TZNAME:ADT
DTSTART:20180311T060000
END:DAYLIGHT
BEGIN:STANDARD
TZOFFSETFROM:-0300
TZOFFSETTO:-0400
TZNAME:AST
DTSTART:20181104T050000
END:STANDARD
BEGIN:DAYLIGHT
TZOFFSETFROM:-0400
TZOFFSETTO:-0300
TZNAME:ADT
DTSTART:20190310T060000
END:DAYLIGHT
BEGIN:STANDARD
TZOFFSETFROM:-0300
TZOFFSETTO:-0400
TZNAME:AST
DTSTART:20191103T050000
END:STANDARD
BEGIN:DAYLIGHT
TZOFFSETFROM:-0400
TZOFFSETTO:-0300
TZNAME:ADT
DTSTART:20200308T060000
END:DAYLIGHT
BEGIN:STANDARD
TZOFFSETFROM:-0300
TZOFFSETTO:-0400
TZNAME:AST
DTSTART:20201101T050000
END:STANDARD
END:VTIMEZONE
BEGIN:VEVENT
DTSTART;TZID=America/Halifax:20190203T100000
DTEND;TZID=America/Halifax:20190203T114500
DTSTAMP:20260422T102530
CREATED:20181216T192207Z
LAST-MODIFIED:20181216T192207Z
UID:10003084-1549188000-1549194300@adaptivesportsne.org
SUMMARY:Sled Hockey - NEP (Exeter)
DESCRIPTION:Development program
URL:https://adaptivesportsne.org/event/sled-hockey-nep-exeter-3/2019-02-03/
LOCATION:Phillips Exeter Academy\, Court St.\, Exeter\, NH\, 03833\, United States
CATEGORIES:Sled Hockey
ORGANIZER;CN="Northeast Passage":MAILTO:northeast.passage@unh.edu
GEO:42.9687924;-70.9527216
X-APPLE-STRUCTURED-LOCATION;VALUE=URI;X-ADDRESS=Phillips Exeter Academy Court St. Exeter NH 03833 United States;X-APPLE-RADIUS=500;X-TITLE=Court St.:geo:-70.9527216,42.9687924
END:VEVENT
BEGIN:VEVENT
DTSTART;TZID=America/Halifax:20190203T120000
DTEND;TZID=America/Halifax:20190203T140000
DTSTAMP:20260422T102530
CREATED:20180517T145702Z
LAST-MODIFIED:20181222T020551Z
UID:10002804-1549195200-1549202400@adaptivesportsne.org
SUMMARY:Sled Hockey - SASC (Everett)
DESCRIPTION:Equipment provided. $5 session fee\, $100 season fee
URL:https://adaptivesportsne.org/event/sled-hockey-sasc-everett-7/2019-02-03/
LOCATION:Allied Veterans Memorial Rink\, 65 Elm Street\, Everett\, MA\, United States
CATEGORIES:Sled Hockey
ORGANIZER;CN="Spaulding Adaptive Sports Centers":MAILTO:scarper@partners.org
GEO:42.4129126;-71.0445725
X-APPLE-STRUCTURED-LOCATION;VALUE=URI;X-ADDRESS=Allied Veterans Memorial Rink 65 Elm Street Everett MA United States;X-APPLE-RADIUS=500;X-TITLE=65 Elm Street:geo:-71.0445725,42.4129126
END:VEVENT
BEGIN:VEVENT
DTSTART;TZID=America/Halifax:20190203T123000
DTEND;TZID=America/Halifax:20190203T140000
DTSTAMP:20260422T102530
CREATED:20181216T193035Z
LAST-MODIFIED:20181216T193035Z
UID:10003090-1549197000-1549202400@adaptivesportsne.org
SUMMARY:Swim Team - ASNE (Wellesley)
DESCRIPTION:
URL:https://adaptivesportsne.org/event/swim-team-asne-wellesley/2019-02-03/
LOCATION:Wellesley College Keohane Sports Center\, 106 Central Street\, Wellesley\, MA\, 02481\, United States
CATEGORIES:Swimming
ORGANIZER;CN="Adaptive Sports New England":MAILTO:joe.walsh@adaptivesportsne.org
GEO:42.2930684;-71.3085829
X-APPLE-STRUCTURED-LOCATION;VALUE=URI;X-ADDRESS=Wellesley College Keohane Sports Center 106 Central Street Wellesley MA 02481 United States;X-APPLE-RADIUS=500;X-TITLE=106 Central Street:geo:-71.3085829,42.2930684
END:VEVENT
BEGIN:VEVENT
DTSTART;TZID=America/Halifax:20190203T150000
DTEND;TZID=America/Halifax:20190203T180000
DTSTAMP:20260422T102530
CREATED:20181014T130339Z
LAST-MODIFIED:20181014T130339Z
UID:10001280-1549206000-1549216800@adaptivesportsne.org
SUMMARY:Youth Swim Lessons - SSYMCA (Quincy)
DESCRIPTION:Limited enrollment.  By application.  45 minute lessons.  Contact email hidden; JavaScript is required for information and to apply.
URL:https://adaptivesportsne.org/event/youth-swim-lessons-ssymca-quincy-2/2019-02-03/
LOCATION:South Shore YMCA – Quincy\, 79 Coddington St\, Quincy \, MA\, 02169\, United States
CATEGORIES:Swimming
ORGANIZER;CN="Adaptive Sports New England":MAILTO:joe.walsh@adaptivesportsne.org
GEO:42.252978;-70.997083
X-APPLE-STRUCTURED-LOCATION;VALUE=URI;X-ADDRESS=South Shore YMCA – Quincy 79 Coddington St Quincy  MA 02169 United States;X-APPLE-RADIUS=500;X-TITLE=79 Coddington St:geo:-70.997083,42.252978
END:VEVENT
END:VCALENDAR