BEGIN:VCALENDAR
VERSION:2.0
PRODID:-//Adaptive Sports New England - ECPv6.15.20//NONSGML v1.0//EN
CALSCALE:GREGORIAN
METHOD:PUBLISH
X-WR-CALNAME:Adaptive Sports New England
X-ORIGINAL-URL:https://adaptivesportsne.org
X-WR-CALDESC:Events for Adaptive Sports New England
REFRESH-INTERVAL;VALUE=DURATION:PT1H
X-Robots-Tag:noindex
X-PUBLISHED-TTL:PT1H
BEGIN:VTIMEZONE
TZID:America/Halifax
BEGIN:DAYLIGHT
TZOFFSETFROM:-0400
TZOFFSETTO:-0300
TZNAME:ADT
DTSTART:20180311T060000
END:DAYLIGHT
BEGIN:STANDARD
TZOFFSETFROM:-0300
TZOFFSETTO:-0400
TZNAME:AST
DTSTART:20181104T050000
END:STANDARD
BEGIN:DAYLIGHT
TZOFFSETFROM:-0400
TZOFFSETTO:-0300
TZNAME:ADT
DTSTART:20190310T060000
END:DAYLIGHT
BEGIN:STANDARD
TZOFFSETFROM:-0300
TZOFFSETTO:-0400
TZNAME:AST
DTSTART:20191103T050000
END:STANDARD
BEGIN:DAYLIGHT
TZOFFSETFROM:-0400
TZOFFSETTO:-0300
TZNAME:ADT
DTSTART:20200308T060000
END:DAYLIGHT
BEGIN:STANDARD
TZOFFSETFROM:-0300
TZOFFSETTO:-0400
TZNAME:AST
DTSTART:20201101T050000
END:STANDARD
END:VTIMEZONE
BEGIN:VEVENT
DTSTART;TZID=America/Halifax:20190217T100000
DTEND;TZID=America/Halifax:20190217T114500
DTSTAMP:20260422T102542
CREATED:20181216T192207Z
LAST-MODIFIED:20181216T192207Z
UID:10003085-1550397600-1550403900@adaptivesportsne.org
SUMMARY:Sled Hockey - NEP (Exeter)
DESCRIPTION:Development program
URL:https://adaptivesportsne.org/event/sled-hockey-nep-exeter-3/2019-02-17/
LOCATION:Phillips Exeter Academy\, Court St.\, Exeter\, NH\, 03833\, United States
CATEGORIES:Sled Hockey
ORGANIZER;CN="Northeast Passage":MAILTO:northeast.passage@unh.edu
GEO:42.9687924;-70.9527216
X-APPLE-STRUCTURED-LOCATION;VALUE=URI;X-ADDRESS=Phillips Exeter Academy Court St. Exeter NH 03833 United States;X-APPLE-RADIUS=500;X-TITLE=Court St.:geo:-70.9527216,42.9687924
END:VEVENT
BEGIN:VEVENT
DTSTART;TZID=America/Halifax:20190217T123000
DTEND;TZID=America/Halifax:20190217T140000
DTSTAMP:20260422T102542
CREATED:20181216T193035Z
LAST-MODIFIED:20181216T193035Z
UID:10003092-1550406600-1550412000@adaptivesportsne.org
SUMMARY:Swim Team - ASNE (Wellesley)
DESCRIPTION:
URL:https://adaptivesportsne.org/event/swim-team-asne-wellesley/2019-02-17/
LOCATION:Wellesley College Keohane Sports Center\, 106 Central Street\, Wellesley\, MA\, 02481\, United States
CATEGORIES:Swimming
ORGANIZER;CN="Adaptive Sports New England":MAILTO:joe.walsh@adaptivesportsne.org
GEO:42.2930684;-71.3085829
X-APPLE-STRUCTURED-LOCATION;VALUE=URI;X-ADDRESS=Wellesley College Keohane Sports Center 106 Central Street Wellesley MA 02481 United States;X-APPLE-RADIUS=500;X-TITLE=106 Central Street:geo:-71.3085829,42.2930684
END:VEVENT
END:VCALENDAR