BEGIN:VCALENDAR
VERSION:2.0
PRODID:-//Adaptive Sports New England - ECPv6.15.20//NONSGML v1.0//EN
CALSCALE:GREGORIAN
METHOD:PUBLISH
X-WR-CALNAME:Adaptive Sports New England
X-ORIGINAL-URL:https://adaptivesportsne.org
X-WR-CALDESC:Events for Adaptive Sports New England
REFRESH-INTERVAL;VALUE=DURATION:PT1H
X-Robots-Tag:noindex
X-PUBLISHED-TTL:PT1H
BEGIN:VTIMEZONE
TZID:America/Halifax
BEGIN:DAYLIGHT
TZOFFSETFROM:-0400
TZOFFSETTO:-0300
TZNAME:ADT
DTSTART:20180311T060000
END:DAYLIGHT
BEGIN:STANDARD
TZOFFSETFROM:-0300
TZOFFSETTO:-0400
TZNAME:AST
DTSTART:20181104T050000
END:STANDARD
BEGIN:DAYLIGHT
TZOFFSETFROM:-0400
TZOFFSETTO:-0300
TZNAME:ADT
DTSTART:20190310T060000
END:DAYLIGHT
BEGIN:STANDARD
TZOFFSETFROM:-0300
TZOFFSETTO:-0400
TZNAME:AST
DTSTART:20191103T050000
END:STANDARD
BEGIN:DAYLIGHT
TZOFFSETFROM:-0400
TZOFFSETTO:-0300
TZNAME:ADT
DTSTART:20200308T060000
END:DAYLIGHT
BEGIN:STANDARD
TZOFFSETFROM:-0300
TZOFFSETTO:-0400
TZNAME:AST
DTSTART:20201101T050000
END:STANDARD
END:VTIMEZONE
BEGIN:VEVENT
DTSTART;VALUE=DATE:20190223
DTEND;VALUE=DATE:20190224
DTSTAMP:20260422T131129
CREATED:20181018T223033Z
LAST-MODIFIED:20181018T223033Z
UID:10001291-1550880000-1550966399@adaptivesportsne.org
SUMMARY:Ski Club - SASC (Pico Mtn.)
DESCRIPTION:
URL:https://adaptivesportsne.org/event/ski-club-sasc-pico-mtn/
LOCATION:Pico/Killington\, Killington\, VT\, United States
CATEGORIES:Non-Competitive Recreation
ORGANIZER;CN="Spaulding Adaptive Sports Centers":MAILTO:scarper@partners.org
GEO:43.6775677;-72.7798247
END:VEVENT
BEGIN:VEVENT
DTSTART;TZID=America/Halifax:20190223T100000
DTEND;TZID=America/Halifax:20190223T130000
DTSTAMP:20260422T131129
CREATED:20181216T201332Z
LAST-MODIFIED:20181216T201332Z
UID:10003128-1550916000-1550926800@adaptivesportsne.org
SUMMARY:WC Rugby - NEP (Durham)
DESCRIPTION:
URL:https://adaptivesportsne.org/event/wc-rugby-nep-durham-2/2019-02-23/
LOCATION:UNH Hamel Recreation Center\, Durham\, NH\, United States
CATEGORIES:Other Para Sports
ORGANIZER;CN="Northeast Passage":MAILTO:northeast.passage@unh.edu
END:VEVENT
BEGIN:VEVENT
DTSTART;TZID=America/Halifax:20190223T100000
DTEND;TZID=America/Halifax:20190223T140000
DTSTAMP:20260422T131129
CREATED:20181216T201643Z
LAST-MODIFIED:20181216T201643Z
UID:10003119-1550916000-1550930400@adaptivesportsne.org
SUMMARY:Power Soccer - NEP (Durham)
DESCRIPTION:
URL:https://adaptivesportsne.org/event/power-soccer-nep-durham-3/2019-02-23/
LOCATION:UNH Hamel Recreation Center\, Durham\, NH\, United States
CATEGORIES:Other Para Sports
ORGANIZER;CN="Northeast Passage":MAILTO:northeast.passage@unh.edu
END:VEVENT
BEGIN:VEVENT
DTSTART;TZID=America/Halifax:20190223T110000
DTEND;TZID=America/Halifax:20190223T123000
DTSTAMP:20260422T131129
CREATED:20181224T132321Z
LAST-MODIFIED:20181224T132321Z
UID:10001308-1550919600-1550925000@adaptivesportsne.org
SUMMARY:WC Basketball - SASC (Hyannis)
DESCRIPTION:
URL:https://adaptivesportsne.org/event/wc-basketball-sasc-hyannis/2019-02-23/
LOCATION:Hyannis Youth & Community Center\, 141 Bassett Lane\, Hyannis\, MA\, United States
CATEGORIES:WC Basketball
ORGANIZER;CN="Spaulding Adaptive Sports Centers":MAILTO:scarper@partners.org
GEO:41.6538309;-70.292849
X-APPLE-STRUCTURED-LOCATION;VALUE=URI;X-ADDRESS=Hyannis Youth & Community Center 141 Bassett Lane Hyannis MA United States;X-APPLE-RADIUS=500;X-TITLE=141 Bassett Lane:geo:-70.292849,41.6538309
END:VEVENT
BEGIN:VEVENT
DTSTART;TZID=America/Halifax:20190223T110000
DTEND;TZID=America/Halifax:20190223T130000
DTSTAMP:20260422T131129
CREATED:20181229T134932Z
LAST-MODIFIED:20181229T134932Z
UID:10001376-1550919600-1550926800@adaptivesportsne.org
SUMMARY:WC Fencing - BFC (Brighton)
DESCRIPTION:
URL:https://adaptivesportsne.org/event/wc-fencing-bfc-brighton/2019-02-23/
LOCATION:Boston Fencing Club\, 100 Holton Street\, Brighton\, MA\, 02135\, United States
CATEGORIES:Other Para Sports
ORGANIZER;CN="Boston Fencing Club":MAILTO:info@bostonfencingclub.org
END:VEVENT
END:VCALENDAR