BEGIN:VCALENDAR
VERSION:2.0
PRODID:-//Adaptive Sports New England - ECPv6.15.20//NONSGML v1.0//EN
CALSCALE:GREGORIAN
METHOD:PUBLISH
X-WR-CALNAME:Adaptive Sports New England
X-ORIGINAL-URL:https://adaptivesportsne.org
X-WR-CALDESC:Events for Adaptive Sports New England
REFRESH-INTERVAL;VALUE=DURATION:PT1H
X-Robots-Tag:noindex
X-PUBLISHED-TTL:PT1H
BEGIN:VTIMEZONE
TZID:America/Halifax
BEGIN:DAYLIGHT
TZOFFSETFROM:-0400
TZOFFSETTO:-0300
TZNAME:ADT
DTSTART:20180311T060000
END:DAYLIGHT
BEGIN:STANDARD
TZOFFSETFROM:-0300
TZOFFSETTO:-0400
TZNAME:AST
DTSTART:20181104T050000
END:STANDARD
BEGIN:DAYLIGHT
TZOFFSETFROM:-0400
TZOFFSETTO:-0300
TZNAME:ADT
DTSTART:20190310T060000
END:DAYLIGHT
BEGIN:STANDARD
TZOFFSETFROM:-0300
TZOFFSETTO:-0400
TZNAME:AST
DTSTART:20191103T050000
END:STANDARD
BEGIN:DAYLIGHT
TZOFFSETFROM:-0400
TZOFFSETTO:-0300
TZNAME:ADT
DTSTART:20200308T060000
END:DAYLIGHT
BEGIN:STANDARD
TZOFFSETFROM:-0300
TZOFFSETTO:-0400
TZNAME:AST
DTSTART:20201101T050000
END:STANDARD
END:VTIMEZONE
BEGIN:VEVENT
DTSTART;VALUE=DATE:20190623
DTEND;VALUE=DATE:20190624
DTSTAMP:20260425T063526
CREATED:20181222T144425Z
LAST-MODIFIED:20190213T180224Z
UID:10003157-1561248000-1561334399@adaptivesportsne.org
SUMMARY:BAA 10K (Boston)
DESCRIPTION:
URL:https://adaptivesportsne.org/event/baa-10k-boston/
LOCATION:Boston Common
CATEGORIES:Track/Running
END:VEVENT
BEGIN:VEVENT
DTSTART;TZID=America/Halifax:20190623T130000
DTEND;TZID=America/Halifax:20190623T143000
DTSTAMP:20260425T063526
CREATED:20190425T125133Z
LAST-MODIFIED:20190425T125133Z
UID:10003216-1561294800-1561300200@adaptivesportsne.org
SUMMARY:PSC Boston Swim Team (Waltham)
DESCRIPTION:
URL:https://adaptivesportsne.org/event/psc-boston-swim-team-waltham/2019-06-23/
LOCATION:Boston Sports Club – Waltham\, 850 Winter Street\, Waltham\, MA\, 02451\, United States
CATEGORIES:Swimming
END:VEVENT
BEGIN:VEVENT
DTSTART;TZID=America/Halifax:20190623T140000
DTEND;TZID=America/Halifax:20190623T153000
DTSTAMP:20260425T063526
CREATED:20181222T143859Z
LAST-MODIFIED:20190404T120114Z
UID:10003155-1561298400-1561303800@adaptivesportsne.org
SUMMARY:Youth WC Basketball (Weston)
DESCRIPTION:
URL:https://adaptivesportsne.org/event/youth-wc-basketball-tbd-2019-05-12/2019-06-23/
LOCATION:Cambridge School of Weston\, 91 Lexington St.\, Weston\, MA\, 02493\, United States
CATEGORIES:WC Basketball
ORGANIZER;CN="Adaptive Sports New England":MAILTO:joe.walsh@adaptivesportsne.org
END:VEVENT
END:VCALENDAR