BEGIN:VCALENDAR
VERSION:2.0
PRODID:-//Adaptive Sports New England - ECPv6.15.20//NONSGML v1.0//EN
CALSCALE:GREGORIAN
METHOD:PUBLISH
X-ORIGINAL-URL:https://adaptivesportsne.org
X-WR-CALDESC:Events for Adaptive Sports New England
REFRESH-INTERVAL;VALUE=DURATION:PT1H
X-Robots-Tag:noindex
X-PUBLISHED-TTL:PT1H
BEGIN:VTIMEZONE
TZID:America/Halifax
BEGIN:DAYLIGHT
TZOFFSETFROM:-0400
TZOFFSETTO:-0300
TZNAME:ADT
DTSTART:20180311T060000
END:DAYLIGHT
BEGIN:STANDARD
TZOFFSETFROM:-0300
TZOFFSETTO:-0400
TZNAME:AST
DTSTART:20181104T050000
END:STANDARD
BEGIN:DAYLIGHT
TZOFFSETFROM:-0400
TZOFFSETTO:-0300
TZNAME:ADT
DTSTART:20190310T060000
END:DAYLIGHT
BEGIN:STANDARD
TZOFFSETFROM:-0300
TZOFFSETTO:-0400
TZNAME:AST
DTSTART:20191103T050000
END:STANDARD
BEGIN:DAYLIGHT
TZOFFSETFROM:-0400
TZOFFSETTO:-0300
TZNAME:ADT
DTSTART:20200308T060000
END:DAYLIGHT
BEGIN:STANDARD
TZOFFSETFROM:-0300
TZOFFSETTO:-0400
TZNAME:AST
DTSTART:20201101T050000
END:STANDARD
END:VTIMEZONE
BEGIN:VEVENT
DTSTART;TZID=America/Halifax:20190913T110000
DTEND;TZID=America/Halifax:20190913T170000
DTSTAMP:20260422T131428
CREATED:20190527T165546Z
LAST-MODIFIED:20190527T165546Z
UID:10001438-1568372400-1568394000@adaptivesportsne.org
SUMMARY:Abilities Expo (Boston)
DESCRIPTION:
URL:https://adaptivesportsne.org/event/abilities-expo-boston-3/2019-09-13/
LOCATION:Boston Convention and Exhibition Center\, 415 Summer Street\, Boston\, MA\, 02210\, United States
CATEGORIES:Special Events
GEO:42.3461949;-71.0456368
X-APPLE-STRUCTURED-LOCATION;VALUE=URI;X-ADDRESS=Boston Convention and Exhibition Center 415 Summer Street Boston MA 02210 United States;X-APPLE-RADIUS=500;X-TITLE=415 Summer Street:geo:-71.0456368,42.3461949
END:VEVENT
END:VCALENDAR