BEGIN:VCALENDAR
VERSION:2.0
PRODID:-//Adaptive Sports New England - ECPv6.15.20//NONSGML v1.0//EN
CALSCALE:GREGORIAN
METHOD:PUBLISH
X-WR-CALNAME:Adaptive Sports New England
X-ORIGINAL-URL:https://adaptivesportsne.org
X-WR-CALDESC:Events for Adaptive Sports New England
REFRESH-INTERVAL;VALUE=DURATION:PT1H
X-Robots-Tag:noindex
X-PUBLISHED-TTL:PT1H
BEGIN:VTIMEZONE
TZID:America/Halifax
BEGIN:DAYLIGHT
TZOFFSETFROM:-0400
TZOFFSETTO:-0300
TZNAME:ADT
DTSTART:20180311T060000
END:DAYLIGHT
BEGIN:STANDARD
TZOFFSETFROM:-0300
TZOFFSETTO:-0400
TZNAME:AST
DTSTART:20181104T050000
END:STANDARD
BEGIN:DAYLIGHT
TZOFFSETFROM:-0400
TZOFFSETTO:-0300
TZNAME:ADT
DTSTART:20190310T060000
END:DAYLIGHT
BEGIN:STANDARD
TZOFFSETFROM:-0300
TZOFFSETTO:-0400
TZNAME:AST
DTSTART:20191103T050000
END:STANDARD
BEGIN:DAYLIGHT
TZOFFSETFROM:-0400
TZOFFSETTO:-0300
TZNAME:ADT
DTSTART:20200308T060000
END:DAYLIGHT
BEGIN:STANDARD
TZOFFSETFROM:-0300
TZOFFSETTO:-0400
TZNAME:AST
DTSTART:20201101T050000
END:STANDARD
END:VTIMEZONE
BEGIN:VEVENT
DTSTART;TZID=America/Halifax:20190916T173000
DTEND;TZID=America/Halifax:20190916T190000
DTSTAMP:20260422T115655
CREATED:20190819T191730Z
LAST-MODIFIED:20190819T191730Z
UID:10001544-1568655000-1568660400@adaptivesportsne.org
SUMMARY:Youth Rowing: Racing - CRI (Boston)
DESCRIPTION:
URL:https://adaptivesportsne.org/event/youth-rowing-racing-cri-boston/2019-09-16/
LOCATION:Harry Parker Boathouse\, 20 Nonantum Road\, Brighton\, MA\, 02135\, United States
CATEGORIES:Rowing
ORGANIZER;CN="Community Rowing%2C Inc.":MAILTO:jenny@communityrowing.org
GEO:42.3587003;-71.1656869
X-APPLE-STRUCTURED-LOCATION;VALUE=URI;X-ADDRESS=Harry Parker Boathouse 20 Nonantum Road Brighton MA 02135 United States;X-APPLE-RADIUS=500;X-TITLE=20 Nonantum Road:geo:-71.1656869,42.3587003
END:VEVENT
BEGIN:VEVENT
DTSTART;TZID=America/Halifax:20190916T173000
DTEND;TZID=America/Halifax:20190916T203000
DTSTAMP:20260422T115655
CREATED:20190529T100620Z
LAST-MODIFIED:20190529T100620Z
UID:10001457-1568655000-1568665800@adaptivesportsne.org
SUMMARY:Wheelchair Tennis - SCWTF (Somerset)
DESCRIPTION:
URL:https://adaptivesportsne.org/event/wheelchair-tennis-scwtf-somerset/2019-09-16/
LOCATION:Somerset/Berkley Regional High School\, 625 County Street\, Somerset\, MA\, 02726\, United States
CATEGORIES:Other Para Sports
ORGANIZER;CN="South Coast Wheelchair Tennis Foundation":MAILTO:thomasd10@aol.com
END:VEVENT
END:VCALENDAR