BEGIN:VCALENDAR
VERSION:2.0
PRODID:-//Adaptive Sports New England - ECPv6.15.20//NONSGML v1.0//EN
CALSCALE:GREGORIAN
METHOD:PUBLISH
X-WR-CALNAME:Adaptive Sports New England
X-ORIGINAL-URL:https://adaptivesportsne.org
X-WR-CALDESC:Events for Adaptive Sports New England
REFRESH-INTERVAL;VALUE=DURATION:PT1H
X-Robots-Tag:noindex
X-PUBLISHED-TTL:PT1H
BEGIN:VTIMEZONE
TZID:America/Halifax
BEGIN:DAYLIGHT
TZOFFSETFROM:-0400
TZOFFSETTO:-0300
TZNAME:ADT
DTSTART:20180311T060000
END:DAYLIGHT
BEGIN:STANDARD
TZOFFSETFROM:-0300
TZOFFSETTO:-0400
TZNAME:AST
DTSTART:20181104T050000
END:STANDARD
BEGIN:DAYLIGHT
TZOFFSETFROM:-0400
TZOFFSETTO:-0300
TZNAME:ADT
DTSTART:20190310T060000
END:DAYLIGHT
BEGIN:STANDARD
TZOFFSETFROM:-0300
TZOFFSETTO:-0400
TZNAME:AST
DTSTART:20191103T050000
END:STANDARD
BEGIN:DAYLIGHT
TZOFFSETFROM:-0400
TZOFFSETTO:-0300
TZNAME:ADT
DTSTART:20200308T060000
END:DAYLIGHT
BEGIN:STANDARD
TZOFFSETFROM:-0300
TZOFFSETTO:-0400
TZNAME:AST
DTSTART:20201101T050000
END:STANDARD
END:VTIMEZONE
BEGIN:VEVENT
DTSTART;TZID=America/Halifax:20190918T110000
DTEND;TZID=America/Halifax:20190918T150000
DTSTAMP:20260422T115657
CREATED:20190620T145354Z
LAST-MODIFIED:20190620T145354Z
UID:10003263-1568804400-1568818800@adaptivesportsne.org
SUMMARY:Cycle DCR (Brighton)
DESCRIPTION:
URL:https://adaptivesportsne.org/event/cycle-dcr-brighton-2/
LOCATION:Artesani Park\, 1234 Soldier's Field Road\, Brighton\, MA\, 02135\, United States
CATEGORIES:Other Para Sports
ORGANIZER;CN="MA DCR Universal Access Program":MAILTO:marcy.marchello@state.ma.gov
GEO:42.3640587;-71.1364589
X-APPLE-STRUCTURED-LOCATION;VALUE=URI;X-ADDRESS=Artesani Park 1234 Soldier's Field Road Brighton MA 02135 United States;X-APPLE-RADIUS=500;X-TITLE=1234 Soldier's Field Road:geo:-71.1364589,42.3640587
END:VEVENT
BEGIN:VEVENT
DTSTART;TZID=America/Halifax:20190918T130000
DTEND;TZID=America/Halifax:20190918T143000
DTSTAMP:20260422T115657
CREATED:20171214T174630Z
LAST-MODIFIED:20171214T174737Z
UID:10000789-1568811600-1568817000@adaptivesportsne.org
SUMMARY:Ice Skating - NEP (Portsmouth)
DESCRIPTION:Call 603-862-0070 or email email hidden; JavaScript is required.
URL:https://adaptivesportsne.org/event/ice-skating-nep-portsmouth/2019-09-18/
LOCATION:Puddle Dock Pond\, 14 Hancock St\, Portsmouth\, NH\, 03801\, United States
ORGANIZER;CN="Northeast Passage":MAILTO:northeast.passage@unh.edu
GEO:43.0750914;-70.7530756
X-APPLE-STRUCTURED-LOCATION;VALUE=URI;X-ADDRESS=Puddle Dock Pond 14 Hancock St Portsmouth NH 03801 United States;X-APPLE-RADIUS=500;X-TITLE=14 Hancock St:geo:-70.7530756,43.0750914
END:VEVENT
BEGIN:VEVENT
DTSTART;TZID=America/Halifax:20190918T170000
DTEND;TZID=America/Halifax:20190918T190000
DTSTAMP:20260422T115657
CREATED:20190509T185307Z
LAST-MODIFIED:20190509T185756Z
UID:10003242-1568826000-1568833200@adaptivesportsne.org
SUMMARY:Cycling Club - SASC (Sandwich)
DESCRIPTION:
URL:https://adaptivesportsne.org/event/cycling-club-sasc-sandwich/2019-09-18/
LOCATION:Cape Cod Canal Trail\, Sandwich\, MA\, United States
CATEGORIES:Non-Competitive Recreation
ORGANIZER;CN="Spaulding Adaptive Sports Centers":MAILTO:scarper@partners.org
GEO:41.7589615;-70.4939317
END:VEVENT
BEGIN:VEVENT
DTSTART;TZID=America/Halifax:20190918T170000
DTEND;TZID=America/Halifax:20190918T190000
DTSTAMP:20260422T115657
CREATED:20190910T001004Z
LAST-MODIFIED:20190910T001004Z
UID:10003305-1568826000-1568833200@adaptivesportsne.org
SUMMARY:Court Sports - NEP (Durham)
DESCRIPTION:
URL:https://adaptivesportsne.org/event/court-sports-nep-durham-2/2019-09-18/
LOCATION:UNH Hamel Recreation Center\, Durham\, NH\, United States
CATEGORIES:Non-Competitive Recreation
ORGANIZER;CN="Northeast Passage":MAILTO:northeast.passage@unh.edu
END:VEVENT
END:VCALENDAR