BEGIN:VCALENDAR
VERSION:2.0
PRODID:-//Adaptive Sports New England - ECPv6.15.20//NONSGML v1.0//EN
CALSCALE:GREGORIAN
METHOD:PUBLISH
X-ORIGINAL-URL:https://adaptivesportsne.org
X-WR-CALDESC:Events for Adaptive Sports New England
REFRESH-INTERVAL;VALUE=DURATION:PT1H
X-Robots-Tag:noindex
X-PUBLISHED-TTL:PT1H
BEGIN:VTIMEZONE
TZID:America/Halifax
BEGIN:DAYLIGHT
TZOFFSETFROM:-0400
TZOFFSETTO:-0300
TZNAME:ADT
DTSTART:20180311T060000
END:DAYLIGHT
BEGIN:STANDARD
TZOFFSETFROM:-0300
TZOFFSETTO:-0400
TZNAME:AST
DTSTART:20181104T050000
END:STANDARD
BEGIN:DAYLIGHT
TZOFFSETFROM:-0400
TZOFFSETTO:-0300
TZNAME:ADT
DTSTART:20190310T060000
END:DAYLIGHT
BEGIN:STANDARD
TZOFFSETFROM:-0300
TZOFFSETTO:-0400
TZNAME:AST
DTSTART:20191103T050000
END:STANDARD
BEGIN:DAYLIGHT
TZOFFSETFROM:-0400
TZOFFSETTO:-0300
TZNAME:ADT
DTSTART:20200308T060000
END:DAYLIGHT
BEGIN:STANDARD
TZOFFSETFROM:-0300
TZOFFSETTO:-0400
TZNAME:AST
DTSTART:20201101T050000
END:STANDARD
END:VTIMEZONE
BEGIN:VEVENT
DTSTART;TZID=America/Halifax:20191102T100000
DTEND;TZID=America/Halifax:20191102T230000
DTSTAMP:20260423T112234
CREATED:20190817T134850Z
LAST-MODIFIED:20190817T135041Z
UID:10001500-1572688800-1572735600@adaptivesportsne.org
SUMMARY:Running for Blind/VI - ASNE (Boston)
DESCRIPTION:Run training for the Camp Harbor View 5K on November 16.  For youth who are blind or visually impaired who have typical cognitive and behavioral development. Outdoor training on 10/26 and 11/9.
URL:https://adaptivesportsne.org/event/running-for-blind-vi-asne-boston/2019-11-02/
LOCATION:Reggie Lewis Track and Athletic Center\, 1350 Tremont St.\, Boston\, MA\, 02120\, United States
CATEGORIES:Track/Running
ORGANIZER;CN="Adaptive Sports New England":MAILTO:joe.walsh@adaptivesportsne.org
GEO:42.332043;-71.092873
X-APPLE-STRUCTURED-LOCATION;VALUE=URI;X-ADDRESS=Reggie Lewis Track and Athletic Center 1350 Tremont St. Boston MA 02120 United States;X-APPLE-RADIUS=500;X-TITLE=1350 Tremont St.:geo:-71.092873,42.332043
END:VEVENT
BEGIN:VEVENT
DTSTART;TZID=America/Halifax:20191102T133000
DTEND;TZID=America/Halifax:20191102T150000
DTSTAMP:20260423T112234
CREATED:20190819T191218Z
LAST-MODIFIED:20190819T191218Z
UID:10001538-1572701400-1572706800@adaptivesportsne.org
SUMMARY:Teen Para Rowing - CRI (Boston)
DESCRIPTION:
URL:https://adaptivesportsne.org/event/teen-para-rowing-cri-boston-2/2019-11-02/
LOCATION:Harry Parker Boathouse\, 20 Nonantum Road\, Brighton\, MA\, 02135\, United States
CATEGORIES:Rowing
ORGANIZER;CN="Community Rowing%2C Inc.":MAILTO:jenny@communityrowing.org
GEO:42.3587003;-71.1656869
X-APPLE-STRUCTURED-LOCATION;VALUE=URI;X-ADDRESS=Harry Parker Boathouse 20 Nonantum Road Brighton MA 02135 United States;X-APPLE-RADIUS=500;X-TITLE=20 Nonantum Road:geo:-71.1656869,42.3587003
END:VEVENT
END:VCALENDAR