BEGIN:VCALENDAR
VERSION:2.0
PRODID:-//Adaptive Sports New England - ECPv6.15.20//NONSGML v1.0//EN
CALSCALE:GREGORIAN
METHOD:PUBLISH
X-WR-CALNAME:Adaptive Sports New England
X-ORIGINAL-URL:https://adaptivesportsne.org
X-WR-CALDESC:Events for Adaptive Sports New England
REFRESH-INTERVAL;VALUE=DURATION:PT1H
X-Robots-Tag:noindex
X-PUBLISHED-TTL:PT1H
BEGIN:VTIMEZONE
TZID:America/Halifax
BEGIN:DAYLIGHT
TZOFFSETFROM:-0400
TZOFFSETTO:-0300
TZNAME:ADT
DTSTART:20180311T060000
END:DAYLIGHT
BEGIN:STANDARD
TZOFFSETFROM:-0300
TZOFFSETTO:-0400
TZNAME:AST
DTSTART:20181104T050000
END:STANDARD
BEGIN:DAYLIGHT
TZOFFSETFROM:-0400
TZOFFSETTO:-0300
TZNAME:ADT
DTSTART:20190310T060000
END:DAYLIGHT
BEGIN:STANDARD
TZOFFSETFROM:-0300
TZOFFSETTO:-0400
TZNAME:AST
DTSTART:20191103T050000
END:STANDARD
BEGIN:DAYLIGHT
TZOFFSETFROM:-0400
TZOFFSETTO:-0300
TZNAME:ADT
DTSTART:20200308T060000
END:DAYLIGHT
BEGIN:STANDARD
TZOFFSETFROM:-0300
TZOFFSETTO:-0400
TZNAME:AST
DTSTART:20201101T050000
END:STANDARD
END:VTIMEZONE
BEGIN:VEVENT
DTSTART;TZID=America/Halifax:20191117T120000
DTEND;TZID=America/Halifax:20191117T140000
DTSTAMP:20260423T055728
CREATED:20191024T142634Z
LAST-MODIFIED:20191024T142634Z
UID:10003328-1573992000-1573999200@adaptivesportsne.org
SUMMARY:Sled Hockey - SASC (Everett)
DESCRIPTION:
URL:https://adaptivesportsne.org/event/sled-hockey-sasc-everett-9/2019-11-17/
LOCATION:Allied Veterans Memorial Rink\, 65 Elm Street\, Everett\, MA\, United States
CATEGORIES:Sled Hockey
ORGANIZER;CN="Spaulding Adaptive Sports Centers":MAILTO:scarper@partners.org
GEO:42.4129126;-71.0445725
X-APPLE-STRUCTURED-LOCATION;VALUE=URI;X-ADDRESS=Allied Veterans Memorial Rink 65 Elm Street Everett MA United States;X-APPLE-RADIUS=500;X-TITLE=65 Elm Street:geo:-71.0445725,42.4129126
END:VEVENT
BEGIN:VEVENT
DTSTART;TZID=America/Halifax:20191117T123000
DTEND;TZID=America/Halifax:20191117T140000
DTSTAMP:20260423T055728
CREATED:20190817T132849Z
LAST-MODIFIED:20190923T162019Z
UID:10001482-1573993800-1573999200@adaptivesportsne.org
SUMMARY:Youth Wheelchair BBL-ASNE (Canton)
DESCRIPTION:For youth ages up to 23 with good use of both arms/hands and typical cognitive & behavioral development. All abilities welcome including novices.
URL:https://adaptivesportsne.org/event/youth-wheelchair-basketball-asne-canton-2019-10-06/2019-11-17/
LOCATION:Pappas Rehabilitation Hospital for Children\, 3 Randolph St\, Canton\, MA\, United States
CATEGORIES:WC Basketball
ORGANIZER;CN="Adaptive Sports New England":MAILTO:joe.walsh@adaptivesportsne.org
GEO:42.1777521;-71.1247439
X-APPLE-STRUCTURED-LOCATION;VALUE=URI;X-ADDRESS=Pappas Rehabilitation Hospital for Children 3 Randolph St Canton MA United States;X-APPLE-RADIUS=500;X-TITLE=3 Randolph St:geo:-71.1247439,42.1777521
END:VEVENT
BEGIN:VEVENT
DTSTART;TZID=America/Halifax:20191117T123000
DTEND;TZID=America/Halifax:20191117T140000
DTSTAMP:20260423T055728
CREATED:20190817T142007Z
LAST-MODIFIED:20200513T144921Z
UID:10001510-1573993800-1573999200@adaptivesportsne.org
SUMMARY:PSC Boston Swim Team - (Wellesley)
DESCRIPTION:
URL:https://adaptivesportsne.org/event/psc-boston-swim-team-asne-tbd-2/2019-11-17/
LOCATION:Wellesley College Keohane Sports Center\, 106 Central Street\, Wellesley\, MA\, 02481\, United States
CATEGORIES:Swimming
ORGANIZER;CN="Adaptive Sports New England":MAILTO:joe.walsh@adaptivesportsne.org
GEO:42.2930684;-71.3085829
X-APPLE-STRUCTURED-LOCATION;VALUE=URI;X-ADDRESS=Wellesley College Keohane Sports Center 106 Central Street Wellesley MA 02481 United States;X-APPLE-RADIUS=500;X-TITLE=106 Central Street:geo:-71.3085829,42.2930684
END:VEVENT
BEGIN:VEVENT
DTSTART;TZID=America/Halifax:20191117T140000
DTEND;TZID=America/Halifax:20191117T153000
DTSTAMP:20260423T055728
CREATED:20190817T133725Z
LAST-MODIFIED:20190923T161931Z
UID:10001491-1573999200-1574004600@adaptivesportsne.org
SUMMARY:Para Sport Games - ASNE (Canton)
DESCRIPTION:For youth with hemiplegia ages 7-18 who have typical cognitive and behavioral development.  We will play a variety of games such as whiffle ball\, soccer\, and basketball.
URL:https://adaptivesportsne.org/event/para-sport-games-asne-canton-2019-10-06/2019-11-17/
LOCATION:Pappas Rehabilitation Hospital for Children\, 3 Randolph St\, Canton\, MA\, United States
CATEGORIES:Other Para Sports
ORGANIZER;CN="Adaptive Sports New England":MAILTO:joe.walsh@adaptivesportsne.org
GEO:42.1777521;-71.1247439
X-APPLE-STRUCTURED-LOCATION;VALUE=URI;X-ADDRESS=Pappas Rehabilitation Hospital for Children 3 Randolph St Canton MA United States;X-APPLE-RADIUS=500;X-TITLE=3 Randolph St:geo:-71.1247439,42.1777521
END:VEVENT
BEGIN:VEVENT
DTSTART;TZID=America/Halifax:20191117T153000
DTEND;TZID=America/Halifax:20191117T180000
DTSTAMP:20260423T055728
CREATED:20190817T131811Z
LAST-MODIFIED:20200513T144647Z
UID:10003289-1574004600-1574013600@adaptivesportsne.org
SUMMARY:Swim Lessons - SSYMCA (Quincy)
DESCRIPTION:1 to 1 45-minute lessons for youth with visual or mobility impairments who have typical cognitive and behavioral development.
URL:https://adaptivesportsne.org/event/youth-swim-lessons-ssymca-quincy-5/2019-11-17/
LOCATION:South Shore YMCA – Quincy\, 79 Coddington St\, Quincy \, MA\, 02169\, United States
CATEGORIES:Swimming
ORGANIZER;CN="Adaptive Sports New England":MAILTO:joe.walsh@adaptivesportsne.org
GEO:42.252978;-70.997083
X-APPLE-STRUCTURED-LOCATION;VALUE=URI;X-ADDRESS=South Shore YMCA – Quincy 79 Coddington St Quincy  MA 02169 United States;X-APPLE-RADIUS=500;X-TITLE=79 Coddington St:geo:-70.997083,42.252978
END:VEVENT
END:VCALENDAR