BEGIN:VCALENDAR
VERSION:2.0
PRODID:-//Adaptive Sports New England - ECPv6.15.20//NONSGML v1.0//EN
CALSCALE:GREGORIAN
METHOD:PUBLISH
X-ORIGINAL-URL:https://adaptivesportsne.org
X-WR-CALDESC:Events for Adaptive Sports New England
REFRESH-INTERVAL;VALUE=DURATION:PT1H
X-Robots-Tag:noindex
X-PUBLISHED-TTL:PT1H
BEGIN:VTIMEZONE
TZID:America/Halifax
BEGIN:DAYLIGHT
TZOFFSETFROM:-0400
TZOFFSETTO:-0300
TZNAME:ADT
DTSTART:20190310T060000
END:DAYLIGHT
BEGIN:STANDARD
TZOFFSETFROM:-0300
TZOFFSETTO:-0400
TZNAME:AST
DTSTART:20191103T050000
END:STANDARD
BEGIN:DAYLIGHT
TZOFFSETFROM:-0400
TZOFFSETTO:-0300
TZNAME:ADT
DTSTART:20200308T060000
END:DAYLIGHT
BEGIN:STANDARD
TZOFFSETFROM:-0300
TZOFFSETTO:-0400
TZNAME:AST
DTSTART:20201101T050000
END:STANDARD
BEGIN:DAYLIGHT
TZOFFSETFROM:-0400
TZOFFSETTO:-0300
TZNAME:ADT
DTSTART:20210314T060000
END:DAYLIGHT
BEGIN:STANDARD
TZOFFSETFROM:-0300
TZOFFSETTO:-0400
TZNAME:AST
DTSTART:20211107T050000
END:STANDARD
END:VTIMEZONE
BEGIN:VEVENT
DTSTART;TZID=America/Halifax:20200611T190000
DTEND;TZID=America/Halifax:20200611T200000
DTSTAMP:20260422T215319
CREATED:20200530T181646Z
LAST-MODIFIED:20200530T181646Z
UID:10001604-1591902000-1591905600@adaptivesportsne.org
SUMMARY:Training for Tokyo - Online Athlete Forum
DESCRIPTION:Featuring Team USA athletes Femita Ayanbeku (Track & Field)\, Chaz Davis (Track & Field)\, Allie Reilly (Rowing) and Leanne Smith (Swimming).
URL:https://adaptivesportsne.org/event/training-for-tokyo-online-athlete-forum/
LOCATION:MA
CATEGORIES:Special Events
ORGANIZER;CN="Adaptive Sports New England":MAILTO:joe.walsh@adaptivesportsne.org
END:VEVENT
END:VCALENDAR