BEGIN:VCALENDAR
VERSION:2.0
PRODID:-//Adaptive Sports New England - ECPv6.15.20//NONSGML v1.0//EN
CALSCALE:GREGORIAN
METHOD:PUBLISH
X-WR-CALNAME:Adaptive Sports New England
X-ORIGINAL-URL:https://adaptivesportsne.org
X-WR-CALDESC:Events for Adaptive Sports New England
REFRESH-INTERVAL;VALUE=DURATION:PT1H
X-Robots-Tag:noindex
X-PUBLISHED-TTL:PT1H
BEGIN:VTIMEZONE
TZID:America/Halifax
BEGIN:DAYLIGHT
TZOFFSETFROM:-0400
TZOFFSETTO:-0300
TZNAME:ADT
DTSTART:20190310T060000
END:DAYLIGHT
BEGIN:STANDARD
TZOFFSETFROM:-0300
TZOFFSETTO:-0400
TZNAME:AST
DTSTART:20191103T050000
END:STANDARD
BEGIN:DAYLIGHT
TZOFFSETFROM:-0400
TZOFFSETTO:-0300
TZNAME:ADT
DTSTART:20200308T060000
END:DAYLIGHT
BEGIN:STANDARD
TZOFFSETFROM:-0300
TZOFFSETTO:-0400
TZNAME:AST
DTSTART:20201101T050000
END:STANDARD
BEGIN:DAYLIGHT
TZOFFSETFROM:-0400
TZOFFSETTO:-0300
TZNAME:ADT
DTSTART:20210314T060000
END:DAYLIGHT
BEGIN:STANDARD
TZOFFSETFROM:-0300
TZOFFSETTO:-0400
TZNAME:AST
DTSTART:20211107T050000
END:STANDARD
END:VTIMEZONE
BEGIN:VEVENT
DTSTART;TZID=America/Halifax:20201010T080000
DTEND;TZID=America/Halifax:20201010T093000
DTSTAMP:20260424T113613
CREATED:20200913T175412Z
LAST-MODIFIED:20200913T175412Z
UID:10001697-1602316800-1602322200@adaptivesportsne.org
SUMMARY:Wheelchair Track - ASNE (Boston)
DESCRIPTION:
URL:https://adaptivesportsne.org/event/wheelchair-track-asne-boston/2020-10-10/
LOCATION:Harvard University Athletic Complex\, 65 North Harvard Street\, Boston\, MA\, 02163\, United States
CATEGORIES:Track/Running
ORGANIZER;CN="Adaptive Sports New England":MAILTO:joe.walsh@adaptivesportsne.org
GEO:42.3677007;-71.127811
X-APPLE-STRUCTURED-LOCATION;VALUE=URI;X-ADDRESS=Harvard University Athletic Complex 65 North Harvard Street Boston MA 02163 United States;X-APPLE-RADIUS=500;X-TITLE=65 North Harvard Street:geo:-71.127811,42.3677007
END:VEVENT
END:VCALENDAR