BEGIN:VCALENDAR
VERSION:2.0
PRODID:-//Adaptive Sports New England - ECPv6.15.20//NONSGML v1.0//EN
CALSCALE:GREGORIAN
METHOD:PUBLISH
X-ORIGINAL-URL:https://adaptivesportsne.org
X-WR-CALDESC:Events for Adaptive Sports New England
REFRESH-INTERVAL;VALUE=DURATION:PT1H
X-Robots-Tag:noindex
X-PUBLISHED-TTL:PT1H
BEGIN:VTIMEZONE
TZID:America/Halifax
BEGIN:DAYLIGHT
TZOFFSETFROM:-0400
TZOFFSETTO:-0300
TZNAME:ADT
DTSTART:20190310T060000
END:DAYLIGHT
BEGIN:STANDARD
TZOFFSETFROM:-0300
TZOFFSETTO:-0400
TZNAME:AST
DTSTART:20191103T050000
END:STANDARD
BEGIN:DAYLIGHT
TZOFFSETFROM:-0400
TZOFFSETTO:-0300
TZNAME:ADT
DTSTART:20200308T060000
END:DAYLIGHT
BEGIN:STANDARD
TZOFFSETFROM:-0300
TZOFFSETTO:-0400
TZNAME:AST
DTSTART:20201101T050000
END:STANDARD
BEGIN:DAYLIGHT
TZOFFSETFROM:-0400
TZOFFSETTO:-0300
TZNAME:ADT
DTSTART:20210314T060000
END:DAYLIGHT
BEGIN:STANDARD
TZOFFSETFROM:-0300
TZOFFSETTO:-0400
TZNAME:AST
DTSTART:20211107T050000
END:STANDARD
END:VTIMEZONE
BEGIN:VEVENT
DTSTART;TZID=America/Halifax:20201111T130000
DTEND;TZID=America/Halifax:20201111T143000
DTSTAMP:20260424T230149
CREATED:20171214T174630Z
LAST-MODIFIED:20171214T174737Z
UID:10000849-1605099600-1605105000@adaptivesportsne.org
SUMMARY:Ice Skating - NEP (Portsmouth)
DESCRIPTION:Call 603-862-0070 or email email hidden; JavaScript is required.
URL:https://adaptivesportsne.org/event/ice-skating-nep-portsmouth/2020-11-11/
LOCATION:Puddle Dock Pond\, 14 Hancock St\, Portsmouth\, NH\, 03801\, United States
ORGANIZER;CN="Northeast Passage":MAILTO:northeast.passage@unh.edu
GEO:43.0750914;-70.7530756
X-APPLE-STRUCTURED-LOCATION;VALUE=URI;X-ADDRESS=Puddle Dock Pond 14 Hancock St Portsmouth NH 03801 United States;X-APPLE-RADIUS=500;X-TITLE=14 Hancock St:geo:-70.7530756,43.0750914
END:VEVENT
BEGIN:VEVENT
DTSTART;TZID=America/Halifax:20201111T170000
DTEND;TZID=America/Halifax:20201111T180000
DTSTAMP:20260424T230149
CREATED:20201103T223550Z
LAST-MODIFIED:20201106T182017Z
UID:10003539-1605114000-1605117600@adaptivesportsne.org
SUMMARY:Indoor Cycling- SASC (Cape Cod)
DESCRIPTION:
URL:https://adaptivesportsne.org/event/indoor-cycling-10/2020-11-11/
LOCATION:Spaulding Cape Cod\, 311 Service Road\,\, Sandwich\, MA\, United States
CATEGORIES:Non-Competitive Recreation
ORGANIZER;CN="Spaulding Adaptive Sports Centers":MAILTO:scarper@partners.org
GEO:41.728451;-70.470069
X-APPLE-STRUCTURED-LOCATION;VALUE=URI;X-ADDRESS=Spaulding Cape Cod 311 Service Road Sandwich MA United States;X-APPLE-RADIUS=500;X-TITLE=311 Service Road\,:geo:-70.470069,41.728451
END:VEVENT
END:VCALENDAR