BEGIN:VCALENDAR
VERSION:2.0
PRODID:-//Adaptive Sports New England - ECPv6.15.20//NONSGML v1.0//EN
CALSCALE:GREGORIAN
METHOD:PUBLISH
X-ORIGINAL-URL:https://adaptivesportsne.org
X-WR-CALDESC:Events for Adaptive Sports New England
REFRESH-INTERVAL;VALUE=DURATION:PT1H
X-Robots-Tag:noindex
X-PUBLISHED-TTL:PT1H
BEGIN:VTIMEZONE
TZID:America/Halifax
BEGIN:DAYLIGHT
TZOFFSETFROM:-0400
TZOFFSETTO:-0300
TZNAME:ADT
DTSTART:20190310T060000
END:DAYLIGHT
BEGIN:STANDARD
TZOFFSETFROM:-0300
TZOFFSETTO:-0400
TZNAME:AST
DTSTART:20191103T050000
END:STANDARD
BEGIN:DAYLIGHT
TZOFFSETFROM:-0400
TZOFFSETTO:-0300
TZNAME:ADT
DTSTART:20200308T060000
END:DAYLIGHT
BEGIN:STANDARD
TZOFFSETFROM:-0300
TZOFFSETTO:-0400
TZNAME:AST
DTSTART:20201101T050000
END:STANDARD
BEGIN:DAYLIGHT
TZOFFSETFROM:-0400
TZOFFSETTO:-0300
TZNAME:ADT
DTSTART:20210314T060000
END:DAYLIGHT
BEGIN:STANDARD
TZOFFSETFROM:-0300
TZOFFSETTO:-0400
TZNAME:AST
DTSTART:20211107T050000
END:STANDARD
END:VTIMEZONE
BEGIN:VEVENT
DTSTART;TZID=America/Halifax:20201117T090000
DTEND;TZID=America/Halifax:20201117T143000
DTSTAMP:20260424T214202
CREATED:20201103T220341Z
LAST-MODIFIED:20201106T181042Z
UID:10001720-1605603600-1605623400@adaptivesportsne.org
SUMMARY:Indoor Cycling- SASC (Wilmington)
DESCRIPTION:Sessions run: \n9:00am-10:00am \n11:30am-12:30pm \n1:30pm-2:30pm
URL:https://adaptivesportsne.org/event/indoor-cycling-3/2020-11-17/
LOCATION:Ristuccia Arena\, 190 Main Street\, Wilmington\, MA\, 01887\, United States
CATEGORIES:Non-Competitive Recreation
ORGANIZER;CN="Spaulding Adaptive Sports Centers":MAILTO:scarper@partners.org
GEO:42.5587613;-71.182155
X-APPLE-STRUCTURED-LOCATION;VALUE=URI;X-ADDRESS=Ristuccia Arena 190 Main Street Wilmington MA 01887 United States;X-APPLE-RADIUS=500;X-TITLE=190 Main Street:geo:-71.182155,42.5587613
END:VEVENT
BEGIN:VEVENT
DTSTART;TZID=America/Halifax:20201117T100000
DTEND;TZID=America/Halifax:20201117T110000
DTSTAMP:20260424T214202
CREATED:20201103T220829Z
LAST-MODIFIED:20201106T181436Z
UID:10001725-1605607200-1605610800@adaptivesportsne.org
SUMMARY:Indoor Cycling- SASC (Quincy)
DESCRIPTION:  \n 
URL:https://adaptivesportsne.org/event/indoor-cycling-4/2020-11-17/
LOCATION:South Shore YMCA – Quincy\, 79 Coddington St\, Quincy \, MA\, 02169\, United States
CATEGORIES:Non-Competitive Recreation
ORGANIZER;CN="Spaulding Adaptive Sports Centers":MAILTO:scarper@partners.org
GEO:42.252978;-70.997083
X-APPLE-STRUCTURED-LOCATION;VALUE=URI;X-ADDRESS=South Shore YMCA – Quincy 79 Coddington St Quincy  MA 02169 United States;X-APPLE-RADIUS=500;X-TITLE=79 Coddington St:geo:-70.997083,42.252978
END:VEVENT
BEGIN:VEVENT
DTSTART;TZID=America/Halifax:20201117T123000
DTEND;TZID=America/Halifax:20201117T133000
DTSTAMP:20260424T214202
CREATED:20201106T181836Z
LAST-MODIFIED:20201106T181837Z
UID:10003550-1605616200-1605619800@adaptivesportsne.org
SUMMARY:Indoor Open Swing Golf- SASC (Quincy)
DESCRIPTION:
URL:https://adaptivesportsne.org/event/indoor-open-swing-golf-sasc-quincy/2020-11-17/
LOCATION:South Shore YMCA – Quincy\, 79 Coddington St\, Quincy \, MA\, 02169\, United States
CATEGORIES:Other Para Sports
ORGANIZER;CN="Spaulding Adaptive Sports Centers":MAILTO:scarper@partners.org
GEO:42.252978;-70.997083
X-APPLE-STRUCTURED-LOCATION;VALUE=URI;X-ADDRESS=South Shore YMCA – Quincy 79 Coddington St Quincy  MA 02169 United States;X-APPLE-RADIUS=500;X-TITLE=79 Coddington St:geo:-70.997083,42.252978
END:VEVENT
END:VCALENDAR