BEGIN:VCALENDAR
VERSION:2.0
PRODID:-//Adaptive Sports New England - ECPv6.15.20//NONSGML v1.0//EN
CALSCALE:GREGORIAN
METHOD:PUBLISH
X-ORIGINAL-URL:https://adaptivesportsne.org
X-WR-CALDESC:Events for Adaptive Sports New England
REFRESH-INTERVAL;VALUE=DURATION:PT1H
X-Robots-Tag:noindex
X-PUBLISHED-TTL:PT1H
BEGIN:VTIMEZONE
TZID:America/Halifax
BEGIN:DAYLIGHT
TZOFFSETFROM:-0400
TZOFFSETTO:-0300
TZNAME:ADT
DTSTART:20200308T060000
END:DAYLIGHT
BEGIN:STANDARD
TZOFFSETFROM:-0300
TZOFFSETTO:-0400
TZNAME:AST
DTSTART:20201101T050000
END:STANDARD
BEGIN:DAYLIGHT
TZOFFSETFROM:-0400
TZOFFSETTO:-0300
TZNAME:ADT
DTSTART:20210314T060000
END:DAYLIGHT
BEGIN:STANDARD
TZOFFSETFROM:-0300
TZOFFSETTO:-0400
TZNAME:AST
DTSTART:20211107T050000
END:STANDARD
BEGIN:DAYLIGHT
TZOFFSETFROM:-0400
TZOFFSETTO:-0300
TZNAME:ADT
DTSTART:20220313T060000
END:DAYLIGHT
BEGIN:STANDARD
TZOFFSETFROM:-0300
TZOFFSETTO:-0400
TZNAME:AST
DTSTART:20221106T050000
END:STANDARD
END:VTIMEZONE
BEGIN:VEVENT
DTSTART;TZID=America/Halifax:20210307T110000
DTEND;TZID=America/Halifax:20210307T130000
DTSTAMP:20260421T110220
CREATED:20210104T202108Z
LAST-MODIFIED:20210105T145158Z
UID:10003554-1615114800-1615122000@adaptivesportsne.org
SUMMARY:Wheelchair Tennis - SCWTF (Hanover)
DESCRIPTION:
URL:https://adaptivesportsne.org/event/wheelchair-tennis-clinic-ymca-quincy/2021-03-07/
LOCATION:Emilson YMCA\, 75 Mill Street\, Hanover\, MA\, 02339\, United States
CATEGORIES:Other Para Sports
ORGANIZER;CN="South Coast Wheelchair Tennis Foundation":MAILTO:thomasd10@aol.com
GEO:42.1406659;-70.8394957
X-APPLE-STRUCTURED-LOCATION;VALUE=URI;X-ADDRESS=Emilson YMCA 75 Mill Street Hanover MA 02339 United States;X-APPLE-RADIUS=500;X-TITLE=75 Mill Street:geo:-70.8394957,42.1406659
END:VEVENT
BEGIN:VEVENT
DTSTART;TZID=America/Halifax:20210307T113000
DTEND;TZID=America/Halifax:20210307T132000
DTSTAMP:20260421T110220
CREATED:20210304T191907Z
LAST-MODIFIED:20210304T192814Z
UID:10003597-1615116600-1615123200@adaptivesportsne.org
SUMMARY:Sled Hockey- SASC (Everett)
DESCRIPTION:
URL:https://adaptivesportsne.org/event/sled-hockey-sasc-everett-ma/2021-03-07/
LOCATION:Allied Veterans Memorial Rink\, 65 Elm Street\, Everett\, MA\, United States
CATEGORIES:Sled Hockey
ORGANIZER;CN="Spaulding Adaptive Sports Centers":MAILTO:scarper@partners.org
GEO:42.4129126;-71.0445725
X-APPLE-STRUCTURED-LOCATION;VALUE=URI;X-ADDRESS=Allied Veterans Memorial Rink 65 Elm Street Everett MA United States;X-APPLE-RADIUS=500;X-TITLE=65 Elm Street:geo:-71.0445725,42.4129126
END:VEVENT
BEGIN:VEVENT
DTSTART;TZID=America/Halifax:20210307T141500
DTEND;TZID=America/Halifax:20210307T154500
DTSTAMP:20260421T110220
CREATED:20210105T150429Z
LAST-MODIFIED:20210515T124555Z
UID:10003577-1615126500-1615131900@adaptivesportsne.org
SUMMARY:Swim Team - ASNE (Wellesley)
DESCRIPTION:
URL:https://adaptivesportsne.org/event/swim-team-asne-wellesley-3/2021-03-07/
LOCATION:Wellesley Sports Center\, 900 Worcester St\, Wellesley\, MA\, 02482\, United States
CATEGORIES:Swimming
ORGANIZER;CN="Adaptive Sports New England":MAILTO:joe.walsh@adaptivesportsne.org
END:VEVENT
END:VCALENDAR