BEGIN:VCALENDAR
VERSION:2.0
PRODID:-//Adaptive Sports New England - ECPv6.15.20//NONSGML v1.0//EN
CALSCALE:GREGORIAN
METHOD:PUBLISH
X-ORIGINAL-URL:https://adaptivesportsne.org
X-WR-CALDESC:Events for Adaptive Sports New England
REFRESH-INTERVAL;VALUE=DURATION:PT1H
X-Robots-Tag:noindex
X-PUBLISHED-TTL:PT1H
BEGIN:VTIMEZONE
TZID:America/Halifax
BEGIN:DAYLIGHT
TZOFFSETFROM:-0400
TZOFFSETTO:-0300
TZNAME:ADT
DTSTART:20200308T060000
END:DAYLIGHT
BEGIN:STANDARD
TZOFFSETFROM:-0300
TZOFFSETTO:-0400
TZNAME:AST
DTSTART:20201101T050000
END:STANDARD
BEGIN:DAYLIGHT
TZOFFSETFROM:-0400
TZOFFSETTO:-0300
TZNAME:ADT
DTSTART:20210314T060000
END:DAYLIGHT
BEGIN:STANDARD
TZOFFSETFROM:-0300
TZOFFSETTO:-0400
TZNAME:AST
DTSTART:20211107T050000
END:STANDARD
BEGIN:DAYLIGHT
TZOFFSETFROM:-0400
TZOFFSETTO:-0300
TZNAME:ADT
DTSTART:20220313T060000
END:DAYLIGHT
BEGIN:STANDARD
TZOFFSETFROM:-0300
TZOFFSETTO:-0400
TZNAME:AST
DTSTART:20221106T050000
END:STANDARD
END:VTIMEZONE
BEGIN:VEVENT
DTSTART;VALUE=DATE:20210515
DTEND;VALUE=DATE:20210516
DTSTAMP:20260421T135952
CREATED:20210412T161127Z
LAST-MODIFIED:20210412T161127Z
UID:10003615-1621036800-1621123199@adaptivesportsne.org
SUMMARY:Outdoor Climbing - SASC (Quincy)
DESCRIPTION:Contact organizer for more details
URL:https://adaptivesportsne.org/event/outdoor-climbing-sasc-quincy-2/2021-05-15/
LOCATION:Quincy Quarries\, Quincy\, MA\, United States
CATEGORIES:Non-Competitive Recreation
ORGANIZER;CN="Spaulding Adaptive Sports Centers":MAILTO:scarper@partners.org
GEO:42.2528772;-71.0022705
END:VEVENT
BEGIN:VEVENT
DTSTART;TZID=America/Halifax:20210515T123000
DTEND;TZID=America/Halifax:20210515T150000
DTSTAMP:20260421T135952
CREATED:20210515T122259Z
LAST-MODIFIED:20210515T122259Z
UID:10003630-1621081800-1621090800@adaptivesportsne.org
SUMMARY:Power Soccer - Brakers (Boston)
DESCRIPTION:
URL:https://adaptivesportsne.org/event/power-soccer-brakers-boston-2/2021-05-15/
LOCATION:Tobin Community Center\, 1481 Tremont St.\, Mission Hill \, MA\, 02120\, United States
CATEGORIES:Other Para Sports
ORGANIZER;CN="Boston Brakers":MAILTO:jjwice@gmail.com
GEO:42.332162;-71.0981972
X-APPLE-STRUCTURED-LOCATION;VALUE=URI;X-ADDRESS=Tobin Community Center 1481 Tremont St. Mission Hill  MA 02120 United States;X-APPLE-RADIUS=500;X-TITLE=1481 Tremont St.:geo:-71.0981972,42.332162
END:VEVENT
BEGIN:VEVENT
DTSTART;TZID=America/Halifax:20210515T130000
DTEND;TZID=America/Halifax:20210515T143000
DTSTAMP:20260421T135952
CREATED:20210515T112716Z
LAST-MODIFIED:20210515T113723Z
UID:10003620-1621083600-1621089000@adaptivesportsne.org
SUMMARY:Teen Para Rowing - CRI (brighton)
DESCRIPTION:
URL:https://adaptivesportsne.org/event/teen-para-rowing-2/2021-05-15/
LOCATION:Harry Parker Boathouse\, 20 Nonantum Road\, Brighton\, MA\, 02135\, United States
CATEGORIES:Rowing
ORGANIZER;CN="Community Rowing%2C Inc.":MAILTO:jenny@communityrowing.org
GEO:42.3587003;-71.1656869
X-APPLE-STRUCTURED-LOCATION;VALUE=URI;X-ADDRESS=Harry Parker Boathouse 20 Nonantum Road Brighton MA 02135 United States;X-APPLE-RADIUS=500;X-TITLE=20 Nonantum Road:geo:-71.1656869,42.3587003
END:VEVENT
END:VCALENDAR