BEGIN:VCALENDAR
VERSION:2.0
PRODID:-//Adaptive Sports New England - ECPv6.15.20//NONSGML v1.0//EN
CALSCALE:GREGORIAN
METHOD:PUBLISH
X-ORIGINAL-URL:https://adaptivesportsne.org
X-WR-CALDESC:Events for Adaptive Sports New England
REFRESH-INTERVAL;VALUE=DURATION:PT1H
X-Robots-Tag:noindex
X-PUBLISHED-TTL:PT1H
BEGIN:VTIMEZONE
TZID:America/Halifax
BEGIN:DAYLIGHT
TZOFFSETFROM:-0400
TZOFFSETTO:-0300
TZNAME:ADT
DTSTART:20200308T060000
END:DAYLIGHT
BEGIN:STANDARD
TZOFFSETFROM:-0300
TZOFFSETTO:-0400
TZNAME:AST
DTSTART:20201101T050000
END:STANDARD
BEGIN:DAYLIGHT
TZOFFSETFROM:-0400
TZOFFSETTO:-0300
TZNAME:ADT
DTSTART:20210314T060000
END:DAYLIGHT
BEGIN:STANDARD
TZOFFSETFROM:-0300
TZOFFSETTO:-0400
TZNAME:AST
DTSTART:20211107T050000
END:STANDARD
BEGIN:DAYLIGHT
TZOFFSETFROM:-0400
TZOFFSETTO:-0300
TZNAME:ADT
DTSTART:20220313T060000
END:DAYLIGHT
BEGIN:STANDARD
TZOFFSETFROM:-0300
TZOFFSETTO:-0400
TZNAME:AST
DTSTART:20221106T050000
END:STANDARD
END:VTIMEZONE
BEGIN:VEVENT
DTSTART;TZID=America/Halifax:20210602T130000
DTEND;TZID=America/Halifax:20210602T143000
DTSTAMP:20260421T135856
CREATED:20171214T174630Z
LAST-MODIFIED:20171214T174737Z
UID:10000878-1622638800-1622644200@adaptivesportsne.org
SUMMARY:Ice Skating - NEP (Portsmouth)
DESCRIPTION:Call 603-862-0070 or email email hidden; JavaScript is required.
URL:https://adaptivesportsne.org/event/ice-skating-nep-portsmouth/2021-06-02/
LOCATION:Puddle Dock Pond\, 14 Hancock St\, Portsmouth\, NH\, 03801\, United States
ORGANIZER;CN="Northeast Passage":MAILTO:northeast.passage@unh.edu
GEO:43.0750914;-70.7530756
X-APPLE-STRUCTURED-LOCATION;VALUE=URI;X-ADDRESS=Puddle Dock Pond 14 Hancock St Portsmouth NH 03801 United States;X-APPLE-RADIUS=500;X-TITLE=14 Hancock St:geo:-70.7530756,43.0750914
END:VEVENT
BEGIN:VEVENT
DTSTART;TZID=America/Halifax:20210602T130000
DTEND;TZID=America/Halifax:20210602T150000
DTSTAMP:20260421T135856
CREATED:20210530T133605Z
LAST-MODIFIED:20210530T133605Z
UID:10003688-1622638800-1622646000@adaptivesportsne.org
SUMMARY:Cycling - NEP (Windham NH)
DESCRIPTION:
URL:https://adaptivesportsne.org/event/cycling-nep-windham-nh-4/2021-06-02/
LOCATION:Windham Rail Trail\, Windham\, NH\, 03087\, United States
CATEGORIES:Non-Competitive Recreation
ORGANIZER;CN="Northeast Passage":MAILTO:northeast.passage@unh.edu
GEO:42.8006441;-71.304229
END:VEVENT
BEGIN:VEVENT
DTSTART;TZID=America/Halifax:20210602T170000
DTEND;TZID=America/Halifax:20210602T193000
DTSTAMP:20260421T135856
CREATED:20210529T115331Z
LAST-MODIFIED:20210529T115331Z
UID:10003667-1622653200-1622662200@adaptivesportsne.org
SUMMARY:Golf - NEP (Windham NH)
DESCRIPTION:Some sessions all abilities and others are advanced only.  Check with NEP.
URL:https://adaptivesportsne.org/event/golf-nep-windham-nh/2021-06-02/
LOCATION:Windham Country Club\, Windham\, MA\, United States
CATEGORIES:Other Para Sports
ORGANIZER;CN="Northeast Passage":MAILTO:northeast.passage@unh.edu
GEO:42.604261;-70.8911612
END:VEVENT
END:VCALENDAR