BEGIN:VCALENDAR
VERSION:2.0
PRODID:-//Adaptive Sports New England - ECPv6.15.20//NONSGML v1.0//EN
CALSCALE:GREGORIAN
METHOD:PUBLISH
X-ORIGINAL-URL:https://adaptivesportsne.org
X-WR-CALDESC:Events for Adaptive Sports New England
REFRESH-INTERVAL;VALUE=DURATION:PT1H
X-Robots-Tag:noindex
X-PUBLISHED-TTL:PT1H
BEGIN:VTIMEZONE
TZID:America/Halifax
BEGIN:DAYLIGHT
TZOFFSETFROM:-0400
TZOFFSETTO:-0300
TZNAME:ADT
DTSTART:20200308T060000
END:DAYLIGHT
BEGIN:STANDARD
TZOFFSETFROM:-0300
TZOFFSETTO:-0400
TZNAME:AST
DTSTART:20201101T050000
END:STANDARD
BEGIN:DAYLIGHT
TZOFFSETFROM:-0400
TZOFFSETTO:-0300
TZNAME:ADT
DTSTART:20210314T060000
END:DAYLIGHT
BEGIN:STANDARD
TZOFFSETFROM:-0300
TZOFFSETTO:-0400
TZNAME:AST
DTSTART:20211107T050000
END:STANDARD
BEGIN:DAYLIGHT
TZOFFSETFROM:-0400
TZOFFSETTO:-0300
TZNAME:ADT
DTSTART:20220313T060000
END:DAYLIGHT
BEGIN:STANDARD
TZOFFSETFROM:-0300
TZOFFSETTO:-0400
TZNAME:AST
DTSTART:20221106T050000
END:STANDARD
END:VTIMEZONE
BEGIN:VEVENT
DTSTART;TZID=America/Halifax:20210723T090000
DTEND;TZID=America/Halifax:20210723T110000
DTSTAMP:20260424T232102
CREATED:20210630T180545Z
LAST-MODIFIED:20210708T105223Z
UID:10001780-1627030800-1627038000@adaptivesportsne.org
SUMMARY:Sled Hockey - ICE (Merrimack College)
DESCRIPTION:
URL:https://adaptivesportsne.org/event/sled-hockey-merrimack-college/2021-07-23/
LOCATION:Merrimack College\, 315 Turnpike St\, North Andover\, MA\, 01845\, United States
CATEGORIES:Sled Hockey
GEO:42.667694;-71.122561
X-APPLE-STRUCTURED-LOCATION;VALUE=URI;X-ADDRESS=Merrimack College 315 Turnpike St North Andover MA 01845 United States;X-APPLE-RADIUS=500;X-TITLE=315 Turnpike St:geo:-71.122561,42.667694
END:VEVENT
BEGIN:VEVENT
DTSTART;TZID=America/Halifax:20210723T130000
DTEND;TZID=America/Halifax:20210723T150000
DTSTAMP:20260424T232102
CREATED:20210624T132906Z
LAST-MODIFIED:20210624T132906Z
UID:10001748-1627045200-1627052400@adaptivesportsne.org
SUMMARY:Kayak - NEP (Dover NH)
DESCRIPTION:
URL:https://adaptivesportsne.org/event/kayak-nep-dover-nh/2021-07-23/
LOCATION:MA
CATEGORIES:Non-Competitive Recreation
ORGANIZER;CN="Northeast Passage":MAILTO:northeast.passage@unh.edu
END:VEVENT
END:VCALENDAR