BEGIN:VCALENDAR
VERSION:2.0
PRODID:-//Adaptive Sports New England - ECPv6.15.20//NONSGML v1.0//EN
CALSCALE:GREGORIAN
METHOD:PUBLISH
X-ORIGINAL-URL:https://adaptivesportsne.org
X-WR-CALDESC:Events for Adaptive Sports New England
REFRESH-INTERVAL;VALUE=DURATION:PT1H
X-Robots-Tag:noindex
X-PUBLISHED-TTL:PT1H
BEGIN:VTIMEZONE
TZID:America/Halifax
BEGIN:DAYLIGHT
TZOFFSETFROM:-0400
TZOFFSETTO:-0300
TZNAME:ADT
DTSTART:20210314T060000
END:DAYLIGHT
BEGIN:STANDARD
TZOFFSETFROM:-0300
TZOFFSETTO:-0400
TZNAME:AST
DTSTART:20211107T050000
END:STANDARD
BEGIN:DAYLIGHT
TZOFFSETFROM:-0400
TZOFFSETTO:-0300
TZNAME:ADT
DTSTART:20220313T060000
END:DAYLIGHT
BEGIN:STANDARD
TZOFFSETFROM:-0300
TZOFFSETTO:-0400
TZNAME:AST
DTSTART:20221106T050000
END:STANDARD
BEGIN:DAYLIGHT
TZOFFSETFROM:-0400
TZOFFSETTO:-0300
TZNAME:ADT
DTSTART:20230312T060000
END:DAYLIGHT
BEGIN:STANDARD
TZOFFSETFROM:-0300
TZOFFSETTO:-0400
TZNAME:AST
DTSTART:20231105T050000
END:STANDARD
END:VTIMEZONE
BEGIN:VEVENT
DTSTART;TZID=America/Halifax:20220802T100000
DTEND;TZID=America/Halifax:20220802T150000
DTSTAMP:20260419T214021
CREATED:20220630T152131Z
LAST-MODIFIED:20220630T152131Z
UID:10003934-1659434400-1659452400@adaptivesportsne.org
SUMMARY:Kayaking - AOA (Natick)
DESCRIPTION:
URL:https://adaptivesportsne.org/event/kayaking-aoa-natick-2/2022-08-02/
LOCATION:Cochituate State Park\, 43 Commonwealth Rd.\, Natick\, MA\, 01760\, United States
CATEGORIES:Non-Competitive Recreation
GEO:42.3100024;-71.3769135
X-APPLE-STRUCTURED-LOCATION;VALUE=URI;X-ADDRESS=Cochituate State Park 43 Commonwealth Rd. Natick MA 01760 United States;X-APPLE-RADIUS=500;X-TITLE=43 Commonwealth Rd.:geo:-71.3769135,42.3100024
END:VEVENT
END:VCALENDAR