BEGIN:VCALENDAR
VERSION:2.0
PRODID:-//Adaptive Sports New England - ECPv6.15.20//NONSGML v1.0//EN
CALSCALE:GREGORIAN
METHOD:PUBLISH
X-ORIGINAL-URL:https://adaptivesportsne.org
X-WR-CALDESC:Events for Adaptive Sports New England
REFRESH-INTERVAL;VALUE=DURATION:PT1H
X-Robots-Tag:noindex
X-PUBLISHED-TTL:PT1H
BEGIN:VTIMEZONE
TZID:America/Halifax
BEGIN:DAYLIGHT
TZOFFSETFROM:-0400
TZOFFSETTO:-0300
TZNAME:ADT
DTSTART:20210314T060000
END:DAYLIGHT
BEGIN:STANDARD
TZOFFSETFROM:-0300
TZOFFSETTO:-0400
TZNAME:AST
DTSTART:20211107T050000
END:STANDARD
BEGIN:DAYLIGHT
TZOFFSETFROM:-0400
TZOFFSETTO:-0300
TZNAME:ADT
DTSTART:20220313T060000
END:DAYLIGHT
BEGIN:STANDARD
TZOFFSETFROM:-0300
TZOFFSETTO:-0400
TZNAME:AST
DTSTART:20221106T050000
END:STANDARD
BEGIN:DAYLIGHT
TZOFFSETFROM:-0400
TZOFFSETTO:-0300
TZNAME:ADT
DTSTART:20230312T060000
END:DAYLIGHT
BEGIN:STANDARD
TZOFFSETFROM:-0300
TZOFFSETTO:-0400
TZNAME:AST
DTSTART:20231105T050000
END:STANDARD
END:VTIMEZONE
BEGIN:VEVENT
DTSTART;VALUE=DATE:20220808
DTEND;VALUE=DATE:20220813
DTSTAMP:20260420T020558
CREATED:20220531T153243Z
LAST-MODIFIED:20220531T153243Z
UID:10003888-1659916800-1660348799@adaptivesportsne.org
SUMMARY:Adaptive Sports Camp - HFSC (Berlin\, CT)
DESCRIPTION:
URL:https://adaptivesportsne.org/event/adaptive-sports-camp-hfsc-berlin-ct-2/
LOCATION:Berlin CT High School\, 139 Patterson Way\, Berlin\, CT\, 06037\, United States
CATEGORIES:Non-Competitive Recreation
GEO:41.6212199;-72.7530219
X-APPLE-STRUCTURED-LOCATION;VALUE=URI;X-ADDRESS=Berlin CT High School 139 Patterson Way Berlin CT 06037 United States;X-APPLE-RADIUS=500;X-TITLE=139 Patterson Way:geo:-72.7530219,41.6212199
END:VEVENT
BEGIN:VEVENT
DTSTART;TZID=America/Halifax:20220808T090000
DTEND;TZID=America/Halifax:20220812T160000
DTSTAMP:20260420T020558
CREATED:20220504T135743Z
LAST-MODIFIED:20220504T135743Z
UID:10001864-1659949200-1660320000@adaptivesportsne.org
SUMMARY:Adaptive Sports Camp - NBF (Brighton)
DESCRIPTION:
URL:https://adaptivesportsne.org/event/adaptive-sports-camp-nbf-brighton/
LOCATION:Franciscan Children’s Hospital\, 30 Warren St\, Brighton\, MA\, 02135\, United States
CATEGORIES:Non-Competitive Recreation
ORGANIZER;CN="Franciscan Children's Hospital":MAILTO:mfragala@franciscanchildrens.org
GEO:42.3501528;-71.1433908
X-APPLE-STRUCTURED-LOCATION;VALUE=URI;X-ADDRESS=Franciscan Children’s Hospital 30 Warren St Brighton MA 02135 United States;X-APPLE-RADIUS=500;X-TITLE=30 Warren St:geo:-71.1433908,42.3501528
END:VEVENT
END:VCALENDAR