BEGIN:VCALENDAR
VERSION:2.0
PRODID:-//Adaptive Sports New England - ECPv6.15.20//NONSGML v1.0//EN
CALSCALE:GREGORIAN
METHOD:PUBLISH
X-ORIGINAL-URL:https://adaptivesportsne.org
X-WR-CALDESC:Events for Adaptive Sports New England
REFRESH-INTERVAL;VALUE=DURATION:PT1H
X-Robots-Tag:noindex
X-PUBLISHED-TTL:PT1H
BEGIN:VTIMEZONE
TZID:America/Halifax
BEGIN:DAYLIGHT
TZOFFSETFROM:-0400
TZOFFSETTO:-0300
TZNAME:ADT
DTSTART:20210314T060000
END:DAYLIGHT
BEGIN:STANDARD
TZOFFSETFROM:-0300
TZOFFSETTO:-0400
TZNAME:AST
DTSTART:20211107T050000
END:STANDARD
BEGIN:DAYLIGHT
TZOFFSETFROM:-0400
TZOFFSETTO:-0300
TZNAME:ADT
DTSTART:20220313T060000
END:DAYLIGHT
BEGIN:STANDARD
TZOFFSETFROM:-0300
TZOFFSETTO:-0400
TZNAME:AST
DTSTART:20221106T050000
END:STANDARD
BEGIN:DAYLIGHT
TZOFFSETFROM:-0400
TZOFFSETTO:-0300
TZNAME:ADT
DTSTART:20230312T060000
END:DAYLIGHT
BEGIN:STANDARD
TZOFFSETFROM:-0300
TZOFFSETTO:-0400
TZNAME:AST
DTSTART:20231105T050000
END:STANDARD
END:VTIMEZONE
BEGIN:VEVENT
DTSTART;TZID=America/Halifax:20221030T103000
DTEND;TZID=America/Halifax:20221030T120000
DTSTAMP:20260423T042721
CREATED:20220831T133218Z
LAST-MODIFIED:20220906T182534Z
UID:10003996-1667125800-1667131200@adaptivesportsne.org
SUMMARY:Swim Team - ASNE (Wellesley)
DESCRIPTION:
URL:https://adaptivesportsne.org/event/swim-team-asne-wellesley-6/2022-10-30/
LOCATION:Wellesley College Keohane Sports Center\, 106 Central Street\, Wellesley\, MA\, 02481\, United States
CATEGORIES:Swimming
ORGANIZER;CN="Adaptive Sports New England":MAILTO:joe.walsh@adaptivesportsne.org
GEO:42.2930684;-71.3085829
X-APPLE-STRUCTURED-LOCATION;VALUE=URI;X-ADDRESS=Wellesley College Keohane Sports Center 106 Central Street Wellesley MA 02481 United States;X-APPLE-RADIUS=500;X-TITLE=106 Central Street:geo:-71.3085829,42.2930684
END:VEVENT
BEGIN:VEVENT
DTSTART;TZID=America/Halifax:20221030T113000
DTEND;TZID=America/Halifax:20221030T130000
DTSTAMP:20260423T042721
CREATED:20220831T134656Z
LAST-MODIFIED:20220831T134656Z
UID:10001874-1667129400-1667134800@adaptivesportsne.org
SUMMARY:Sled Hockey - SASC (Everett)
DESCRIPTION:
URL:https://adaptivesportsne.org/event/sled-hockey-sasc-everett-11/2022-10-30/
LOCATION:Allied Veterans Memorial Rink\, 65 Elm Street\, Everett\, MA\, United States
CATEGORIES:Sled Hockey
ORGANIZER;CN="Spaulding Adaptive Sports Centers":MAILTO:scarper@partners.org
GEO:42.4129126;-71.0445725
X-APPLE-STRUCTURED-LOCATION;VALUE=URI;X-ADDRESS=Allied Veterans Memorial Rink 65 Elm Street Everett MA United States;X-APPLE-RADIUS=500;X-TITLE=65 Elm Street:geo:-71.0445725,42.4129126
END:VEVENT
BEGIN:VEVENT
DTSTART;TZID=America/Halifax:20221030T123000
DTEND;TZID=America/Halifax:20221030T140000
DTSTAMP:20260423T042721
CREATED:20220824T184538Z
LAST-MODIFIED:20220831T131835Z
UID:10003987-1667133000-1667138400@adaptivesportsne.org
SUMMARY:CP Soccer - NECPS (Framingham)
DESCRIPTION:
URL:https://adaptivesportsne.org/event/cp-soccer-cps-framingham/2022-10-30/
LOCATION:Merchant Field\, 65 Merchant Rd\, Framingham\, MA\, 01702\, United States
CATEGORIES:Other Para Sports
ORGANIZER;CN="CP Soccer New England":MAILTO:newengland@cpsoccer.us
END:VEVENT
BEGIN:VEVENT
DTSTART;TZID=America/Halifax:20221030T140000
DTEND;TZID=America/Halifax:20221030T153000
DTSTAMP:20260423T042721
CREATED:20220816T135511Z
LAST-MODIFIED:20221206T162903Z
UID:10003942-1667138400-1667143800@adaptivesportsne.org
SUMMARY:WC Basketball - ASNE (Quincy)
DESCRIPTION:
URL:https://adaptivesportsne.org/event/wheelchair-basketball-asne-quincy-3/2022-10-30/
LOCATION:South Shore YMCA – Quincy\, 79 Coddington St\, Quincy \, MA\, 02169\, United States
CATEGORIES:WC Basketball
ORGANIZER;CN="Adaptive Sports New England":MAILTO:joe.walsh@adaptivesportsne.org
GEO:42.252978;-70.997083
X-APPLE-STRUCTURED-LOCATION;VALUE=URI;X-ADDRESS=South Shore YMCA – Quincy 79 Coddington St Quincy  MA 02169 United States;X-APPLE-RADIUS=500;X-TITLE=79 Coddington St:geo:-70.997083,42.252978
END:VEVENT
END:VCALENDAR