BEGIN:VCALENDAR
VERSION:2.0
PRODID:-//Adaptive Sports New England - ECPv6.15.20//NONSGML v1.0//EN
CALSCALE:GREGORIAN
METHOD:PUBLISH
X-ORIGINAL-URL:https://adaptivesportsne.org
X-WR-CALDESC:Events for Adaptive Sports New England
REFRESH-INTERVAL;VALUE=DURATION:PT1H
X-Robots-Tag:noindex
X-PUBLISHED-TTL:PT1H
BEGIN:VTIMEZONE
TZID:America/New_York
BEGIN:DAYLIGHT
TZOFFSETFROM:-0500
TZOFFSETTO:-0400
TZNAME:EDT
DTSTART:20220313T070000
END:DAYLIGHT
BEGIN:STANDARD
TZOFFSETFROM:-0400
TZOFFSETTO:-0500
TZNAME:EST
DTSTART:20221106T060000
END:STANDARD
BEGIN:DAYLIGHT
TZOFFSETFROM:-0500
TZOFFSETTO:-0400
TZNAME:EDT
DTSTART:20230312T070000
END:DAYLIGHT
BEGIN:STANDARD
TZOFFSETFROM:-0400
TZOFFSETTO:-0500
TZNAME:EST
DTSTART:20231105T060000
END:STANDARD
BEGIN:DAYLIGHT
TZOFFSETFROM:-0500
TZOFFSETTO:-0400
TZNAME:EDT
DTSTART:20240310T070000
END:DAYLIGHT
BEGIN:STANDARD
TZOFFSETFROM:-0400
TZOFFSETTO:-0500
TZNAME:EST
DTSTART:20241103T060000
END:STANDARD
END:VTIMEZONE
BEGIN:VEVENT
DTSTART;TZID=America/New_York:20230121T093000
DTEND;TZID=America/New_York:20230121T153000
DTSTAMP:20260424T203236
CREATED:20230118T191556Z
LAST-MODIFIED:20230118T191556Z
UID:10004054-1674293400-1674315000@adaptivesportsne.org
SUMMARY:Ski/Snowboard Club - SASC (Sunapee)
DESCRIPTION:
URL:https://adaptivesportsne.org/event/ski-snowboard-club-sasc-sunapee/
LOCATION:Mount Sunapee Resort\, 1398 Route 103\, Newbury\, NH\, 03255\, United States
CATEGORIES:Non-Competitive Recreation
ORGANIZER;CN="Spaulding Adaptive Sports Centers":MAILTO:scarper@partners.org
GEO:43.3321815;-72.0786768
X-APPLE-STRUCTURED-LOCATION;VALUE=URI;X-ADDRESS=Mount Sunapee Resort 1398 Route 103 Newbury NH 03255 United States;X-APPLE-RADIUS=500;X-TITLE=1398 Route 103:geo:-72.0786768,43.3321815
END:VEVENT
BEGIN:VEVENT
DTSTART;TZID=America/New_York:20230121T120000
DTEND;TZID=America/New_York:20230121T133000
DTSTAMP:20260424T203236
CREATED:20221206T182710Z
LAST-MODIFIED:20221206T182710Z
UID:10001914-1674302400-1674307800@adaptivesportsne.org
SUMMARY:Indoor Rowing - CRI (Brighton)
DESCRIPTION:
URL:https://adaptivesportsne.org/event/indoor-rowing-cri-brighton-2/2023-01-21/
LOCATION:Harry Parker Boathouse\, 20 Nonantum Road\, Brighton\, MA\, 02135\, United States
CATEGORIES:Rowing
ORGANIZER;CN="Community Rowing%2C Inc.":MAILTO:jenny@communityrowing.org
GEO:42.3587003;-71.1656869
X-APPLE-STRUCTURED-LOCATION;VALUE=URI;X-ADDRESS=Harry Parker Boathouse 20 Nonantum Road Brighton MA 02135 United States;X-APPLE-RADIUS=500;X-TITLE=20 Nonantum Road:geo:-71.1656869,42.3587003
END:VEVENT
END:VCALENDAR