BEGIN:VCALENDAR
VERSION:2.0
PRODID:-//Adaptive Sports New England - ECPv6.15.20//NONSGML v1.0//EN
CALSCALE:GREGORIAN
METHOD:PUBLISH
X-WR-CALNAME:Adaptive Sports New England
X-ORIGINAL-URL:https://adaptivesportsne.org
X-WR-CALDESC:Events for Adaptive Sports New England
REFRESH-INTERVAL;VALUE=DURATION:PT1H
X-Robots-Tag:noindex
X-PUBLISHED-TTL:PT1H
BEGIN:VTIMEZONE
TZID:America/New_York
BEGIN:DAYLIGHT
TZOFFSETFROM:-0500
TZOFFSETTO:-0400
TZNAME:EDT
DTSTART:20220313T070000
END:DAYLIGHT
BEGIN:STANDARD
TZOFFSETFROM:-0400
TZOFFSETTO:-0500
TZNAME:EST
DTSTART:20221106T060000
END:STANDARD
BEGIN:DAYLIGHT
TZOFFSETFROM:-0500
TZOFFSETTO:-0400
TZNAME:EDT
DTSTART:20230312T070000
END:DAYLIGHT
BEGIN:STANDARD
TZOFFSETFROM:-0400
TZOFFSETTO:-0500
TZNAME:EST
DTSTART:20231105T060000
END:STANDARD
BEGIN:DAYLIGHT
TZOFFSETFROM:-0500
TZOFFSETTO:-0400
TZNAME:EDT
DTSTART:20240310T070000
END:DAYLIGHT
BEGIN:STANDARD
TZOFFSETFROM:-0400
TZOFFSETTO:-0500
TZNAME:EST
DTSTART:20241103T060000
END:STANDARD
END:VTIMEZONE
BEGIN:VEVENT
DTSTART;TZID=America/New_York:20230222T130000
DTEND;TZID=America/New_York:20230222T143000
DTSTAMP:20260425T230357
CREATED:20230202T190120Z
LAST-MODIFIED:20230202T190120Z
UID:10004072-1677070800-1677076200@adaptivesportsne.org
SUMMARY:Youth Sled Hockey - SASC (Everett)
DESCRIPTION:
URL:https://adaptivesportsne.org/event/youth-sled-hockey-sasc-everett-2/
LOCATION:Allied Veterans Memorial Rink\, 65 Elm Street\, Everett\, MA\, United States
CATEGORIES:Sled Hockey
ORGANIZER;CN="Spaulding Adaptive Sports Centers":MAILTO:scarper@partners.org
GEO:42.4129126;-71.0445725
X-APPLE-STRUCTURED-LOCATION;VALUE=URI;X-ADDRESS=Allied Veterans Memorial Rink 65 Elm Street Everett MA United States;X-APPLE-RADIUS=500;X-TITLE=65 Elm Street:geo:-71.0445725,42.4129126
END:VEVENT
BEGIN:VEVENT
DTSTART;TZID=America/New_York:20230222T170000
DTEND;TZID=America/New_York:20230222T190000
DTSTAMP:20260425T230357
CREATED:20230118T190007Z
LAST-MODIFIED:20230301T172455Z
UID:10004046-1677085200-1677092400@adaptivesportsne.org
SUMMARY:Court Sports - NEP (Durham\, NH)
DESCRIPTION:
URL:https://adaptivesportsne.org/event/court-sports-nep-durham-nh-2/2023-02-22/
LOCATION:UNH Hamel Recreation Center\, Durham\, NH\, United States
CATEGORIES:Non-Competitive Recreation
ORGANIZER;CN="Northeast Passage":MAILTO:northeast.passage@unh.edu
END:VEVENT
BEGIN:VEVENT
DTSTART;TZID=America/New_York:20230222T210000
DTEND;TZID=America/New_York:20230222T223000
DTSTAMP:20260425T230357
CREATED:20221222T145620Z
LAST-MODIFIED:20221222T153332Z
UID:10001957-1677099600-1677105000@adaptivesportsne.org
SUMMARY:Amputee Soccer Practice - Framingham
DESCRIPTION:To register\, email Nico Calabria at email hidden; JavaScript is required
URL:https://adaptivesportsne.org/event/amputee-soccer-practice-framingham/2023-02-22/
LOCATION:Suburban Athletic Club\, 10 Roxanna St\, Framingham\, MA\, 01702\, United States
END:VEVENT
END:VCALENDAR