BEGIN:VCALENDAR
VERSION:2.0
PRODID:-//Adaptive Sports New England - ECPv6.15.20//NONSGML v1.0//EN
CALSCALE:GREGORIAN
METHOD:PUBLISH
X-WR-CALNAME:Adaptive Sports New England
X-ORIGINAL-URL:https://adaptivesportsne.org
X-WR-CALDESC:Events for Adaptive Sports New England
REFRESH-INTERVAL;VALUE=DURATION:PT1H
X-Robots-Tag:noindex
X-PUBLISHED-TTL:PT1H
BEGIN:VTIMEZONE
TZID:America/New_York
BEGIN:DAYLIGHT
TZOFFSETFROM:-0500
TZOFFSETTO:-0400
TZNAME:EDT
DTSTART:20220313T070000
END:DAYLIGHT
BEGIN:STANDARD
TZOFFSETFROM:-0400
TZOFFSETTO:-0500
TZNAME:EST
DTSTART:20221106T060000
END:STANDARD
BEGIN:DAYLIGHT
TZOFFSETFROM:-0500
TZOFFSETTO:-0400
TZNAME:EDT
DTSTART:20230312T070000
END:DAYLIGHT
BEGIN:STANDARD
TZOFFSETFROM:-0400
TZOFFSETTO:-0500
TZNAME:EST
DTSTART:20231105T060000
END:STANDARD
BEGIN:DAYLIGHT
TZOFFSETFROM:-0500
TZOFFSETTO:-0400
TZNAME:EDT
DTSTART:20240310T070000
END:DAYLIGHT
BEGIN:STANDARD
TZOFFSETFROM:-0400
TZOFFSETTO:-0500
TZNAME:EST
DTSTART:20241103T060000
END:STANDARD
END:VTIMEZONE
BEGIN:VEVENT
DTSTART;TZID=America/New_York:20230223T143000
DTEND;TZID=America/New_York:20230223T160000
DTSTAMP:20260426T001716
CREATED:20230202T190315Z
LAST-MODIFIED:20230202T190315Z
UID:10004073-1677162600-1677168000@adaptivesportsne.org
SUMMARY:Youth Sled Hockey - SASC (Brockton)
DESCRIPTION:
URL:https://adaptivesportsne.org/event/youth-sled-hockey-sasc-brockton/
LOCATION:Asiaf Skating Arena\, 476 Forest Avenue\, Brockton\, MA\, 02301\, United States
CATEGORIES:Sled Hockey
ORGANIZER;CN="Spaulding Adaptive Sports Centers":MAILTO:scarper@partners.org
GEO:42.0702601;-71.0401689
X-APPLE-STRUCTURED-LOCATION;VALUE=URI;X-ADDRESS=Asiaf Skating Arena 476 Forest Avenue Brockton MA 02301 United States;X-APPLE-RADIUS=500;X-TITLE=476 Forest Avenue:geo:-71.0401689,42.0702601
END:VEVENT
END:VCALENDAR