BEGIN:VCALENDAR
VERSION:2.0
PRODID:-//Adaptive Sports New England - ECPv6.15.20//NONSGML v1.0//EN
CALSCALE:GREGORIAN
METHOD:PUBLISH
X-ORIGINAL-URL:https://adaptivesportsne.org
X-WR-CALDESC:Events for Adaptive Sports New England
REFRESH-INTERVAL;VALUE=DURATION:PT1H
X-Robots-Tag:noindex
X-PUBLISHED-TTL:PT1H
BEGIN:VTIMEZONE
TZID:America/New_York
BEGIN:DAYLIGHT
TZOFFSETFROM:-0500
TZOFFSETTO:-0400
TZNAME:EDT
DTSTART:20220313T070000
END:DAYLIGHT
BEGIN:STANDARD
TZOFFSETFROM:-0400
TZOFFSETTO:-0500
TZNAME:EST
DTSTART:20221106T060000
END:STANDARD
BEGIN:DAYLIGHT
TZOFFSETFROM:-0500
TZOFFSETTO:-0400
TZNAME:EDT
DTSTART:20230312T070000
END:DAYLIGHT
BEGIN:STANDARD
TZOFFSETFROM:-0400
TZOFFSETTO:-0500
TZNAME:EST
DTSTART:20231105T060000
END:STANDARD
BEGIN:DAYLIGHT
TZOFFSETFROM:-0500
TZOFFSETTO:-0400
TZNAME:EDT
DTSTART:20240310T070000
END:DAYLIGHT
BEGIN:STANDARD
TZOFFSETFROM:-0400
TZOFFSETTO:-0500
TZNAME:EST
DTSTART:20241103T060000
END:STANDARD
END:VTIMEZONE
BEGIN:VEVENT
DTSTART;TZID=America/New_York:20230224T140000
DTEND;TZID=America/New_York:20230224T153000
DTSTAMP:20260424T203226
CREATED:20230202T190438Z
LAST-MODIFIED:20230202T190438Z
UID:10004074-1677247200-1677252600@adaptivesportsne.org
SUMMARY:Youth Sled Hockey - SASC (Plymouth)
DESCRIPTION:
URL:https://adaptivesportsne.org/event/youth-sled-hockey-sasc-plymouth/
LOCATION:Armstrong Arena\, 103 Long Pond Road\, Plymouth\, MA\, 02360\, United States
CATEGORIES:Sled Hockey
ORGANIZER;CN="Spaulding Adaptive Sports Centers":MAILTO:scarper@partners.org
GEO:41.9262591;-70.6563853
X-APPLE-STRUCTURED-LOCATION;VALUE=URI;X-ADDRESS=Armstrong Arena 103 Long Pond Road Plymouth MA 02360 United States;X-APPLE-RADIUS=500;X-TITLE=103 Long Pond Road:geo:-70.6563853,41.9262591
END:VEVENT
END:VCALENDAR