BEGIN:VCALENDAR
VERSION:2.0
PRODID:-//Adaptive Sports New England - ECPv6.15.20//NONSGML v1.0//EN
CALSCALE:GREGORIAN
METHOD:PUBLISH
X-ORIGINAL-URL:https://adaptivesportsne.org
X-WR-CALDESC:Events for Adaptive Sports New England
REFRESH-INTERVAL;VALUE=DURATION:PT1H
X-Robots-Tag:noindex
X-PUBLISHED-TTL:PT1H
BEGIN:VTIMEZONE
TZID:America/New_York
BEGIN:DAYLIGHT
TZOFFSETFROM:-0500
TZOFFSETTO:-0400
TZNAME:EDT
DTSTART:20220313T070000
END:DAYLIGHT
BEGIN:STANDARD
TZOFFSETFROM:-0400
TZOFFSETTO:-0500
TZNAME:EST
DTSTART:20221106T060000
END:STANDARD
BEGIN:DAYLIGHT
TZOFFSETFROM:-0500
TZOFFSETTO:-0400
TZNAME:EDT
DTSTART:20230312T070000
END:DAYLIGHT
BEGIN:STANDARD
TZOFFSETFROM:-0400
TZOFFSETTO:-0500
TZNAME:EST
DTSTART:20231105T060000
END:STANDARD
BEGIN:DAYLIGHT
TZOFFSETFROM:-0500
TZOFFSETTO:-0400
TZNAME:EDT
DTSTART:20240310T070000
END:DAYLIGHT
BEGIN:STANDARD
TZOFFSETFROM:-0400
TZOFFSETTO:-0500
TZNAME:EST
DTSTART:20241103T060000
END:STANDARD
END:VTIMEZONE
BEGIN:VEVENT
DTSTART;TZID=America/New_York:20230408T090000
DTEND;TZID=America/New_York:20230408T160000
DTSTAMP:20260420T063902
CREATED:20230307T155540Z
LAST-MODIFIED:20230307T155540Z
UID:10004098-1680944400-1680969600@adaptivesportsne.org
SUMMARY:Indoor Cycling Clinic - NEP (Durham\, NH)
DESCRIPTION:
URL:https://adaptivesportsne.org/event/indoor-cycling-clinic-nep-durham-nh/
LOCATION:Northeast Passage\, 121 Technology Drive Suite 161\, Durham\, New Hampshire
CATEGORIES:Non-Competitive Recreation
ORGANIZER;CN="Northeast Passage":MAILTO:northeast.passage@unh.edu
END:VEVENT
BEGIN:VEVENT
DTSTART;TZID=America/New_York:20230408T093000
DTEND;TZID=America/New_York:20230408T123000
DTSTAMP:20260420T063902
CREATED:20230223T171553Z
LAST-MODIFIED:20230223T171553Z
UID:10004084-1680946200-1680957000@adaptivesportsne.org
SUMMARY:Adaptive Biking - FC (Brighton)
DESCRIPTION:
URL:https://adaptivesportsne.org/event/adaptive-biking-fc-brighton/2023-04-08/
LOCATION:Franciscan Children’s Hospital\, 30 Warren St\, Brighton\, MA\, 02135\, United States
CATEGORIES:Non-Competitive Recreation
ORGANIZER;CN="Franciscan Children's Hospital":MAILTO:mfragala@franciscanchildrens.org
GEO:42.3501528;-71.1433908
X-APPLE-STRUCTURED-LOCATION;VALUE=URI;X-ADDRESS=Franciscan Children’s Hospital 30 Warren St Brighton MA 02135 United States;X-APPLE-RADIUS=500;X-TITLE=30 Warren St:geo:-71.1433908,42.3501528
END:VEVENT
BEGIN:VEVENT
DTSTART;TZID=America/New_York:20230408T120000
DTEND;TZID=America/New_York:20230408T133000
DTSTAMP:20260420T063902
CREATED:20230207T155644Z
LAST-MODIFIED:20230207T155644Z
UID:10004078-1680955200-1680960600@adaptivesportsne.org
SUMMARY:Para Teen Rowing - CRI (Brighton)
DESCRIPTION:
URL:https://adaptivesportsne.org/event/para-teen-rowing-cri-brighton-3/2023-04-08/
LOCATION:Harry Parker Boathouse\, 20 Nonantum Road\, Brighton\, MA\, 02135\, United States
CATEGORIES:Rowing
ORGANIZER;CN="Community Rowing%2C Inc.":MAILTO:jenny@communityrowing.org
GEO:42.3587003;-71.1656869
X-APPLE-STRUCTURED-LOCATION;VALUE=URI;X-ADDRESS=Harry Parker Boathouse 20 Nonantum Road Brighton MA 02135 United States;X-APPLE-RADIUS=500;X-TITLE=20 Nonantum Road:geo:-71.1656869,42.3587003
END:VEVENT
END:VCALENDAR