BEGIN:VCALENDAR
VERSION:2.0
PRODID:-//Adaptive Sports New England - ECPv6.15.20//NONSGML v1.0//EN
CALSCALE:GREGORIAN
METHOD:PUBLISH
X-WR-CALNAME:Adaptive Sports New England
X-ORIGINAL-URL:https://adaptivesportsne.org
X-WR-CALDESC:Events for Adaptive Sports New England
REFRESH-INTERVAL;VALUE=DURATION:PT1H
X-Robots-Tag:noindex
X-PUBLISHED-TTL:PT1H
BEGIN:VTIMEZONE
TZID:America/New_York
BEGIN:DAYLIGHT
TZOFFSETFROM:-0500
TZOFFSETTO:-0400
TZNAME:EDT
DTSTART:20220313T070000
END:DAYLIGHT
BEGIN:STANDARD
TZOFFSETFROM:-0400
TZOFFSETTO:-0500
TZNAME:EST
DTSTART:20221106T060000
END:STANDARD
BEGIN:DAYLIGHT
TZOFFSETFROM:-0500
TZOFFSETTO:-0400
TZNAME:EDT
DTSTART:20230312T070000
END:DAYLIGHT
BEGIN:STANDARD
TZOFFSETFROM:-0400
TZOFFSETTO:-0500
TZNAME:EST
DTSTART:20231105T060000
END:STANDARD
BEGIN:DAYLIGHT
TZOFFSETFROM:-0500
TZOFFSETTO:-0400
TZNAME:EDT
DTSTART:20240310T070000
END:DAYLIGHT
BEGIN:STANDARD
TZOFFSETFROM:-0400
TZOFFSETTO:-0500
TZNAME:EST
DTSTART:20241103T060000
END:STANDARD
END:VTIMEZONE
BEGIN:VEVENT
DTSTART;VALUE=DATE:20230421
DTEND;VALUE=DATE:20230424
DTSTAMP:20260420T063845
CREATED:20230118T192211Z
LAST-MODIFIED:20230118T192211Z
UID:10004068-1682035200-1682294399@adaptivesportsne.org
SUMMARY:Northeast Regional Para Swim Clinic - ASNE (New Haven\, CT)
DESCRIPTION:
URL:https://adaptivesportsne.org/event/northeast-regional-para-swim-clinic-asne-new-haven-ct/
LOCATION:Southern Connecticut State University\, 501 Crescent St\, New Haven\, CT\, 06515\, United States
CATEGORIES:Swimming
ORGANIZER;CN="Adaptive Sports New England":MAILTO:joe.walsh@adaptivesportsne.org
END:VEVENT
BEGIN:VEVENT
DTSTART;TZID=America/New_York:20230422T093000
DTEND;TZID=America/New_York:20230422T123000
DTSTAMP:20260420T063845
CREATED:20230223T171553Z
LAST-MODIFIED:20230223T171553Z
UID:10004086-1682155800-1682166600@adaptivesportsne.org
SUMMARY:Adaptive Biking - FC (Brighton)
DESCRIPTION:
URL:https://adaptivesportsne.org/event/adaptive-biking-fc-brighton/2023-04-22/
LOCATION:Franciscan Children’s Hospital\, 30 Warren St\, Brighton\, MA\, 02135\, United States
CATEGORIES:Non-Competitive Recreation
ORGANIZER;CN="Franciscan Children's Hospital":MAILTO:mfragala@franciscanchildrens.org
GEO:42.3501528;-71.1433908
X-APPLE-STRUCTURED-LOCATION;VALUE=URI;X-ADDRESS=Franciscan Children’s Hospital 30 Warren St Brighton MA 02135 United States;X-APPLE-RADIUS=500;X-TITLE=30 Warren St:geo:-71.1433908,42.3501528
END:VEVENT
BEGIN:VEVENT
DTSTART;TZID=America/New_York:20230422T120000
DTEND;TZID=America/New_York:20230422T133000
DTSTAMP:20260420T063845
CREATED:20230207T155644Z
LAST-MODIFIED:20230207T155644Z
UID:10004080-1682164800-1682170200@adaptivesportsne.org
SUMMARY:Para Teen Rowing - CRI (Brighton)
DESCRIPTION:
URL:https://adaptivesportsne.org/event/para-teen-rowing-cri-brighton-3/2023-04-22/
LOCATION:Harry Parker Boathouse\, 20 Nonantum Road\, Brighton\, MA\, 02135\, United States
CATEGORIES:Rowing
ORGANIZER;CN="Community Rowing%2C Inc.":MAILTO:jenny@communityrowing.org
GEO:42.3587003;-71.1656869
X-APPLE-STRUCTURED-LOCATION;VALUE=URI;X-ADDRESS=Harry Parker Boathouse 20 Nonantum Road Brighton MA 02135 United States;X-APPLE-RADIUS=500;X-TITLE=20 Nonantum Road:geo:-71.1656869,42.3587003
END:VEVENT
END:VCALENDAR