BEGIN:VCALENDAR
VERSION:2.0
PRODID:-//Adaptive Sports New England - ECPv6.15.20//NONSGML v1.0//EN
CALSCALE:GREGORIAN
METHOD:PUBLISH
X-WR-CALNAME:Adaptive Sports New England
X-ORIGINAL-URL:https://adaptivesportsne.org
X-WR-CALDESC:Events for Adaptive Sports New England
REFRESH-INTERVAL;VALUE=DURATION:PT1H
X-Robots-Tag:noindex
X-PUBLISHED-TTL:PT1H
BEGIN:VTIMEZONE
TZID:America/New_York
BEGIN:DAYLIGHT
TZOFFSETFROM:-0500
TZOFFSETTO:-0400
TZNAME:EDT
DTSTART:20220313T070000
END:DAYLIGHT
BEGIN:STANDARD
TZOFFSETFROM:-0400
TZOFFSETTO:-0500
TZNAME:EST
DTSTART:20221106T060000
END:STANDARD
BEGIN:DAYLIGHT
TZOFFSETFROM:-0500
TZOFFSETTO:-0400
TZNAME:EDT
DTSTART:20230312T070000
END:DAYLIGHT
BEGIN:STANDARD
TZOFFSETFROM:-0400
TZOFFSETTO:-0500
TZNAME:EST
DTSTART:20231105T060000
END:STANDARD
BEGIN:DAYLIGHT
TZOFFSETFROM:-0500
TZOFFSETTO:-0400
TZNAME:EDT
DTSTART:20240310T070000
END:DAYLIGHT
BEGIN:STANDARD
TZOFFSETFROM:-0400
TZOFFSETTO:-0500
TZNAME:EST
DTSTART:20241103T060000
END:STANDARD
END:VTIMEZONE
BEGIN:VEVENT
DTSTART;TZID=America/New_York:20230604T100000
DTEND;TZID=America/New_York:20230604T123000
DTSTAMP:20260420T022139
CREATED:20230406T161018Z
LAST-MODIFIED:20230614T134539Z
UID:10004165-1685872800-1685881800@adaptivesportsne.org
SUMMARY:Beep Baseball - ASNE (Medford)
DESCRIPTION:
URL:https://adaptivesportsne.org/event/beep-baseball-asne-medford-2/2023-06-04/
LOCATION:Fletcher Field\, 91 Professors Row\, Medford\, MA\, 02155\, United States
CATEGORIES:Other Para Sports
ORGANIZER;CN="Adaptive Sports New England":MAILTO:joe.walsh@adaptivesportsne.org
END:VEVENT
BEGIN:VEVENT
DTSTART;TZID=America/New_York:20230604T103000
DTEND;TZID=America/New_York:20230604T120000
DTSTAMP:20260420T022139
CREATED:20230509T162347Z
LAST-MODIFIED:20230509T162347Z
UID:10004181-1685874600-1685880000@adaptivesportsne.org
SUMMARY:Swim Team - ASNE (Boston)
DESCRIPTION:
URL:https://adaptivesportsne.org/event/swim-team-asne-boston-2/2023-06-04/
LOCATION:Simmons University Pool\, 94 Pilgrim Rd\, Boston\, MA\, 02115
CATEGORIES:Swimming
ORGANIZER;CN="Adaptive Sports New England":MAILTO:joe.walsh@adaptivesportsne.org
END:VEVENT
BEGIN:VEVENT
DTSTART;TZID=America/New_York:20230604T150000
DTEND;TZID=America/New_York:20230604T163000
DTSTAMP:20260420T022139
CREATED:20230427T174351Z
LAST-MODIFIED:20230427T174351Z
UID:10004159-1685890800-1685896200@adaptivesportsne.org
SUMMARY:CP Soccer - CPSNE (Framingham)
DESCRIPTION:
URL:https://adaptivesportsne.org/event/cp-soccer-cpsne-framingham-2/
LOCATION:Merchant Field\, 65 Merchant Rd\, Framingham\, MA\, 01702\, United States
CATEGORIES:Other Para Sports
ORGANIZER;CN="CP Soccer New England":MAILTO:newengland@cpsoccer.us
END:VEVENT
END:VCALENDAR