BEGIN:VCALENDAR
VERSION:2.0
PRODID:-//Adaptive Sports New England - ECPv6.15.20//NONSGML v1.0//EN
CALSCALE:GREGORIAN
METHOD:PUBLISH
X-ORIGINAL-URL:https://adaptivesportsne.org
X-WR-CALDESC:Events for Adaptive Sports New England
REFRESH-INTERVAL;VALUE=DURATION:PT1H
X-Robots-Tag:noindex
X-PUBLISHED-TTL:PT1H
BEGIN:VTIMEZONE
TZID:America/New_York
BEGIN:DAYLIGHT
TZOFFSETFROM:-0500
TZOFFSETTO:-0400
TZNAME:EDT
DTSTART:20220313T070000
END:DAYLIGHT
BEGIN:STANDARD
TZOFFSETFROM:-0400
TZOFFSETTO:-0500
TZNAME:EST
DTSTART:20221106T060000
END:STANDARD
BEGIN:DAYLIGHT
TZOFFSETFROM:-0500
TZOFFSETTO:-0400
TZNAME:EDT
DTSTART:20230312T070000
END:DAYLIGHT
BEGIN:STANDARD
TZOFFSETFROM:-0400
TZOFFSETTO:-0500
TZNAME:EST
DTSTART:20231105T060000
END:STANDARD
BEGIN:DAYLIGHT
TZOFFSETFROM:-0500
TZOFFSETTO:-0400
TZNAME:EDT
DTSTART:20240310T070000
END:DAYLIGHT
BEGIN:STANDARD
TZOFFSETFROM:-0400
TZOFFSETTO:-0500
TZNAME:EST
DTSTART:20241103T060000
END:STANDARD
END:VTIMEZONE
BEGIN:VEVENT
DTSTART;VALUE=DATE:20230717
DTEND;VALUE=DATE:20230722
DTSTAMP:20260419T232835
CREATED:20230614T151248Z
LAST-MODIFIED:20230614T152041Z
UID:10004234-1689552000-1689983999@adaptivesportsne.org
SUMMARY:CP Soccer NYC Day Camp - CPSNE (Queens)
DESCRIPTION:
URL:https://adaptivesportsne.org/event/cp-soccer-nyc-day-camp-cpsne-queens/
LOCATION:Soccer Post Queens\, 34-19 38th St\, Queens\, New York\, 11101
CATEGORIES:Non-Competitive Recreation
ORGANIZER;CN="CP Soccer New England":MAILTO:newengland@cpsoccer.us
END:VEVENT
BEGIN:VEVENT
DTSTART;TZID=America/New_York:20230720T143000
DTEND;TZID=America/New_York:20230720T160000
DTSTAMP:20260419T232835
CREATED:20230329T180423Z
LAST-MODIFIED:20230329T180423Z
UID:10004102-1689863400-1689868800@adaptivesportsne.org
SUMMARY:Sailing - Community Boating Inc. (Boston)
DESCRIPTION:
URL:https://adaptivesportsne.org/event/sailing-community-boating-inc-boston/2023-07-20/
LOCATION:Community Boating\, 21 David Mugar Way\, Boston\, MA\, 02114\, United States
CATEGORIES:Other Para Sports
GEO:42.3598546;-71.073094
X-APPLE-STRUCTURED-LOCATION;VALUE=URI;X-ADDRESS=Community Boating 21 David Mugar Way Boston MA 02114 United States;X-APPLE-RADIUS=500;X-TITLE=21 David Mugar Way:geo:-71.073094,42.3598546
END:VEVENT
BEGIN:VEVENT
DTSTART;TZID=America/New_York:20230720T180000
DTEND;TZID=America/New_York:20230720T200000
DTSTAMP:20260419T232835
CREATED:20230531T165730Z
LAST-MODIFIED:20230531T165730Z
UID:10004210-1689876000-1689883200@adaptivesportsne.org
SUMMARY:Wheelchair Lacrosse - NEP (Rochester\, NH)
DESCRIPTION:
URL:https://adaptivesportsne.org/event/wheelchair-lacrosse-nep-rochester-nh-2/2023-07-20/
LOCATION:Rochester\, NH\, Rochester\, NH\, United States
CATEGORIES:Other Para Sports
ORGANIZER;CN="Northeast Passage":MAILTO:northeast.passage@unh.edu
END:VEVENT
END:VCALENDAR