BEGIN:VCALENDAR
VERSION:2.0
PRODID:-//Adaptive Sports New England - ECPv6.15.20//NONSGML v1.0//EN
CALSCALE:GREGORIAN
METHOD:PUBLISH
X-WR-CALNAME:Adaptive Sports New England
X-ORIGINAL-URL:https://adaptivesportsne.org
X-WR-CALDESC:Events for Adaptive Sports New England
REFRESH-INTERVAL;VALUE=DURATION:PT1H
X-Robots-Tag:noindex
X-PUBLISHED-TTL:PT1H
BEGIN:VTIMEZONE
TZID:America/New_York
BEGIN:DAYLIGHT
TZOFFSETFROM:-0500
TZOFFSETTO:-0400
TZNAME:EDT
DTSTART:20220313T070000
END:DAYLIGHT
BEGIN:STANDARD
TZOFFSETFROM:-0400
TZOFFSETTO:-0500
TZNAME:EST
DTSTART:20221106T060000
END:STANDARD
BEGIN:DAYLIGHT
TZOFFSETFROM:-0500
TZOFFSETTO:-0400
TZNAME:EDT
DTSTART:20230312T070000
END:DAYLIGHT
BEGIN:STANDARD
TZOFFSETFROM:-0400
TZOFFSETTO:-0500
TZNAME:EST
DTSTART:20231105T060000
END:STANDARD
BEGIN:DAYLIGHT
TZOFFSETFROM:-0500
TZOFFSETTO:-0400
TZNAME:EDT
DTSTART:20240310T070000
END:DAYLIGHT
BEGIN:STANDARD
TZOFFSETFROM:-0400
TZOFFSETTO:-0500
TZNAME:EST
DTSTART:20241103T060000
END:STANDARD
END:VTIMEZONE
BEGIN:VEVENT
DTSTART;TZID=America/New_York:20231209T090000
DTEND;TZID=America/New_York:20231209T110000
DTSTAMP:20260426T001635
CREATED:20230905T170248Z
LAST-MODIFIED:20250903T134225Z
UID:10004408-1702112400-1702119600@adaptivesportsne.org
SUMMARY:Group Run - Achilles (Boston)
DESCRIPTION:
URL:https://adaptivesportsne.org/event/running-achilles-boston-boston-2/2023-12-09/
LOCATION:276 Newbury St\, 276 Newbury St\, Boston\, MA\, 02116
CATEGORIES:Track/Running
ORGANIZER;CN="Achilles Boston":MAILTO:AchillesBoston@gmail.com
END:VEVENT
BEGIN:VEVENT
DTSTART;TZID=America/New_York:20231209T090000
DTEND;TZID=America/New_York:20231209T120000
DTSTAMP:20260426T001635
CREATED:20231205T164507Z
LAST-MODIFIED:20231205T164507Z
UID:10004477-1702112400-1702123200@adaptivesportsne.org
SUMMARY:Adaptive Sports Clinic - OSCIL (Providence\, RI)
DESCRIPTION:
URL:https://adaptivesportsne.org/event/adaptive-sports-clinic-oscil-providence-ri/
LOCATION:Johnson & Wales Wildcat Centre\, 305 Shipyard St\, Providence\, RI
CATEGORIES:Other Para Sports
END:VEVENT
BEGIN:VEVENT
DTSTART;TZID=America/New_York:20231209T120000
DTEND;TZID=America/New_York:20231209T133000
DTSTAMP:20260426T001635
CREATED:20231205T162034Z
LAST-MODIFIED:20231205T162034Z
UID:10004464-1702123200-1702128600@adaptivesportsne.org
SUMMARY:Indoor Para Teen Rowing - CRI (Brighton)
DESCRIPTION:
URL:https://adaptivesportsne.org/event/indoor-para-teen-rowing-cri-brighton/2023-12-09/
LOCATION:Harry Parker Boathouse\, 20 Nonantum Road\, Brighton\, MA\, 02135\, United States
CATEGORIES:Rowing
ORGANIZER;CN="Community Rowing%2C Inc.":MAILTO:jenny@communityrowing.org
GEO:42.3587003;-71.1656869
X-APPLE-STRUCTURED-LOCATION;VALUE=URI;X-ADDRESS=Harry Parker Boathouse 20 Nonantum Road Brighton MA 02135 United States;X-APPLE-RADIUS=500;X-TITLE=20 Nonantum Road:geo:-71.1656869,42.3587003
END:VEVENT
END:VCALENDAR