BEGIN:VCALENDAR
VERSION:2.0
PRODID:-//Adaptive Sports New England - ECPv6.15.20//NONSGML v1.0//EN
CALSCALE:GREGORIAN
METHOD:PUBLISH
X-WR-CALNAME:Adaptive Sports New England
X-ORIGINAL-URL:https://adaptivesportsne.org
X-WR-CALDESC:Events for Adaptive Sports New England
REFRESH-INTERVAL;VALUE=DURATION:PT1H
X-Robots-Tag:noindex
X-PUBLISHED-TTL:PT1H
BEGIN:VTIMEZONE
TZID:America/New_York
BEGIN:DAYLIGHT
TZOFFSETFROM:-0500
TZOFFSETTO:-0400
TZNAME:EDT
DTSTART:20230312T070000
END:DAYLIGHT
BEGIN:STANDARD
TZOFFSETFROM:-0400
TZOFFSETTO:-0500
TZNAME:EST
DTSTART:20231105T060000
END:STANDARD
BEGIN:DAYLIGHT
TZOFFSETFROM:-0500
TZOFFSETTO:-0400
TZNAME:EDT
DTSTART:20240310T070000
END:DAYLIGHT
BEGIN:STANDARD
TZOFFSETFROM:-0400
TZOFFSETTO:-0500
TZNAME:EST
DTSTART:20241103T060000
END:STANDARD
BEGIN:DAYLIGHT
TZOFFSETFROM:-0500
TZOFFSETTO:-0400
TZNAME:EDT
DTSTART:20250309T070000
END:DAYLIGHT
BEGIN:STANDARD
TZOFFSETFROM:-0400
TZOFFSETTO:-0500
TZNAME:EST
DTSTART:20251102T060000
END:STANDARD
END:VTIMEZONE
BEGIN:VEVENT
DTSTART;TZID=America/New_York:20240324T080000
DTEND;TZID=America/New_York:20240324T170000
DTSTAMP:20260420T020449
CREATED:20240227T164444Z
LAST-MODIFIED:20240227T164444Z
UID:10004606-1711267200-1711299600@adaptivesportsne.org
SUMMARY:Para Nordic Skiing Spring Series - NENSA (Craftsbury\, VT)
DESCRIPTION:Email BethAnn for more info: email hidden; JavaScript is required
URL:https://adaptivesportsne.org/event/para-nordic-skiing-spring-series-nensa-craftsbury-vt/2024-03-24/
LOCATION:Craftsbury Outdoor Center\, 535 Lost Nation Rd\, Craftsbury Common\, VT\, 05827
CATEGORIES:Other Para Sports
ORGANIZER;CN="New England Nordic Ski Association (NENSA)":MAILTO:adaptive@nensa.net
END:VEVENT
BEGIN:VEVENT
DTSTART;TZID=America/New_York:20240324T103000
DTEND;TZID=America/New_York:20240324T120000
DTSTAMP:20260420T020449
CREATED:20230830T173942Z
LAST-MODIFIED:20231212T190526Z
UID:10004494-1711276200-1711281600@adaptivesportsne.org
SUMMARY:Swim Team - ASNE (Boston)
DESCRIPTION:
URL:https://adaptivesportsne.org/event/swim-team-asne-boston-3/2024-03-24/
LOCATION:Simmons University Pool\, 94 Pilgrim Rd\, Boston\, MA\, 02115
CATEGORIES:Swimming
ORGANIZER;CN="Adaptive Sports New England":MAILTO:joe.walsh@adaptivesportsne.org
END:VEVENT
BEGIN:VEVENT
DTSTART;TZID=America/New_York:20240324T110000
DTEND;TZID=America/New_York:20240324T130000
DTSTAMP:20260420T020449
CREATED:20240206T165226Z
LAST-MODIFIED:20240206T165226Z
UID:10004597-1711278000-1711285200@adaptivesportsne.org
SUMMARY:Junior Wheelchair Tennis Clinic - SCWT (Hanover)
DESCRIPTION:
URL:https://adaptivesportsne.org/event/junior-wheelchair-tennis-clinic-scwt-hanover/2024-03-24/
LOCATION:South Shore YMCA Emilson\, 75 Mill St\, Hanover\, MA\, 02339\, United States
CATEGORIES:Other Para Sports
ORGANIZER;CN="South Coast Wheelchair Tennis Foundation":MAILTO:thomasd10@aol.com
END:VEVENT
END:VCALENDAR