BEGIN:VCALENDAR
VERSION:2.0
PRODID:-//Adaptive Sports New England - ECPv6.15.20//NONSGML v1.0//EN
CALSCALE:GREGORIAN
METHOD:PUBLISH
X-ORIGINAL-URL:https://adaptivesportsne.org
X-WR-CALDESC:Events for Adaptive Sports New England
REFRESH-INTERVAL;VALUE=DURATION:PT1H
X-Robots-Tag:noindex
X-PUBLISHED-TTL:PT1H
BEGIN:VTIMEZONE
TZID:America/Halifax
BEGIN:DAYLIGHT
TZOFFSETFROM:-0400
TZOFFSETTO:-0300
TZNAME:ADT
DTSTART:20200308T060000
END:DAYLIGHT
BEGIN:STANDARD
TZOFFSETFROM:-0300
TZOFFSETTO:-0400
TZNAME:AST
DTSTART:20201101T050000
END:STANDARD
BEGIN:DAYLIGHT
TZOFFSETFROM:-0400
TZOFFSETTO:-0300
TZNAME:ADT
DTSTART:20210314T060000
END:DAYLIGHT
BEGIN:STANDARD
TZOFFSETFROM:-0300
TZOFFSETTO:-0400
TZNAME:AST
DTSTART:20211107T050000
END:STANDARD
BEGIN:DAYLIGHT
TZOFFSETFROM:-0400
TZOFFSETTO:-0300
TZNAME:ADT
DTSTART:20220313T060000
END:DAYLIGHT
BEGIN:STANDARD
TZOFFSETFROM:-0300
TZOFFSETTO:-0400
TZNAME:AST
DTSTART:20221106T050000
END:STANDARD
END:VTIMEZONE
BEGIN:VEVENT
DTSTART;TZID=America/Halifax:20210305T190000
DTEND;TZID=America/Halifax:20210305T210000
DTSTAMP:20260423T053453
CREATED:20210104T202839Z
LAST-MODIFIED:20210105T145507Z
UID:10003561-1614970800-1614978000@adaptivesportsne.org
SUMMARY:Wheelchair Tennis SCWTF (Dartmouth)
DESCRIPTION:
URL:https://adaptivesportsne.org/event/wheelchair-tennis-clinics-scwtf-dartmouth/2021-03-05/
LOCATION:Dartmouth Indoor Tennis\, 757 State Rd\, Dartmouth\, MA\, 02747\, United States
CATEGORIES:Other Para Sports
ORGANIZER;CN="South Coast Wheelchair Tennis Foundation":MAILTO:thomasd10@aol.com
GEO:41.6380217;-71.0298657
X-APPLE-STRUCTURED-LOCATION;VALUE=URI;X-ADDRESS=Dartmouth Indoor Tennis 757 State Rd Dartmouth MA 02747 United States;X-APPLE-RADIUS=500;X-TITLE=757 State Rd:geo:-71.0298657,41.6380217
END:VEVENT
BEGIN:VEVENT
DTSTART;TZID=America/Halifax:20210307T110000
DTEND;TZID=America/Halifax:20210307T130000
DTSTAMP:20260423T053453
CREATED:20210104T202108Z
LAST-MODIFIED:20210105T145158Z
UID:10003554-1615114800-1615122000@adaptivesportsne.org
SUMMARY:Wheelchair Tennis - SCWTF (Hanover)
DESCRIPTION:
URL:https://adaptivesportsne.org/event/wheelchair-tennis-clinic-ymca-quincy/2021-03-07/
LOCATION:Emilson YMCA\, 75 Mill Street\, Hanover\, MA\, 02339\, United States
CATEGORIES:Other Para Sports
ORGANIZER;CN="South Coast Wheelchair Tennis Foundation":MAILTO:thomasd10@aol.com
GEO:42.1406659;-70.8394957
X-APPLE-STRUCTURED-LOCATION;VALUE=URI;X-ADDRESS=Emilson YMCA 75 Mill Street Hanover MA 02339 United States;X-APPLE-RADIUS=500;X-TITLE=75 Mill Street:geo:-70.8394957,42.1406659
END:VEVENT
BEGIN:VEVENT
DTSTART;TZID=America/Halifax:20210318T100000
DTEND;TZID=America/Halifax:20210318T150000
DTSTAMP:20260423T053453
CREATED:20210304T192718Z
LAST-MODIFIED:20210304T192904Z
UID:10003601-1616061600-1616079600@adaptivesportsne.org
SUMMARY:Indoor Cycling- SASC (Wilmington)
DESCRIPTION:90 minute sessions at 10:00am/11:30am/1:30pm
URL:https://adaptivesportsne.org/event/indoor-cycling-sasc-wilmington/2021-03-18/
LOCATION:Ristuccia Arena\, 190 Main Street\, Wilmington\, MA\, 01887\, United States
CATEGORIES:Other Para Sports
ORGANIZER;CN="Spaulding Adaptive Sports Centers":MAILTO:scarper@partners.org
GEO:42.5587613;-71.182155
X-APPLE-STRUCTURED-LOCATION;VALUE=URI;X-ADDRESS=Ristuccia Arena 190 Main Street Wilmington MA 01887 United States;X-APPLE-RADIUS=500;X-TITLE=190 Main Street:geo:-71.182155,42.5587613
END:VEVENT
BEGIN:VEVENT
DTSTART;TZID=America/Halifax:20210319T190000
DTEND;TZID=America/Halifax:20210319T210000
DTSTAMP:20260423T053453
CREATED:20210104T202839Z
LAST-MODIFIED:20210105T145507Z
UID:10003562-1616180400-1616187600@adaptivesportsne.org
SUMMARY:Wheelchair Tennis SCWTF (Dartmouth)
DESCRIPTION:
URL:https://adaptivesportsne.org/event/wheelchair-tennis-clinics-scwtf-dartmouth/2021-03-19/
LOCATION:Dartmouth Indoor Tennis\, 757 State Rd\, Dartmouth\, MA\, 02747\, United States
CATEGORIES:Other Para Sports
ORGANIZER;CN="South Coast Wheelchair Tennis Foundation":MAILTO:thomasd10@aol.com
GEO:41.6380217;-71.0298657
X-APPLE-STRUCTURED-LOCATION;VALUE=URI;X-ADDRESS=Dartmouth Indoor Tennis 757 State Rd Dartmouth MA 02747 United States;X-APPLE-RADIUS=500;X-TITLE=757 State Rd:geo:-71.0298657,41.6380217
END:VEVENT
BEGIN:VEVENT
DTSTART;TZID=America/Halifax:20210325T100000
DTEND;TZID=America/Halifax:20210325T150000
DTSTAMP:20260423T053453
CREATED:20210304T192718Z
LAST-MODIFIED:20210304T192904Z
UID:10003602-1616666400-1616684400@adaptivesportsne.org
SUMMARY:Indoor Cycling- SASC (Wilmington)
DESCRIPTION:90 minute sessions at 10:00am/11:30am/1:30pm
URL:https://adaptivesportsne.org/event/indoor-cycling-sasc-wilmington/2021-03-25/
LOCATION:Ristuccia Arena\, 190 Main Street\, Wilmington\, MA\, 01887\, United States
CATEGORIES:Other Para Sports
ORGANIZER;CN="Spaulding Adaptive Sports Centers":MAILTO:scarper@partners.org
GEO:42.5587613;-71.182155
X-APPLE-STRUCTURED-LOCATION;VALUE=URI;X-ADDRESS=Ristuccia Arena 190 Main Street Wilmington MA 01887 United States;X-APPLE-RADIUS=500;X-TITLE=190 Main Street:geo:-71.182155,42.5587613
END:VEVENT
END:VCALENDAR