BEGIN:VCALENDAR
VERSION:2.0
PRODID:-//Adaptive Sports New England - ECPv6.15.20//NONSGML v1.0//EN
CALSCALE:GREGORIAN
METHOD:PUBLISH
X-ORIGINAL-URL:https://adaptivesportsne.org
X-WR-CALDESC:Events for Adaptive Sports New England
REFRESH-INTERVAL;VALUE=DURATION:PT1H
X-Robots-Tag:noindex
X-PUBLISHED-TTL:PT1H
BEGIN:VTIMEZONE
TZID:America/New_York
BEGIN:DAYLIGHT
TZOFFSETFROM:-0500
TZOFFSETTO:-0400
TZNAME:EDT
DTSTART:20220313T070000
END:DAYLIGHT
BEGIN:STANDARD
TZOFFSETFROM:-0400
TZOFFSETTO:-0500
TZNAME:EST
DTSTART:20221106T060000
END:STANDARD
BEGIN:DAYLIGHT
TZOFFSETFROM:-0500
TZOFFSETTO:-0400
TZNAME:EDT
DTSTART:20230312T070000
END:DAYLIGHT
BEGIN:STANDARD
TZOFFSETFROM:-0400
TZOFFSETTO:-0500
TZNAME:EST
DTSTART:20231105T060000
END:STANDARD
BEGIN:DAYLIGHT
TZOFFSETFROM:-0500
TZOFFSETTO:-0400
TZNAME:EDT
DTSTART:20240310T070000
END:DAYLIGHT
BEGIN:STANDARD
TZOFFSETFROM:-0400
TZOFFSETTO:-0500
TZNAME:EST
DTSTART:20241103T060000
END:STANDARD
END:VTIMEZONE
BEGIN:VEVENT
DTSTART;TZID=America/New_York:20230803T143000
DTEND;TZID=America/New_York:20230803T160000
DTSTAMP:20260424T022046
CREATED:20230329T180423Z
LAST-MODIFIED:20230329T180423Z
UID:10004104-1691073000-1691078400@adaptivesportsne.org
SUMMARY:Sailing - Community Boating Inc. (Boston)
DESCRIPTION:
URL:https://adaptivesportsne.org/event/sailing-community-boating-inc-boston/2023-08-03/
LOCATION:Community Boating\, 21 David Mugar Way\, Boston\, MA\, 02114\, United States
CATEGORIES:Other Para Sports
GEO:42.3598546;-71.073094
X-APPLE-STRUCTURED-LOCATION;VALUE=URI;X-ADDRESS=Community Boating 21 David Mugar Way Boston MA 02114 United States;X-APPLE-RADIUS=500;X-TITLE=21 David Mugar Way:geo:-71.073094,42.3598546
END:VEVENT
BEGIN:VEVENT
DTSTART;TZID=America/New_York:20230803T180000
DTEND;TZID=America/New_York:20230803T200000
DTSTAMP:20260424T022046
CREATED:20230531T165730Z
LAST-MODIFIED:20230531T165730Z
UID:10004212-1691085600-1691092800@adaptivesportsne.org
SUMMARY:Wheelchair Lacrosse - NEP (Rochester\, NH)
DESCRIPTION:
URL:https://adaptivesportsne.org/event/wheelchair-lacrosse-nep-rochester-nh-2/2023-08-03/
LOCATION:Rochester\, NH\, Rochester\, NH\, United States
CATEGORIES:Other Para Sports
ORGANIZER;CN="Northeast Passage":MAILTO:northeast.passage@unh.edu
END:VEVENT
BEGIN:VEVENT
DTSTART;TZID=America/New_York:20230806T100000
DTEND;TZID=America/New_York:20230806T123000
DTSTAMP:20260424T022046
CREATED:20230406T161018Z
LAST-MODIFIED:20230614T134539Z
UID:10004174-1691316000-1691325000@adaptivesportsne.org
SUMMARY:Beep Baseball - ASNE (Medford)
DESCRIPTION:
URL:https://adaptivesportsne.org/event/beep-baseball-asne-medford-2/2023-08-06/
LOCATION:Fletcher Field\, 91 Professors Row\, Medford\, MA\, 02155\, United States
CATEGORIES:Other Para Sports
ORGANIZER;CN="Adaptive Sports New England":MAILTO:joe.walsh@adaptivesportsne.org
END:VEVENT
BEGIN:VEVENT
DTSTART;TZID=America/New_York:20230810T143000
DTEND;TZID=America/New_York:20230810T160000
DTSTAMP:20260424T022046
CREATED:20230329T180423Z
LAST-MODIFIED:20230329T180423Z
UID:10004105-1691677800-1691683200@adaptivesportsne.org
SUMMARY:Sailing - Community Boating Inc. (Boston)
DESCRIPTION:
URL:https://adaptivesportsne.org/event/sailing-community-boating-inc-boston/2023-08-10/
LOCATION:Community Boating\, 21 David Mugar Way\, Boston\, MA\, 02114\, United States
CATEGORIES:Other Para Sports
GEO:42.3598546;-71.073094
X-APPLE-STRUCTURED-LOCATION;VALUE=URI;X-ADDRESS=Community Boating 21 David Mugar Way Boston MA 02114 United States;X-APPLE-RADIUS=500;X-TITLE=21 David Mugar Way:geo:-71.073094,42.3598546
END:VEVENT
BEGIN:VEVENT
DTSTART;TZID=America/New_York:20230810T180000
DTEND;TZID=America/New_York:20230810T200000
DTSTAMP:20260424T022046
CREATED:20230531T165730Z
LAST-MODIFIED:20230531T165730Z
UID:10004213-1691690400-1691697600@adaptivesportsne.org
SUMMARY:Wheelchair Lacrosse - NEP (Rochester\, NH)
DESCRIPTION:
URL:https://adaptivesportsne.org/event/wheelchair-lacrosse-nep-rochester-nh-2/2023-08-10/
LOCATION:Rochester\, NH\, Rochester\, NH\, United States
CATEGORIES:Other Para Sports
ORGANIZER;CN="Northeast Passage":MAILTO:northeast.passage@unh.edu
END:VEVENT
BEGIN:VEVENT
DTSTART;TZID=America/New_York:20230812T100000
DTEND;TZID=America/New_York:20230812T120000
DTSTAMP:20260424T022046
CREATED:20230531T165942Z
LAST-MODIFIED:20230531T165942Z
UID:10004217-1691834400-1691841600@adaptivesportsne.org
SUMMARY:Wheelchair Lacrosse - NEP (Rochester\, NH)
DESCRIPTION:
URL:https://adaptivesportsne.org/event/wheelchair-lacrosse-nep-rochester-nh-3/2023-08-12/
LOCATION:Rochester\, NH\, Rochester\, NH\, United States
CATEGORIES:Other Para Sports
ORGANIZER;CN="Northeast Passage":MAILTO:northeast.passage@unh.edu
END:VEVENT
BEGIN:VEVENT
DTSTART;TZID=America/New_York:20230813T100000
DTEND;TZID=America/New_York:20230813T123000
DTSTAMP:20260424T022046
CREATED:20230406T161018Z
LAST-MODIFIED:20230614T134539Z
UID:10004175-1691920800-1691929800@adaptivesportsne.org
SUMMARY:Beep Baseball - ASNE (Medford)
DESCRIPTION:
URL:https://adaptivesportsne.org/event/beep-baseball-asne-medford-2/2023-08-13/
LOCATION:Fletcher Field\, 91 Professors Row\, Medford\, MA\, 02155\, United States
CATEGORIES:Other Para Sports
ORGANIZER;CN="Adaptive Sports New England":MAILTO:joe.walsh@adaptivesportsne.org
END:VEVENT
BEGIN:VEVENT
DTSTART;TZID=America/New_York:20230817T143000
DTEND;TZID=America/New_York:20230817T160000
DTSTAMP:20260424T022046
CREATED:20230329T180423Z
LAST-MODIFIED:20230329T180423Z
UID:10004106-1692282600-1692288000@adaptivesportsne.org
SUMMARY:Sailing - Community Boating Inc. (Boston)
DESCRIPTION:
URL:https://adaptivesportsne.org/event/sailing-community-boating-inc-boston/2023-08-17/
LOCATION:Community Boating\, 21 David Mugar Way\, Boston\, MA\, 02114\, United States
CATEGORIES:Other Para Sports
GEO:42.3598546;-71.073094
X-APPLE-STRUCTURED-LOCATION;VALUE=URI;X-ADDRESS=Community Boating 21 David Mugar Way Boston MA 02114 United States;X-APPLE-RADIUS=500;X-TITLE=21 David Mugar Way:geo:-71.073094,42.3598546
END:VEVENT
BEGIN:VEVENT
DTSTART;TZID=America/New_York:20230817T180000
DTEND;TZID=America/New_York:20230817T200000
DTSTAMP:20260424T022046
CREATED:20230531T165730Z
LAST-MODIFIED:20230531T165730Z
UID:10004214-1692295200-1692302400@adaptivesportsne.org
SUMMARY:Wheelchair Lacrosse - NEP (Rochester\, NH)
DESCRIPTION:
URL:https://adaptivesportsne.org/event/wheelchair-lacrosse-nep-rochester-nh-2/2023-08-17/
LOCATION:Rochester\, NH\, Rochester\, NH\, United States
CATEGORIES:Other Para Sports
ORGANIZER;CN="Northeast Passage":MAILTO:northeast.passage@unh.edu
END:VEVENT
BEGIN:VEVENT
DTSTART;TZID=America/New_York:20230820T100000
DTEND;TZID=America/New_York:20230820T123000
DTSTAMP:20260424T022046
CREATED:20230406T161018Z
LAST-MODIFIED:20230614T134539Z
UID:10004176-1692525600-1692534600@adaptivesportsne.org
SUMMARY:Beep Baseball - ASNE (Medford)
DESCRIPTION:
URL:https://adaptivesportsne.org/event/beep-baseball-asne-medford-2/2023-08-20/
LOCATION:Fletcher Field\, 91 Professors Row\, Medford\, MA\, 02155\, United States
CATEGORIES:Other Para Sports
ORGANIZER;CN="Adaptive Sports New England":MAILTO:joe.walsh@adaptivesportsne.org
END:VEVENT
BEGIN:VEVENT
DTSTART;TZID=America/New_York:20230824T143000
DTEND;TZID=America/New_York:20230824T160000
DTSTAMP:20260424T022046
CREATED:20230329T180423Z
LAST-MODIFIED:20230329T180423Z
UID:10004107-1692887400-1692892800@adaptivesportsne.org
SUMMARY:Sailing - Community Boating Inc. (Boston)
DESCRIPTION:
URL:https://adaptivesportsne.org/event/sailing-community-boating-inc-boston/2023-08-24/
LOCATION:Community Boating\, 21 David Mugar Way\, Boston\, MA\, 02114\, United States
CATEGORIES:Other Para Sports
GEO:42.3598546;-71.073094
X-APPLE-STRUCTURED-LOCATION;VALUE=URI;X-ADDRESS=Community Boating 21 David Mugar Way Boston MA 02114 United States;X-APPLE-RADIUS=500;X-TITLE=21 David Mugar Way:geo:-71.073094,42.3598546
END:VEVENT
BEGIN:VEVENT
DTSTART;TZID=America/New_York:20230827T100000
DTEND;TZID=America/New_York:20230827T123000
DTSTAMP:20260424T022046
CREATED:20230406T161018Z
LAST-MODIFIED:20230614T134539Z
UID:10004177-1693130400-1693139400@adaptivesportsne.org
SUMMARY:Beep Baseball - ASNE (Medford)
DESCRIPTION:
URL:https://adaptivesportsne.org/event/beep-baseball-asne-medford-2/2023-08-27/
LOCATION:Fletcher Field\, 91 Professors Row\, Medford\, MA\, 02155\, United States
CATEGORIES:Other Para Sports
ORGANIZER;CN="Adaptive Sports New England":MAILTO:joe.walsh@adaptivesportsne.org
END:VEVENT
BEGIN:VEVENT
DTSTART;TZID=America/New_York:20230831T143000
DTEND;TZID=America/New_York:20230831T160000
DTSTAMP:20260424T022046
CREATED:20230329T180423Z
LAST-MODIFIED:20230329T180423Z
UID:10004108-1693492200-1693497600@adaptivesportsne.org
SUMMARY:Sailing - Community Boating Inc. (Boston)
DESCRIPTION:
URL:https://adaptivesportsne.org/event/sailing-community-boating-inc-boston/2023-08-31/
LOCATION:Community Boating\, 21 David Mugar Way\, Boston\, MA\, 02114\, United States
CATEGORIES:Other Para Sports
GEO:42.3598546;-71.073094
X-APPLE-STRUCTURED-LOCATION;VALUE=URI;X-ADDRESS=Community Boating 21 David Mugar Way Boston MA 02114 United States;X-APPLE-RADIUS=500;X-TITLE=21 David Mugar Way:geo:-71.073094,42.3598546
END:VEVENT
END:VCALENDAR