BEGIN:VCALENDAR
VERSION:2.0
PRODID:-//Adaptive Sports New England - ECPv6.15.20//NONSGML v1.0//EN
CALSCALE:GREGORIAN
METHOD:PUBLISH
X-WR-CALNAME:Adaptive Sports New England
X-ORIGINAL-URL:https://adaptivesportsne.org
X-WR-CALDESC:Events for Adaptive Sports New England
REFRESH-INTERVAL;VALUE=DURATION:PT1H
X-Robots-Tag:noindex
X-PUBLISHED-TTL:PT1H
BEGIN:VTIMEZONE
TZID:America/New_York
BEGIN:DAYLIGHT
TZOFFSETFROM:-0500
TZOFFSETTO:-0400
TZNAME:EDT
DTSTART:20220313T070000
END:DAYLIGHT
BEGIN:STANDARD
TZOFFSETFROM:-0400
TZOFFSETTO:-0500
TZNAME:EST
DTSTART:20221106T060000
END:STANDARD
BEGIN:DAYLIGHT
TZOFFSETFROM:-0500
TZOFFSETTO:-0400
TZNAME:EDT
DTSTART:20230312T070000
END:DAYLIGHT
BEGIN:STANDARD
TZOFFSETFROM:-0400
TZOFFSETTO:-0500
TZNAME:EST
DTSTART:20231105T060000
END:STANDARD
BEGIN:DAYLIGHT
TZOFFSETFROM:-0500
TZOFFSETTO:-0400
TZNAME:EDT
DTSTART:20240310T070000
END:DAYLIGHT
BEGIN:STANDARD
TZOFFSETFROM:-0400
TZOFFSETTO:-0500
TZNAME:EST
DTSTART:20241103T060000
END:STANDARD
END:VTIMEZONE
BEGIN:VEVENT
DTSTART;TZID=America/New_York:20231201T130000
DTEND;TZID=America/New_York:20231201T150000
DTSTAMP:20260424T191025
CREATED:20231026T144039Z
LAST-MODIFIED:20231026T144039Z
UID:10004445-1701435600-1701442800@adaptivesportsne.org
SUMMARY:Indoor Archery - NEP (Rochester\, NH)
DESCRIPTION:
URL:https://adaptivesportsne.org/event/indoor-archery-nep-rochester-nh-2/2023-12-01/
LOCATION:Rochester\, NH\, Rochester\, NH\, United States
CATEGORIES:Other Para Sports
ORGANIZER;CN="Northeast Passage":MAILTO:northeast.passage@unh.edu
END:VEVENT
BEGIN:VEVENT
DTSTART;TZID=America/New_York:20231203T110000
DTEND;TZID=America/New_York:20231203T120000
DTSTAMP:20260424T191025
CREATED:20231101T165553Z
LAST-MODIFIED:20231101T165553Z
UID:10004457-1701601200-1701604800@adaptivesportsne.org
SUMMARY:Adaptive Crossfit - AIM Therapy (Needham)
DESCRIPTION:
URL:https://adaptivesportsne.org/event/adaptive-crossfit-aim-therapy-needham/2023-12-03/
LOCATION:Crossfit One Nation\, 10 Charles St\, Needham\, MA\, 02494
CATEGORIES:Other Para Sports
END:VEVENT
BEGIN:VEVENT
DTSTART;TZID=America/New_York:20231205T093000
DTEND;TZID=America/New_York:20231205T120000
DTSTAMP:20260424T191025
CREATED:20231026T142842Z
LAST-MODIFIED:20231026T142842Z
UID:10004428-1701768600-1701777600@adaptivesportsne.org
SUMMARY:Pickleball - NEP (Exeter\, NH)
DESCRIPTION:
URL:https://adaptivesportsne.org/event/pickleball-nep-exeter-nh/2023-12-05/
LOCATION:Exeter Area YMCA\, 56 Linden St\, Exeter\, NH\, 03833\, United States
CATEGORIES:Other Para Sports
ORGANIZER;CN="Northeast Passage":MAILTO:northeast.passage@unh.edu
GEO:42.9732683;-70.9595119
X-APPLE-STRUCTURED-LOCATION;VALUE=URI;X-ADDRESS=Exeter Area YMCA 56 Linden St Exeter NH 03833 United States;X-APPLE-RADIUS=500;X-TITLE=56 Linden St:geo:-70.9595119,42.9732683
END:VEVENT
BEGIN:VEVENT
DTSTART;TZID=America/New_York:20231209T090000
DTEND;TZID=America/New_York:20231209T120000
DTSTAMP:20260424T191025
CREATED:20231205T164507Z
LAST-MODIFIED:20231205T164507Z
UID:10004477-1702112400-1702123200@adaptivesportsne.org
SUMMARY:Adaptive Sports Clinic - OSCIL (Providence\, RI)
DESCRIPTION:
URL:https://adaptivesportsne.org/event/adaptive-sports-clinic-oscil-providence-ri/
LOCATION:Johnson & Wales Wildcat Centre\, 305 Shipyard St\, Providence\, RI
CATEGORIES:Other Para Sports
END:VEVENT
BEGIN:VEVENT
DTSTART;TZID=America/New_York:20231210T110000
DTEND;TZID=America/New_York:20231210T120000
DTSTAMP:20260424T191025
CREATED:20231101T165553Z
LAST-MODIFIED:20231101T165553Z
UID:10004458-1702206000-1702209600@adaptivesportsne.org
SUMMARY:Adaptive Crossfit - AIM Therapy (Needham)
DESCRIPTION:
URL:https://adaptivesportsne.org/event/adaptive-crossfit-aim-therapy-needham/2023-12-10/
LOCATION:Crossfit One Nation\, 10 Charles St\, Needham\, MA\, 02494
CATEGORIES:Other Para Sports
END:VEVENT
BEGIN:VEVENT
DTSTART;TZID=America/New_York:20231212T093000
DTEND;TZID=America/New_York:20231212T120000
DTSTAMP:20260424T191025
CREATED:20231026T142842Z
LAST-MODIFIED:20231026T142842Z
UID:10004429-1702373400-1702382400@adaptivesportsne.org
SUMMARY:Pickleball - NEP (Exeter\, NH)
DESCRIPTION:
URL:https://adaptivesportsne.org/event/pickleball-nep-exeter-nh/2023-12-12/
LOCATION:Exeter Area YMCA\, 56 Linden St\, Exeter\, NH\, 03833\, United States
CATEGORIES:Other Para Sports
ORGANIZER;CN="Northeast Passage":MAILTO:northeast.passage@unh.edu
GEO:42.9732683;-70.9595119
X-APPLE-STRUCTURED-LOCATION;VALUE=URI;X-ADDRESS=Exeter Area YMCA 56 Linden St Exeter NH 03833 United States;X-APPLE-RADIUS=500;X-TITLE=56 Linden St:geo:-70.9595119,42.9732683
END:VEVENT
BEGIN:VEVENT
DTSTART;TZID=America/New_York:20231215T130000
DTEND;TZID=America/New_York:20231215T150000
DTSTAMP:20260424T191025
CREATED:20231026T144039Z
LAST-MODIFIED:20231026T144039Z
UID:10004446-1702645200-1702652400@adaptivesportsne.org
SUMMARY:Indoor Archery - NEP (Rochester\, NH)
DESCRIPTION:
URL:https://adaptivesportsne.org/event/indoor-archery-nep-rochester-nh-2/2023-12-15/
LOCATION:Rochester\, NH\, Rochester\, NH\, United States
CATEGORIES:Other Para Sports
ORGANIZER;CN="Northeast Passage":MAILTO:northeast.passage@unh.edu
END:VEVENT
BEGIN:VEVENT
DTSTART;TZID=America/New_York:20231217T110000
DTEND;TZID=America/New_York:20231217T120000
DTSTAMP:20260424T191025
CREATED:20231101T165553Z
LAST-MODIFIED:20231101T165553Z
UID:10004459-1702810800-1702814400@adaptivesportsne.org
SUMMARY:Adaptive Crossfit - AIM Therapy (Needham)
DESCRIPTION:
URL:https://adaptivesportsne.org/event/adaptive-crossfit-aim-therapy-needham/2023-12-17/
LOCATION:Crossfit One Nation\, 10 Charles St\, Needham\, MA\, 02494
CATEGORIES:Other Para Sports
END:VEVENT
BEGIN:VEVENT
DTSTART;TZID=America/New_York:20231219T093000
DTEND;TZID=America/New_York:20231219T120000
DTSTAMP:20260424T191025
CREATED:20231026T142842Z
LAST-MODIFIED:20231026T142842Z
UID:10004430-1702978200-1702987200@adaptivesportsne.org
SUMMARY:Pickleball - NEP (Exeter\, NH)
DESCRIPTION:
URL:https://adaptivesportsne.org/event/pickleball-nep-exeter-nh/2023-12-19/
LOCATION:Exeter Area YMCA\, 56 Linden St\, Exeter\, NH\, 03833\, United States
CATEGORIES:Other Para Sports
ORGANIZER;CN="Northeast Passage":MAILTO:northeast.passage@unh.edu
GEO:42.9732683;-70.9595119
X-APPLE-STRUCTURED-LOCATION;VALUE=URI;X-ADDRESS=Exeter Area YMCA 56 Linden St Exeter NH 03833 United States;X-APPLE-RADIUS=500;X-TITLE=56 Linden St:geo:-70.9595119,42.9732683
END:VEVENT
END:VCALENDAR