BEGIN:VCALENDAR
VERSION:2.0
PRODID:-//Adaptive Sports New England - ECPv6.15.20//NONSGML v1.0//EN
CALSCALE:GREGORIAN
METHOD:PUBLISH
X-WR-CALNAME:Adaptive Sports New England
X-ORIGINAL-URL:https://adaptivesportsne.org
X-WR-CALDESC:Events for Adaptive Sports New England
REFRESH-INTERVAL;VALUE=DURATION:PT1H
X-Robots-Tag:noindex
X-PUBLISHED-TTL:PT1H
BEGIN:VTIMEZONE
TZID:America/New_York
BEGIN:DAYLIGHT
TZOFFSETFROM:-0500
TZOFFSETTO:-0400
TZNAME:EDT
DTSTART:20230312T070000
END:DAYLIGHT
BEGIN:STANDARD
TZOFFSETFROM:-0400
TZOFFSETTO:-0500
TZNAME:EST
DTSTART:20231105T060000
END:STANDARD
BEGIN:DAYLIGHT
TZOFFSETFROM:-0500
TZOFFSETTO:-0400
TZNAME:EDT
DTSTART:20240310T070000
END:DAYLIGHT
BEGIN:STANDARD
TZOFFSETFROM:-0400
TZOFFSETTO:-0500
TZNAME:EST
DTSTART:20241103T060000
END:STANDARD
BEGIN:DAYLIGHT
TZOFFSETFROM:-0500
TZOFFSETTO:-0400
TZNAME:EDT
DTSTART:20250309T070000
END:DAYLIGHT
BEGIN:STANDARD
TZOFFSETFROM:-0400
TZOFFSETTO:-0500
TZNAME:EST
DTSTART:20251102T060000
END:STANDARD
END:VTIMEZONE
BEGIN:VEVENT
DTSTART;TZID=America/New_York:20240202T130000
DTEND;TZID=America/New_York:20240202T150000
DTSTAMP:20260425T082044
CREATED:20231026T144039Z
LAST-MODIFIED:20231026T144039Z
UID:10004449-1706878800-1706886000@adaptivesportsne.org
SUMMARY:Indoor Archery - NEP (Rochester\, NH)
DESCRIPTION:
URL:https://adaptivesportsne.org/event/indoor-archery-nep-rochester-nh-2/2024-02-02/
LOCATION:Rochester\, NH\, Rochester\, NH\, United States
CATEGORIES:Other Para Sports
ORGANIZER;CN="Northeast Passage":MAILTO:northeast.passage@unh.edu
END:VEVENT
BEGIN:VEVENT
DTSTART;TZID=America/New_York:20240206T093000
DTEND;TZID=America/New_York:20240206T120000
DTSTAMP:20260425T082044
CREATED:20231026T142842Z
LAST-MODIFIED:20231026T142842Z
UID:10004436-1707211800-1707220800@adaptivesportsne.org
SUMMARY:Pickleball - NEP (Exeter\, NH)
DESCRIPTION:
URL:https://adaptivesportsne.org/event/pickleball-nep-exeter-nh/2024-02-06/
LOCATION:Exeter Area YMCA\, 56 Linden St\, Exeter\, NH\, 03833\, United States
CATEGORIES:Other Para Sports
ORGANIZER;CN="Northeast Passage":MAILTO:northeast.passage@unh.edu
GEO:42.9732683;-70.9595119
X-APPLE-STRUCTURED-LOCATION;VALUE=URI;X-ADDRESS=Exeter Area YMCA 56 Linden St Exeter NH 03833 United States;X-APPLE-RADIUS=500;X-TITLE=56 Linden St:geo:-70.9595119,42.9732683
END:VEVENT
BEGIN:VEVENT
DTSTART;TZID=America/New_York:20240211T130000
DTEND;TZID=America/New_York:20240211T170000
DTSTAMP:20260425T082044
CREATED:20231212T181403Z
LAST-MODIFIED:20231212T181403Z
UID:10004479-1707656400-1707670800@adaptivesportsne.org
SUMMARY:Parafencing - BFC (Brighton)
DESCRIPTION:
URL:https://adaptivesportsne.org/event/parafencing-bfc-brighton/2024-02-11/
LOCATION:Boston Fencing Club\, 100 Holton Street\, Brighton\, MA\, 02135\, United States
CATEGORIES:Other Para Sports
ORGANIZER;CN="Boston Fencing Club":MAILTO:info@bostonfencingclub.org
END:VEVENT
BEGIN:VEVENT
DTSTART;TZID=America/New_York:20240213T093000
DTEND;TZID=America/New_York:20240213T120000
DTSTAMP:20260425T082044
CREATED:20231026T142842Z
LAST-MODIFIED:20231026T142842Z
UID:10004437-1707816600-1707825600@adaptivesportsne.org
SUMMARY:Pickleball - NEP (Exeter\, NH)
DESCRIPTION:
URL:https://adaptivesportsne.org/event/pickleball-nep-exeter-nh/2024-02-13/
LOCATION:Exeter Area YMCA\, 56 Linden St\, Exeter\, NH\, 03833\, United States
CATEGORIES:Other Para Sports
ORGANIZER;CN="Northeast Passage":MAILTO:northeast.passage@unh.edu
GEO:42.9732683;-70.9595119
X-APPLE-STRUCTURED-LOCATION;VALUE=URI;X-ADDRESS=Exeter Area YMCA 56 Linden St Exeter NH 03833 United States;X-APPLE-RADIUS=500;X-TITLE=56 Linden St:geo:-70.9595119,42.9732683
END:VEVENT
BEGIN:VEVENT
DTSTART;TZID=America/New_York:20240216T130000
DTEND;TZID=America/New_York:20240216T150000
DTSTAMP:20260425T082044
CREATED:20231026T144039Z
LAST-MODIFIED:20231026T144039Z
UID:10004450-1708088400-1708095600@adaptivesportsne.org
SUMMARY:Indoor Archery - NEP (Rochester\, NH)
DESCRIPTION:
URL:https://adaptivesportsne.org/event/indoor-archery-nep-rochester-nh-2/2024-02-16/
LOCATION:Rochester\, NH\, Rochester\, NH\, United States
CATEGORIES:Other Para Sports
ORGANIZER;CN="Northeast Passage":MAILTO:northeast.passage@unh.edu
END:VEVENT
BEGIN:VEVENT
DTSTART;TZID=America/New_York:20240217T090000
DTEND;TZID=America/New_York:20240217T130000
DTSTAMP:20260425T082044
CREATED:20231215T152521Z
LAST-MODIFIED:20231215T152521Z
UID:10004590-1708160400-1708174800@adaptivesportsne.org
SUMMARY:Wheelchair Rugby - NEP (Durham)
DESCRIPTION:
URL:https://adaptivesportsne.org/event/wheelchair-rugby-nep-durham-2/
LOCATION:UNH Hamel Recreation Center\, Durham\, NH\, United States
CATEGORIES:Other Para Sports
ORGANIZER;CN="Northeast Passage":MAILTO:northeast.passage@unh.edu
END:VEVENT
BEGIN:VEVENT
DTSTART;TZID=America/New_York:20240220T093000
DTEND;TZID=America/New_York:20240220T120000
DTSTAMP:20260425T082044
CREATED:20231026T142842Z
LAST-MODIFIED:20231026T142842Z
UID:10004438-1708421400-1708430400@adaptivesportsne.org
SUMMARY:Pickleball - NEP (Exeter\, NH)
DESCRIPTION:
URL:https://adaptivesportsne.org/event/pickleball-nep-exeter-nh/2024-02-20/
LOCATION:Exeter Area YMCA\, 56 Linden St\, Exeter\, NH\, 03833\, United States
CATEGORIES:Other Para Sports
ORGANIZER;CN="Northeast Passage":MAILTO:northeast.passage@unh.edu
GEO:42.9732683;-70.9595119
X-APPLE-STRUCTURED-LOCATION;VALUE=URI;X-ADDRESS=Exeter Area YMCA 56 Linden St Exeter NH 03833 United States;X-APPLE-RADIUS=500;X-TITLE=56 Linden St:geo:-70.9595119,42.9732683
END:VEVENT
BEGIN:VEVENT
DTSTART;TZID=America/New_York:20240225T110000
DTEND;TZID=America/New_York:20240225T130000
DTSTAMP:20260425T082044
CREATED:20240206T165226Z
LAST-MODIFIED:20240206T165226Z
UID:10004596-1708858800-1708866000@adaptivesportsne.org
SUMMARY:Junior Wheelchair Tennis Clinic - SCWT (Hanover)
DESCRIPTION:
URL:https://adaptivesportsne.org/event/junior-wheelchair-tennis-clinic-scwt-hanover/2024-02-25/
LOCATION:South Shore YMCA Emilson\, 75 Mill St\, Hanover\, MA\, 02339\, United States
CATEGORIES:Other Para Sports
ORGANIZER;CN="South Coast Wheelchair Tennis Foundation":MAILTO:thomasd10@aol.com
END:VEVENT
BEGIN:VEVENT
DTSTART;TZID=America/New_York:20240225T130000
DTEND;TZID=America/New_York:20240225T170000
DTSTAMP:20260425T082044
CREATED:20231212T181403Z
LAST-MODIFIED:20231212T181403Z
UID:10004480-1708866000-1708880400@adaptivesportsne.org
SUMMARY:Parafencing - BFC (Brighton)
DESCRIPTION:
URL:https://adaptivesportsne.org/event/parafencing-bfc-brighton/2024-02-25/
LOCATION:Boston Fencing Club\, 100 Holton Street\, Brighton\, MA\, 02135\, United States
CATEGORIES:Other Para Sports
ORGANIZER;CN="Boston Fencing Club":MAILTO:info@bostonfencingclub.org
END:VEVENT
BEGIN:VEVENT
DTSTART;TZID=America/New_York:20240227T093000
DTEND;TZID=America/New_York:20240227T120000
DTSTAMP:20260425T082044
CREATED:20231026T142842Z
LAST-MODIFIED:20231026T142842Z
UID:10004439-1709026200-1709035200@adaptivesportsne.org
SUMMARY:Pickleball - NEP (Exeter\, NH)
DESCRIPTION:
URL:https://adaptivesportsne.org/event/pickleball-nep-exeter-nh/2024-02-27/
LOCATION:Exeter Area YMCA\, 56 Linden St\, Exeter\, NH\, 03833\, United States
CATEGORIES:Other Para Sports
ORGANIZER;CN="Northeast Passage":MAILTO:northeast.passage@unh.edu
GEO:42.9732683;-70.9595119
X-APPLE-STRUCTURED-LOCATION;VALUE=URI;X-ADDRESS=Exeter Area YMCA 56 Linden St Exeter NH 03833 United States;X-APPLE-RADIUS=500;X-TITLE=56 Linden St:geo:-70.9595119,42.9732683
END:VEVENT
END:VCALENDAR