BEGIN:VCALENDAR
VERSION:2.0
PRODID:-//Adaptive Sports New England - ECPv6.15.20//NONSGML v1.0//EN
CALSCALE:GREGORIAN
METHOD:PUBLISH
X-ORIGINAL-URL:https://adaptivesportsne.org
X-WR-CALDESC:Events for Adaptive Sports New England
REFRESH-INTERVAL;VALUE=DURATION:PT1H
X-Robots-Tag:noindex
X-PUBLISHED-TTL:PT1H
BEGIN:VTIMEZONE
TZID:America/New_York
BEGIN:DAYLIGHT
TZOFFSETFROM:-0500
TZOFFSETTO:-0400
TZNAME:EDT
DTSTART:20230312T070000
END:DAYLIGHT
BEGIN:STANDARD
TZOFFSETFROM:-0400
TZOFFSETTO:-0500
TZNAME:EST
DTSTART:20231105T060000
END:STANDARD
BEGIN:DAYLIGHT
TZOFFSETFROM:-0500
TZOFFSETTO:-0400
TZNAME:EDT
DTSTART:20240310T070000
END:DAYLIGHT
BEGIN:STANDARD
TZOFFSETFROM:-0400
TZOFFSETTO:-0500
TZNAME:EST
DTSTART:20241103T060000
END:STANDARD
BEGIN:DAYLIGHT
TZOFFSETFROM:-0500
TZOFFSETTO:-0400
TZNAME:EDT
DTSTART:20250309T070000
END:DAYLIGHT
BEGIN:STANDARD
TZOFFSETFROM:-0400
TZOFFSETTO:-0500
TZNAME:EST
DTSTART:20251102T060000
END:STANDARD
END:VTIMEZONE
BEGIN:VEVENT
DTSTART;TZID=America/New_York:20240414T110000
DTEND;TZID=America/New_York:20240414T130000
DTSTAMP:20260425T120558
CREATED:20240321T134943Z
LAST-MODIFIED:20240321T134943Z
UID:10004616-1713092400-1713099600@adaptivesportsne.org
SUMMARY:Junior Wheelchair Tennis Clinic - SCWT (Hanover)
DESCRIPTION:
URL:https://adaptivesportsne.org/event/junior-wheelchair-tennis-clinic-scwt-hanover-2/2024-04-14/
LOCATION:South Shore YMCA Emilson\, 75 Mill St\, Hanover\, MA\, 02339\, United States
CATEGORIES:Other Para Sports
ORGANIZER;CN="South Coast Wheelchair Tennis Foundation":MAILTO:thomasd10@aol.com
END:VEVENT
BEGIN:VEVENT
DTSTART;TZID=America/New_York:20240427T160000
DTEND;TZID=America/New_York:20240427T180000
DTSTAMP:20260425T120558
CREATED:20240319T190745Z
LAST-MODIFIED:20240319T190745Z
UID:10004613-1714233600-1714240800@adaptivesportsne.org
SUMMARY:Amputee Soccer Youth Clinic - NEAS (Lancaster)
DESCRIPTION:
URL:https://adaptivesportsne.org/event/amputee-soccer-youth-clinic-neas-lancaster/
LOCATION:SBLI Fields\, 512 Old Union TPKE\, Lancaster\, MA\, 01523
CATEGORIES:Other Para Sports
END:VEVENT
BEGIN:VEVENT
DTSTART;TZID=America/New_York:20240428T110000
DTEND;TZID=America/New_York:20240428T130000
DTSTAMP:20260425T120558
CREATED:20240206T165226Z
LAST-MODIFIED:20240206T165226Z
UID:10004598-1714302000-1714309200@adaptivesportsne.org
SUMMARY:Junior Wheelchair Tennis Clinic - SCWT (Hanover)
DESCRIPTION:
URL:https://adaptivesportsne.org/event/junior-wheelchair-tennis-clinic-scwt-hanover/2024-04-28/
LOCATION:South Shore YMCA Emilson\, 75 Mill St\, Hanover\, MA\, 02339\, United States
CATEGORIES:Other Para Sports
ORGANIZER;CN="South Coast Wheelchair Tennis Foundation":MAILTO:thomasd10@aol.com
END:VEVENT
BEGIN:VEVENT
DTSTART;TZID=America/New_York:20240428T140000
DTEND;TZID=America/New_York:20240428T153000
DTSTAMP:20260425T120558
CREATED:20240319T185929Z
LAST-MODIFIED:20240319T185929Z
UID:10004608-1714312800-1714318200@adaptivesportsne.org
SUMMARY:CP Soccer - CPSNE (Framingham)
DESCRIPTION:
URL:https://adaptivesportsne.org/event/cp-soccer-cpsne-framingham-4/2024-04-28/
LOCATION:Merchant Field\, 65 Merchant Rd\, Framingham\, MA\, 01702\, United States
CATEGORIES:Other Para Sports
ORGANIZER;CN="CP Soccer New England":MAILTO:newengland@cpsoccer.us
END:VEVENT
END:VCALENDAR