BEGIN:VCALENDAR
VERSION:2.0
PRODID:-//Adaptive Sports New England - ECPv6.15.20//NONSGML v1.0//EN
CALSCALE:GREGORIAN
METHOD:PUBLISH
X-ORIGINAL-URL:https://adaptivesportsne.org
X-WR-CALDESC:Events for Adaptive Sports New England
REFRESH-INTERVAL;VALUE=DURATION:PT1H
X-Robots-Tag:noindex
X-PUBLISHED-TTL:PT1H
BEGIN:VTIMEZONE
TZID:America/New_York
BEGIN:DAYLIGHT
TZOFFSETFROM:-0500
TZOFFSETTO:-0400
TZNAME:EDT
DTSTART:20230312T070000
END:DAYLIGHT
BEGIN:STANDARD
TZOFFSETFROM:-0400
TZOFFSETTO:-0500
TZNAME:EST
DTSTART:20231105T060000
END:STANDARD
BEGIN:DAYLIGHT
TZOFFSETFROM:-0500
TZOFFSETTO:-0400
TZNAME:EDT
DTSTART:20240310T070000
END:DAYLIGHT
BEGIN:STANDARD
TZOFFSETFROM:-0400
TZOFFSETTO:-0500
TZNAME:EST
DTSTART:20241103T060000
END:STANDARD
BEGIN:DAYLIGHT
TZOFFSETFROM:-0500
TZOFFSETTO:-0400
TZNAME:EDT
DTSTART:20250309T070000
END:DAYLIGHT
BEGIN:STANDARD
TZOFFSETFROM:-0400
TZOFFSETTO:-0500
TZNAME:EST
DTSTART:20251102T060000
END:STANDARD
END:VTIMEZONE
BEGIN:VEVENT
DTSTART;TZID=America/New_York:20240505T100000
DTEND;TZID=America/New_York:20240505T123000
DTSTAMP:20260425T220735
CREATED:20240508T154129Z
LAST-MODIFIED:20240508T154129Z
UID:10004660-1714903200-1714912200@adaptivesportsne.org
SUMMARY:Boston Strong Beep Baseball Practice - ASNE (Medford)
DESCRIPTION:
URL:https://adaptivesportsne.org/event/boston-strong-beep-baseball-practice-asne-medford-2/2024-05-05/
LOCATION:Fletcher Field\, 91 Professors Row\, Medford\, MA\, 02155\, United States
CATEGORIES:Other Para Sports
ORGANIZER;CN="Adaptive Sports New England":MAILTO:joe.walsh@adaptivesportsne.org
END:VEVENT
BEGIN:VEVENT
DTSTART;TZID=America/New_York:20240505T110000
DTEND;TZID=America/New_York:20240505T130000
DTSTAMP:20260425T220735
CREATED:20240321T134943Z
LAST-MODIFIED:20240321T134943Z
UID:10004617-1714906800-1714914000@adaptivesportsne.org
SUMMARY:Junior Wheelchair Tennis Clinic - SCWT (Hanover)
DESCRIPTION:
URL:https://adaptivesportsne.org/event/junior-wheelchair-tennis-clinic-scwt-hanover-2/2024-05-05/
LOCATION:South Shore YMCA Emilson\, 75 Mill St\, Hanover\, MA\, 02339\, United States
CATEGORIES:Other Para Sports
ORGANIZER;CN="South Coast Wheelchair Tennis Foundation":MAILTO:thomasd10@aol.com
END:VEVENT
BEGIN:VEVENT
DTSTART;TZID=America/New_York:20240505T150000
DTEND;TZID=America/New_York:20240505T163000
DTSTAMP:20260425T220735
CREATED:20240319T190319Z
LAST-MODIFIED:20240319T190319Z
UID:10004612-1714921200-1714926600@adaptivesportsne.org
SUMMARY:CP Soccer Clinic - CPSNE (Foxborough)
DESCRIPTION:
URL:https://adaptivesportsne.org/event/cp-soccer-clinic-cpsne-foxborough/
LOCATION:WIN Waste Field House\, Patriot Place\, Foxborough\, MA\, 02035\, United States
CATEGORIES:Other Para Sports
ORGANIZER;CN="CP Soccer New England":MAILTO:newengland@cpsoccer.us
END:VEVENT
BEGIN:VEVENT
DTSTART;TZID=America/New_York:20240512T100000
DTEND;TZID=America/New_York:20240512T123000
DTSTAMP:20260425T220735
CREATED:20240508T154129Z
LAST-MODIFIED:20240508T154129Z
UID:10004661-1715508000-1715517000@adaptivesportsne.org
SUMMARY:Boston Strong Beep Baseball Practice - ASNE (Medford)
DESCRIPTION:
URL:https://adaptivesportsne.org/event/boston-strong-beep-baseball-practice-asne-medford-2/2024-05-12/
LOCATION:Fletcher Field\, 91 Professors Row\, Medford\, MA\, 02155\, United States
CATEGORIES:Other Para Sports
ORGANIZER;CN="Adaptive Sports New England":MAILTO:joe.walsh@adaptivesportsne.org
END:VEVENT
BEGIN:VEVENT
DTSTART;TZID=America/New_York:20240512T140000
DTEND;TZID=America/New_York:20240512T153000
DTSTAMP:20260425T220735
CREATED:20240319T185929Z
LAST-MODIFIED:20240319T185929Z
UID:10004609-1715522400-1715527800@adaptivesportsne.org
SUMMARY:CP Soccer - CPSNE (Framingham)
DESCRIPTION:
URL:https://adaptivesportsne.org/event/cp-soccer-cpsne-framingham-4/2024-05-12/
LOCATION:Merchant Field\, 65 Merchant Rd\, Framingham\, MA\, 01702\, United States
CATEGORIES:Other Para Sports
ORGANIZER;CN="CP Soccer New England":MAILTO:newengland@cpsoccer.us
END:VEVENT
BEGIN:VEVENT
DTSTART;TZID=America/New_York:20240516T180000
DTEND;TZID=America/New_York:20240516T200000
DTSTAMP:20260425T220735
CREATED:20240509T134745Z
LAST-MODIFIED:20240509T134745Z
UID:10004671-1715882400-1715889600@adaptivesportsne.org
SUMMARY:Wheelchair Lacrosse - NEP (Rochester\, NH)
DESCRIPTION:
URL:https://adaptivesportsne.org/event/wheelchair-lacrosse-nep-rochester-nh-4/2024-05-16/
LOCATION:Rochester\, NH\, Rochester\, NH\, United States
CATEGORIES:Other Para Sports
ORGANIZER;CN="Northeast Passage":MAILTO:northeast.passage@unh.edu
END:VEVENT
BEGIN:VEVENT
DTSTART;TZID=America/New_York:20240519T100000
DTEND;TZID=America/New_York:20240519T123000
DTSTAMP:20260425T220735
CREATED:20240508T154129Z
LAST-MODIFIED:20240508T154129Z
UID:10004662-1716112800-1716121800@adaptivesportsne.org
SUMMARY:Boston Strong Beep Baseball Practice - ASNE (Medford)
DESCRIPTION:
URL:https://adaptivesportsne.org/event/boston-strong-beep-baseball-practice-asne-medford-2/2024-05-19/
LOCATION:Fletcher Field\, 91 Professors Row\, Medford\, MA\, 02155\, United States
CATEGORIES:Other Para Sports
ORGANIZER;CN="Adaptive Sports New England":MAILTO:joe.walsh@adaptivesportsne.org
END:VEVENT
BEGIN:VEVENT
DTSTART;TZID=America/New_York:20240519T140000
DTEND;TZID=America/New_York:20240519T153000
DTSTAMP:20260425T220735
CREATED:20240319T185929Z
LAST-MODIFIED:20240319T185929Z
UID:10004610-1716127200-1716132600@adaptivesportsne.org
SUMMARY:CP Soccer - CPSNE (Framingham)
DESCRIPTION:
URL:https://adaptivesportsne.org/event/cp-soccer-cpsne-framingham-4/2024-05-19/
LOCATION:Merchant Field\, 65 Merchant Rd\, Framingham\, MA\, 01702\, United States
CATEGORIES:Other Para Sports
ORGANIZER;CN="CP Soccer New England":MAILTO:newengland@cpsoccer.us
END:VEVENT
BEGIN:VEVENT
DTSTART;TZID=America/New_York:20240523T180000
DTEND;TZID=America/New_York:20240523T200000
DTSTAMP:20260425T220735
CREATED:20240509T134745Z
LAST-MODIFIED:20240509T134745Z
UID:10004672-1716487200-1716494400@adaptivesportsne.org
SUMMARY:Wheelchair Lacrosse - NEP (Rochester\, NH)
DESCRIPTION:
URL:https://adaptivesportsne.org/event/wheelchair-lacrosse-nep-rochester-nh-4/2024-05-23/
LOCATION:Rochester\, NH\, Rochester\, NH\, United States
CATEGORIES:Other Para Sports
ORGANIZER;CN="Northeast Passage":MAILTO:northeast.passage@unh.edu
END:VEVENT
BEGIN:VEVENT
DTSTART;TZID=America/New_York:20240526T100000
DTEND;TZID=America/New_York:20240526T123000
DTSTAMP:20260425T220735
CREATED:20240508T154129Z
LAST-MODIFIED:20240508T154129Z
UID:10004663-1716717600-1716726600@adaptivesportsne.org
SUMMARY:Boston Strong Beep Baseball Practice - ASNE (Medford)
DESCRIPTION:
URL:https://adaptivesportsne.org/event/boston-strong-beep-baseball-practice-asne-medford-2/2024-05-26/
LOCATION:Fletcher Field\, 91 Professors Row\, Medford\, MA\, 02155\, United States
CATEGORIES:Other Para Sports
ORGANIZER;CN="Adaptive Sports New England":MAILTO:joe.walsh@adaptivesportsne.org
END:VEVENT
BEGIN:VEVENT
DTSTART;TZID=America/New_York:20240530T180000
DTEND;TZID=America/New_York:20240530T200000
DTSTAMP:20260425T220735
CREATED:20240509T134745Z
LAST-MODIFIED:20240509T134745Z
UID:10004673-1717092000-1717099200@adaptivesportsne.org
SUMMARY:Wheelchair Lacrosse - NEP (Rochester\, NH)
DESCRIPTION:
URL:https://adaptivesportsne.org/event/wheelchair-lacrosse-nep-rochester-nh-4/2024-05-30/
LOCATION:Rochester\, NH\, Rochester\, NH\, United States
CATEGORIES:Other Para Sports
ORGANIZER;CN="Northeast Passage":MAILTO:northeast.passage@unh.edu
END:VEVENT
END:VCALENDAR