BEGIN:VCALENDAR
VERSION:2.0
PRODID:-//Adaptive Sports New England - ECPv6.15.20//NONSGML v1.0//EN
CALSCALE:GREGORIAN
METHOD:PUBLISH
X-ORIGINAL-URL:https://adaptivesportsne.org
X-WR-CALDESC:Events for Adaptive Sports New England
REFRESH-INTERVAL;VALUE=DURATION:PT1H
X-Robots-Tag:noindex
X-PUBLISHED-TTL:PT1H
BEGIN:VTIMEZONE
TZID:America/Halifax
BEGIN:DAYLIGHT
TZOFFSETFROM:-0400
TZOFFSETTO:-0300
TZNAME:ADT
DTSTART:20200308T060000
END:DAYLIGHT
BEGIN:STANDARD
TZOFFSETFROM:-0300
TZOFFSETTO:-0400
TZNAME:AST
DTSTART:20201101T050000
END:STANDARD
BEGIN:DAYLIGHT
TZOFFSETFROM:-0400
TZOFFSETTO:-0300
TZNAME:ADT
DTSTART:20210314T060000
END:DAYLIGHT
BEGIN:STANDARD
TZOFFSETFROM:-0300
TZOFFSETTO:-0400
TZNAME:AST
DTSTART:20211107T050000
END:STANDARD
BEGIN:DAYLIGHT
TZOFFSETFROM:-0400
TZOFFSETTO:-0300
TZNAME:ADT
DTSTART:20220313T060000
END:DAYLIGHT
BEGIN:STANDARD
TZOFFSETFROM:-0300
TZOFFSETTO:-0400
TZNAME:AST
DTSTART:20221106T050000
END:STANDARD
END:VTIMEZONE
BEGIN:VEVENT
DTSTART;TZID=America/Halifax:20210728T153000
DTEND;TZID=America/Halifax:20210728T173000
DTSTAMP:20260422T182207
CREATED:20210708T105040Z
LAST-MODIFIED:20210708T105040Z
UID:10001792-1627486200-1627493400@adaptivesportsne.org
SUMMARY:Sailing - CBI (Boston)
DESCRIPTION:For youth who have a visual or mobility impairment
URL:https://adaptivesportsne.org/event/sailing-cbi-boston/2021-07-28/
LOCATION:Community Boating\, 21 David Mugar Way\, Boston\, MA\, 02114\, United States
CATEGORIES:Other Para Sports
ORGANIZER;CN="Adaptive Sports New England":MAILTO:joe.walsh@adaptivesportsne.org
GEO:42.3598546;-71.073094
X-APPLE-STRUCTURED-LOCATION;VALUE=URI;X-ADDRESS=Community Boating 21 David Mugar Way Boston MA 02114 United States;X-APPLE-RADIUS=500;X-TITLE=21 David Mugar Way:geo:-71.073094,42.3598546
END:VEVENT
BEGIN:VEVENT
DTSTART;TZID=America/Halifax:20210728T170000
DTEND;TZID=America/Halifax:20210728T193000
DTSTAMP:20260422T182207
CREATED:20210529T115331Z
LAST-MODIFIED:20210529T115331Z
UID:10003675-1627491600-1627500600@adaptivesportsne.org
SUMMARY:Golf - NEP (Windham NH)
DESCRIPTION:Some sessions all abilities and others are advanced only.  Check with NEP.
URL:https://adaptivesportsne.org/event/golf-nep-windham-nh/2021-07-28/
LOCATION:Windham Country Club\, Windham\, MA\, United States
CATEGORIES:Other Para Sports
ORGANIZER;CN="Northeast Passage":MAILTO:northeast.passage@unh.edu
GEO:42.604261;-70.8911612
END:VEVENT
END:VCALENDAR